BEGIN:VCALENDAR
VERSION:2.0
PRODID:-//AFLabs urnik izvoz - fmf//aflabs.si//SI
DTSTAMP:20260422T220714Z
NAME:UL FMF urnik
REFRESH-INTERVAL:PT1H
SOURCE:https://urnik.fmf.uni-lj.si/teacher/3?day=2020-06-15&export=1
URL:https://urnik.fmf.uni-lj.si/teacher/3?day=2020-06-15&export=1
X-PUBLISHED-TTL:PT1H
X-WR-CALNAME:UL FMF urnik
X-WR-TIMEZONE:Europe/Ljubljana
BEGIN:VTIMEZONE
TZID:Europe/Ljubljana
BEGIN:DAYLIGHT
DTSTART:20260329T020000
RDATE:20260329T020000
RDATE:20270328T020000
TZNAME:CEST
TZOFFSETFROM:+0100
TZOFFSETTO:+0200
END:DAYLIGHT
BEGIN:STANDARD
DTSTART:20261025T030000
RDATE:20261025T030000
RDATE:20271031T030000
TZNAME:CET
TZOFFSETFROM:+0200
TZOFFSETTO:+0100
END:STANDARD
END:VTIMEZONE
BEGIN:VEVENT
SUMMARY:Matematika 1 (APF-1\, APM-1)\, Predavanja (P)
DTSTART;TZID=Europe/Ljubljana:20200512T080000
DTEND;TZID=Europe/Ljubljana:20200512T100000
DTSTAMP:20260422T220714Z
UID:fmf-AFLABS-URNIK:premaknjeno-srecanje:62289
ATTENDEE:1. letnik (APM)
ATTENDEE:1. letnik (Aplikativna fizika)
CATEGORIES:Entry,Standard
COLOR:darkgreen
DESCRIPTION:Predmet: Matematika 1 (APF-1\, APM-1)\, Predavanja (P)\nLetnik
 i: 1. letnik (Aplikativna fizika)\, 1. letnik (APM)\nIzvajalci: Pavle Saks
 ida\nProstor: 2.02
LOCATION:2.02
ORGANIZER:Pavle Saksida
RELATED-TO:fmf-AFLABS-URNIK:srecanje:4254
X-WR-TIMEZONE:Europe/Ljubljana
END:VEVENT
BEGIN:VEVENT
SUMMARY:Matematika 1 (APF-1\, APM-1)\, Predavanja (P)
DTSTART;TZID=Europe/Ljubljana:20200519T080000
DTEND;TZID=Europe/Ljubljana:20200519T100000
DTSTAMP:20260422T220714Z
UID:fmf-AFLABS-URNIK:premaknjeno-srecanje:62290
ATTENDEE:1. letnik (APM)
ATTENDEE:1. letnik (Aplikativna fizika)
CATEGORIES:Entry,Standard
COLOR:darkgreen
DESCRIPTION:Predmet: Matematika 1 (APF-1\, APM-1)\, Predavanja (P)\nLetnik
 i: 1. letnik (Aplikativna fizika)\, 1. letnik (APM)\nIzvajalci: Pavle Saks
 ida\nProstor: 2.02
LOCATION:2.02
ORGANIZER:Pavle Saksida
RELATED-TO:fmf-AFLABS-URNIK:srecanje:4254
X-WR-TIMEZONE:Europe/Ljubljana
END:VEVENT
BEGIN:VEVENT
SUMMARY:Matematika 1 (APF-1\, APM-1)\, Predavanja (P)
DTSTART;TZID=Europe/Ljubljana:20200526T080000
DTEND;TZID=Europe/Ljubljana:20200526T100000
DTSTAMP:20260422T220714Z
UID:fmf-AFLABS-URNIK:premaknjeno-srecanje:62291
ATTENDEE:1. letnik (APM)
ATTENDEE:1. letnik (Aplikativna fizika)
CATEGORIES:Entry,Standard
COLOR:darkgreen
DESCRIPTION:Predmet: Matematika 1 (APF-1\, APM-1)\, Predavanja (P)\nLetnik
 i: 1. letnik (Aplikativna fizika)\, 1. letnik (APM)\nIzvajalci: Pavle Saks
 ida\nProstor: 2.02
LOCATION:2.02
ORGANIZER:Pavle Saksida
RELATED-TO:fmf-AFLABS-URNIK:srecanje:4254
X-WR-TIMEZONE:Europe/Ljubljana
END:VEVENT
BEGIN:VEVENT
SUMMARY:Analiza 4 (MAT-3)\, Predavanja (P)
DTSTART;TZID=Europe/Ljubljana:20200513T100000
DTEND;TZID=Europe/Ljubljana:20200513T120000
DTSTAMP:20260422T220714Z
UID:fmf-AFLABS-URNIK:premaknjeno-srecanje:9063
ATTENDEE:3. letnik (M)
CATEGORIES:Entry,Standard
COLOR:darkgreen
DESCRIPTION:Predmet: Analiza 4 (MAT-3)\, Predavanja (P)\nLetniki: 3. letni
 k (M)\nIzvajalci: Pavle Saksida\nProstor: P.02
LOCATION:P.02
ORGANIZER:Pavle Saksida
RELATED-TO:fmf-AFLABS-URNIK:srecanje:4012
X-WR-TIMEZONE:Europe/Ljubljana
END:VEVENT
BEGIN:VEVENT
SUMMARY:Analiza 4 (MAT-3)\, Predavanja (P)
DTSTART;TZID=Europe/Ljubljana:20200520T100000
DTEND;TZID=Europe/Ljubljana:20200520T120000
DTSTAMP:20260422T220714Z
UID:fmf-AFLABS-URNIK:premaknjeno-srecanje:9064
ATTENDEE:3. letnik (M)
CATEGORIES:Entry,Standard
COLOR:darkgreen
DESCRIPTION:Predmet: Analiza 4 (MAT-3)\, Predavanja (P)\nLetniki: 3. letni
 k (M)\nIzvajalci: Pavle Saksida\nProstor: P.02
LOCATION:P.02
ORGANIZER:Pavle Saksida
RELATED-TO:fmf-AFLABS-URNIK:srecanje:4012
X-WR-TIMEZONE:Europe/Ljubljana
END:VEVENT
BEGIN:VEVENT
SUMMARY:Analiza 4 (MAT-3)\, Predavanja (P)
DTSTART;TZID=Europe/Ljubljana:20200527T100000
DTEND;TZID=Europe/Ljubljana:20200527T120000
DTSTAMP:20260422T220714Z
UID:fmf-AFLABS-URNIK:premaknjeno-srecanje:9065
ATTENDEE:3. letnik (M)
CATEGORIES:Entry,Standard
COLOR:darkgreen
DESCRIPTION:Predmet: Analiza 4 (MAT-3)\, Predavanja (P)\nLetniki: 3. letni
 k (M)\nIzvajalci: Pavle Saksida\nProstor: P.02
LOCATION:P.02
ORGANIZER:Pavle Saksida
RELATED-TO:fmf-AFLABS-URNIK:srecanje:4012
X-WR-TIMEZONE:Europe/Ljubljana
END:VEVENT
BEGIN:VEVENT
SUMMARY:Analiza 4 (MAT-3)\, Predavanja (P)
DTSTART;TZID=Europe/Ljubljana:20200513T140000
DTEND;TZID=Europe/Ljubljana:20200513T150000
DTSTAMP:20260422T220714Z
UID:fmf-AFLABS-URNIK:premaknjeno-srecanje:9216
ATTENDEE:3. letnik (M)
CATEGORIES:Entry,Standard
COLOR:darkgreen
DESCRIPTION:Predmet: Analiza 4 (MAT-3)\, Predavanja (P)\nLetniki: 3. letni
 k (M)\nIzvajalci: Pavle Saksida\nProstor: 2.03
LOCATION:2.03
ORGANIZER:Pavle Saksida
RELATED-TO:fmf-AFLABS-URNIK:srecanje:4013
X-WR-TIMEZONE:Europe/Ljubljana
END:VEVENT
BEGIN:VEVENT
SUMMARY:Analiza 4 (MAT-3)\, Predavanja (P)
DTSTART;TZID=Europe/Ljubljana:20200520T140000
DTEND;TZID=Europe/Ljubljana:20200520T150000
DTSTAMP:20260422T220714Z
UID:fmf-AFLABS-URNIK:premaknjeno-srecanje:9217
ATTENDEE:3. letnik (M)
CATEGORIES:Entry,Standard
COLOR:darkgreen
DESCRIPTION:Predmet: Analiza 4 (MAT-3)\, Predavanja (P)\nLetniki: 3. letni
 k (M)\nIzvajalci: Pavle Saksida\nProstor: 2.03
LOCATION:2.03
ORGANIZER:Pavle Saksida
RELATED-TO:fmf-AFLABS-URNIK:srecanje:4013
X-WR-TIMEZONE:Europe/Ljubljana
END:VEVENT
BEGIN:VEVENT
SUMMARY:Analiza 4 (MAT-3)\, Predavanja (P)
DTSTART;TZID=Europe/Ljubljana:20200527T140000
DTEND;TZID=Europe/Ljubljana:20200527T150000
DTSTAMP:20260422T220714Z
UID:fmf-AFLABS-URNIK:premaknjeno-srecanje:9218
ATTENDEE:3. letnik (M)
CATEGORIES:Entry,Standard
COLOR:darkgreen
DESCRIPTION:Predmet: Analiza 4 (MAT-3)\, Predavanja (P)\nLetniki: 3. letni
 k (M)\nIzvajalci: Pavle Saksida\nProstor: 2.03
LOCATION:2.03
ORGANIZER:Pavle Saksida
RELATED-TO:fmf-AFLABS-URNIK:srecanje:4013
X-WR-TIMEZONE:Europe/Ljubljana
END:VEVENT
BEGIN:VEVENT
SUMMARY:Govorilna ura ()\, Predavanja (P)
DTSTART;TZID=Europe/Ljubljana:20200513T130000
DTEND;TZID=Europe/Ljubljana:20200513T140000
DTSTAMP:20260422T220714Z
UID:fmf-AFLABS-URNIK:premaknjeno-srecanje:41189
CATEGORIES:Entry,Standard
COLOR:darkgreen
DESCRIPTION:Predmet: Govorilna ura ()\, Predavanja (P)\nLetniki: \nIzvajal
 ci: Pavle Saksida\nProstor: X
LOCATION:X
ORGANIZER:Pavle Saksida
RELATED-TO:fmf-AFLABS-URNIK:srecanje:4156
X-WR-TIMEZONE:Europe/Ljubljana
END:VEVENT
BEGIN:VEVENT
SUMMARY:Govorilna ura ()\, Predavanja (P)
DTSTART;TZID=Europe/Ljubljana:20200520T130000
DTEND;TZID=Europe/Ljubljana:20200520T140000
DTSTAMP:20260422T220714Z
UID:fmf-AFLABS-URNIK:premaknjeno-srecanje:41190
CATEGORIES:Entry,Standard
COLOR:darkgreen
DESCRIPTION:Predmet: Govorilna ura ()\, Predavanja (P)\nLetniki: \nIzvajal
 ci: Pavle Saksida\nProstor: X
LOCATION:X
ORGANIZER:Pavle Saksida
RELATED-TO:fmf-AFLABS-URNIK:srecanje:4156
X-WR-TIMEZONE:Europe/Ljubljana
END:VEVENT
BEGIN:VEVENT
SUMMARY:Govorilna ura ()\, Predavanja (P)
DTSTART;TZID=Europe/Ljubljana:20200527T130000
DTEND;TZID=Europe/Ljubljana:20200527T140000
DTSTAMP:20260422T220714Z
UID:fmf-AFLABS-URNIK:premaknjeno-srecanje:41191
CATEGORIES:Entry,Standard
COLOR:darkgreen
DESCRIPTION:Predmet: Govorilna ura ()\, Predavanja (P)\nLetniki: \nIzvajal
 ci: Pavle Saksida\nProstor: X
LOCATION:X
ORGANIZER:Pavle Saksida
RELATED-TO:fmf-AFLABS-URNIK:srecanje:4156
X-WR-TIMEZONE:Europe/Ljubljana
END:VEVENT
BEGIN:VEVENT
SUMMARY:Matematika 1 (APF-1\, APM-1)\, Predavanja (P)
DTSTART;TZID=Europe/Ljubljana:20200515T080000
DTEND;TZID=Europe/Ljubljana:20200515T100000
DTSTAMP:20260422T220714Z
UID:fmf-AFLABS-URNIK:premaknjeno-srecanje:62382
ATTENDEE:1. letnik (APM)
ATTENDEE:1. letnik (Aplikativna fizika)
CATEGORIES:Entry,Standard
COLOR:darkgreen
DESCRIPTION:Predmet: Matematika 1 (APF-1\, APM-1)\, Predavanja (P)\nLetnik
 i: 1. letnik (Aplikativna fizika)\, 1. letnik (APM)\nIzvajalci: Pavle Saks
 ida\nProstor: 2.02
LOCATION:2.02
ORGANIZER:Pavle Saksida
RELATED-TO:fmf-AFLABS-URNIK:srecanje:4253
X-WR-TIMEZONE:Europe/Ljubljana
END:VEVENT
BEGIN:VEVENT
SUMMARY:Matematika 1 (APF-1\, APM-1)\, Predavanja (P)
DTSTART;TZID=Europe/Ljubljana:20200522T080000
DTEND;TZID=Europe/Ljubljana:20200522T100000
DTSTAMP:20260422T220714Z
UID:fmf-AFLABS-URNIK:premaknjeno-srecanje:62383
ATTENDEE:1. letnik (APM)
ATTENDEE:1. letnik (Aplikativna fizika)
CATEGORIES:Entry,Standard
COLOR:darkgreen
DESCRIPTION:Predmet: Matematika 1 (APF-1\, APM-1)\, Predavanja (P)\nLetnik
 i: 1. letnik (Aplikativna fizika)\, 1. letnik (APM)\nIzvajalci: Pavle Saks
 ida\nProstor: 2.02
LOCATION:2.02
ORGANIZER:Pavle Saksida
RELATED-TO:fmf-AFLABS-URNIK:srecanje:4253
X-WR-TIMEZONE:Europe/Ljubljana
END:VEVENT
BEGIN:VEVENT
SUMMARY:Matematika 1 (APF-1\, APM-1)\, Predavanja (P)
DTSTART;TZID=Europe/Ljubljana:20200529T080000
DTEND;TZID=Europe/Ljubljana:20200529T100000
DTSTAMP:20260422T220714Z
UID:fmf-AFLABS-URNIK:premaknjeno-srecanje:62384
ATTENDEE:1. letnik (APM)
ATTENDEE:1. letnik (Aplikativna fizika)
CATEGORIES:Entry,Standard
COLOR:darkgreen
DESCRIPTION:Predmet: Matematika 1 (APF-1\, APM-1)\, Predavanja (P)\nLetnik
 i: 1. letnik (Aplikativna fizika)\, 1. letnik (APM)\nIzvajalci: Pavle Saks
 ida\nProstor: 2.02
LOCATION:2.02
ORGANIZER:Pavle Saksida
RELATED-TO:fmf-AFLABS-URNIK:srecanje:4253
X-WR-TIMEZONE:Europe/Ljubljana
END:VEVENT
BEGIN:VEVENT
SUMMARY:Rezervacija
DTSTART;TZID=Europe/Ljubljana:20200525T160000
DTEND;TZID=Europe/Ljubljana:20200525T180000
DTSTAMP:20260422T220714Z
UID:fmf-AFLABS-URNIK:rezervacija:5362
CATEGORIES:Reservation
COLOR:royalblue
DESCRIPTION:Predmeti: \nLetniki: \nIzvajalci: Gregor Cigler\, Pavle Saksid
 a\nProstori: 2.01\, 3.04
LOCATION:2.01\, 3.04
ORGANIZER:Gregor Cigler, Pavle Saksida
X-WR-TIMEZONE:Europe/Ljubljana
END:VEVENT
BEGIN:VEVENT
SUMMARY:Rezervacija
DTSTART;TZID=Europe/Ljubljana:20200528T040000
DTEND;TZID=Europe/Ljubljana:20200528T070000
DTSTAMP:20260422T220714Z
UID:fmf-AFLABS-URNIK:rezervacija:5371
CATEGORIES:Reservation
COLOR:royalblue
DESCRIPTION:Predmeti: \nLetniki: \nIzvajalci: Lucijan Plevnik\, Pavle Saks
 ida\nProstori: 2.05
LOCATION:2.05
ORGANIZER:Lucijan Plevnik, Pavle Saksida
X-WR-TIMEZONE:Europe/Ljubljana
END:VEVENT
BEGIN:VEVENT
SUMMARY:Rezervacija
DTSTART;TZID=Europe/Ljubljana:20200610T100000
DTEND;TZID=Europe/Ljubljana:20200610T120000
DTSTAMP:20260422T220714Z
UID:fmf-AFLABS-URNIK:rezervacija:5458
CATEGORIES:Reservation
COLOR:royalblue
DESCRIPTION:Predmeti: \nLetniki: \nIzvajalci: Gregor Cigler\, Pavle Saksid
 a\nProstori: 2.02
LOCATION:2.02
ORGANIZER:Gregor Cigler, Pavle Saksida
X-WR-TIMEZONE:Europe/Ljubljana
END:VEVENT
BEGIN:VEVENT
SUMMARY:Rezervacija
DTSTART;TZID=Europe/Ljubljana:20200611T100000
DTEND;TZID=Europe/Ljubljana:20200611T120000
DTSTAMP:20260422T220714Z
UID:fmf-AFLABS-URNIK:rezervacija:5472
CATEGORIES:Reservation
COLOR:royalblue
DESCRIPTION:Predmeti: \nLetniki: \nIzvajalci: Blaž Jelenc\, Pavle Saksida
 \nProstori: 2.04
LOCATION:2.04
ORGANIZER:Blaž Jelenc, Pavle Saksida
X-WR-TIMEZONE:Europe/Ljubljana
END:VEVENT
BEGIN:VEVENT
SUMMARY:Rezervacija
DTSTART;TZID=Europe/Ljubljana:20200622T120000
DTEND;TZID=Europe/Ljubljana:20200622T140000
DTSTAMP:20260422T220714Z
UID:fmf-AFLABS-URNIK:rezervacija:5614
CATEGORIES:Reservation
COLOR:royalblue
DESCRIPTION:Predmeti: \nLetniki: \nIzvajalci: Lucijan Plevnik\, Pavle Saks
 ida\nProstori: 3.04
LOCATION:3.04
ORGANIZER:Lucijan Plevnik, Pavle Saksida
X-WR-TIMEZONE:Europe/Ljubljana
END:VEVENT
END:VCALENDAR
