BEGIN:VCALENDAR
VERSION:2.0
PRODID:-//AFLabs urnik izvoz - fmf//aflabs.si//SI
DTSTAMP:20260423T010004Z
NAME:UL FMF urnik
REFRESH-INTERVAL:PT1H
SOURCE:https://urnik.fmf.uni-lj.si/teacher/3?day=2020-12-14&export=1
URL:https://urnik.fmf.uni-lj.si/teacher/3?day=2020-12-14&export=1
X-PUBLISHED-TTL:PT1H
X-WR-CALNAME:UL FMF urnik
X-WR-TIMEZONE:Europe/Ljubljana
BEGIN:VTIMEZONE
TZID:Europe/Ljubljana
BEGIN:DAYLIGHT
DTSTART:20260329T020000
RDATE:20260329T020000
RDATE:20270328T020000
TZNAME:CEST
TZOFFSETFROM:+0100
TZOFFSETTO:+0200
END:DAYLIGHT
BEGIN:STANDARD
DTSTART:20261025T030000
RDATE:20261025T030000
RDATE:20271031T030000
TZNAME:CET
TZOFFSETFROM:+0200
TZOFFSETTO:+0100
END:STANDARD
END:VTIMEZONE
BEGIN:VEVENT
SUMMARY:Matematika I (APF-1\, APM-1)\, Predavanja (P)
DTSTART;TZID=Europe/Ljubljana:20201002T090000
DTEND;TZID=Europe/Ljubljana:20201002T110000
DTSTAMP:20260423T010004Z
UID:fmf-AFLABS-URNIK:premaknjeno-srecanje:64271
ATTENDEE:1. letnik (APM)
ATTENDEE:1. letnik (Aplikativna fizika)
CATEGORIES:Entry,Standard
COLOR:darkgreen
DESCRIPTION:Predmet: Matematika I (APF-1\, APM-1)\, Predavanja (P)\nLetnik
 i: 1. letnik (Aplikativna fizika)\, 1. letnik (APM)\nIzvajalci: Pavle Saks
 ida\nProstor: 2.01
LOCATION:2.01
ORGANIZER:Pavle Saksida
RELATED-TO:fmf-AFLABS-URNIK:srecanje:4977
X-WR-TIMEZONE:Europe/Ljubljana
END:VEVENT
BEGIN:VEVENT
SUMMARY:Matematika I (APF-1\, APM-1)\, Predavanja (P)
DTSTART;TZID=Europe/Ljubljana:20201009T090000
DTEND;TZID=Europe/Ljubljana:20201009T110000
DTSTAMP:20260423T010004Z
UID:fmf-AFLABS-URNIK:premaknjeno-srecanje:64272
ATTENDEE:1. letnik (APM)
ATTENDEE:1. letnik (Aplikativna fizika)
CATEGORIES:Entry,Standard
COLOR:darkgreen
DESCRIPTION:Predmet: Matematika I (APF-1\, APM-1)\, Predavanja (P)\nLetnik
 i: 1. letnik (Aplikativna fizika)\, 1. letnik (APM)\nIzvajalci: Pavle Saks
 ida\nProstor: 2.01
LOCATION:2.01
ORGANIZER:Pavle Saksida
RELATED-TO:fmf-AFLABS-URNIK:srecanje:4977
X-WR-TIMEZONE:Europe/Ljubljana
END:VEVENT
BEGIN:VEVENT
SUMMARY:Matematika I (APF-1\, APM-1)\, Predavanja (P)
DTSTART;TZID=Europe/Ljubljana:20201016T090000
DTEND;TZID=Europe/Ljubljana:20201016T110000
DTSTAMP:20260423T010004Z
UID:fmf-AFLABS-URNIK:premaknjeno-srecanje:64273
ATTENDEE:1. letnik (APM)
ATTENDEE:1. letnik (Aplikativna fizika)
CATEGORIES:Entry,Standard
COLOR:darkgreen
DESCRIPTION:Predmet: Matematika I (APF-1\, APM-1)\, Predavanja (P)\nLetnik
 i: 1. letnik (Aplikativna fizika)\, 1. letnik (APM)\nIzvajalci: Pavle Saks
 ida\nProstor: 2.01
LOCATION:2.01
ORGANIZER:Pavle Saksida
RELATED-TO:fmf-AFLABS-URNIK:srecanje:4977
X-WR-TIMEZONE:Europe/Ljubljana
END:VEVENT
BEGIN:VEVENT
SUMMARY:Matematika I (APF-1\, APM-1)\, Predavanja (P)
DTSTART;TZID=Europe/Ljubljana:20201023T090000
DTEND;TZID=Europe/Ljubljana:20201023T110000
DTSTAMP:20260423T010004Z
UID:fmf-AFLABS-URNIK:premaknjeno-srecanje:64274
ATTENDEE:1. letnik (APM)
ATTENDEE:1. letnik (Aplikativna fizika)
CATEGORIES:Entry,Standard
COLOR:darkgreen
DESCRIPTION:Predmet: Matematika I (APF-1\, APM-1)\, Predavanja (P)\nLetnik
 i: 1. letnik (Aplikativna fizika)\, 1. letnik (APM)\nIzvajalci: Pavle Saks
 ida\nProstor: 2.01
LOCATION:2.01
ORGANIZER:Pavle Saksida
RELATED-TO:fmf-AFLABS-URNIK:srecanje:4977
X-WR-TIMEZONE:Europe/Ljubljana
END:VEVENT
BEGIN:VEVENT
SUMMARY:Matematika I (APF-1\, APM-1)\, Predavanja (P)
DTSTART;TZID=Europe/Ljubljana:20201030T090000
DTEND;TZID=Europe/Ljubljana:20201030T110000
DTSTAMP:20260423T010004Z
UID:fmf-AFLABS-URNIK:premaknjeno-srecanje:64275
ATTENDEE:1. letnik (APM)
ATTENDEE:1. letnik (Aplikativna fizika)
CATEGORIES:Entry,Standard
COLOR:darkgreen
DESCRIPTION:Predmet: Matematika I (APF-1\, APM-1)\, Predavanja (P)\nLetnik
 i: 1. letnik (Aplikativna fizika)\, 1. letnik (APM)\nIzvajalci: Pavle Saks
 ida\nProstor: 2.01
LOCATION:2.01
ORGANIZER:Pavle Saksida
RELATED-TO:fmf-AFLABS-URNIK:srecanje:4977
X-WR-TIMEZONE:Europe/Ljubljana
END:VEVENT
BEGIN:VEVENT
SUMMARY:Matematika I (APF-1\, APM-1)\, Predavanja (P)
DTSTART;TZID=Europe/Ljubljana:20201106T090000
DTEND;TZID=Europe/Ljubljana:20201106T110000
DTSTAMP:20260423T010004Z
UID:fmf-AFLABS-URNIK:premaknjeno-srecanje:64276
ATTENDEE:1. letnik (APM)
ATTENDEE:1. letnik (Aplikativna fizika)
CATEGORIES:Entry,Standard
COLOR:darkgreen
DESCRIPTION:Predmet: Matematika I (APF-1\, APM-1)\, Predavanja (P)\nLetnik
 i: 1. letnik (Aplikativna fizika)\, 1. letnik (APM)\nIzvajalci: Pavle Saks
 ida\nProstor: 2.01
LOCATION:2.01
ORGANIZER:Pavle Saksida
RELATED-TO:fmf-AFLABS-URNIK:srecanje:4977
X-WR-TIMEZONE:Europe/Ljubljana
END:VEVENT
BEGIN:VEVENT
SUMMARY:Matematika I (APF-1\, APM-1)\, Predavanja (P)
DTSTART;TZID=Europe/Ljubljana:20201113T090000
DTEND;TZID=Europe/Ljubljana:20201113T110000
DTSTAMP:20260423T010004Z
UID:fmf-AFLABS-URNIK:premaknjeno-srecanje:64277
ATTENDEE:1. letnik (APM)
ATTENDEE:1. letnik (Aplikativna fizika)
CATEGORIES:Entry,Standard
COLOR:darkgreen
DESCRIPTION:Predmet: Matematika I (APF-1\, APM-1)\, Predavanja (P)\nLetnik
 i: 1. letnik (Aplikativna fizika)\, 1. letnik (APM)\nIzvajalci: Pavle Saks
 ida\nProstor: 2.01
LOCATION:2.01
ORGANIZER:Pavle Saksida
RELATED-TO:fmf-AFLABS-URNIK:srecanje:4977
X-WR-TIMEZONE:Europe/Ljubljana
END:VEVENT
BEGIN:VEVENT
SUMMARY:Matematika I (APF-1\, APM-1)\, Predavanja (P)
DTSTART;TZID=Europe/Ljubljana:20201120T090000
DTEND;TZID=Europe/Ljubljana:20201120T110000
DTSTAMP:20260423T010004Z
UID:fmf-AFLABS-URNIK:premaknjeno-srecanje:64278
ATTENDEE:1. letnik (APM)
ATTENDEE:1. letnik (Aplikativna fizika)
CATEGORIES:Entry,Standard
COLOR:darkgreen
DESCRIPTION:Predmet: Matematika I (APF-1\, APM-1)\, Predavanja (P)\nLetnik
 i: 1. letnik (Aplikativna fizika)\, 1. letnik (APM)\nIzvajalci: Pavle Saks
 ida\nProstor: 2.01
LOCATION:2.01
ORGANIZER:Pavle Saksida
RELATED-TO:fmf-AFLABS-URNIK:srecanje:4977
X-WR-TIMEZONE:Europe/Ljubljana
END:VEVENT
BEGIN:VEVENT
SUMMARY:Matematika I (APF-1\, APM-1)\, Predavanja (P)
DTSTART;TZID=Europe/Ljubljana:20201127T090000
DTEND;TZID=Europe/Ljubljana:20201127T110000
DTSTAMP:20260423T010004Z
UID:fmf-AFLABS-URNIK:premaknjeno-srecanje:64279
ATTENDEE:1. letnik (APM)
ATTENDEE:1. letnik (Aplikativna fizika)
CATEGORIES:Entry,Standard
COLOR:darkgreen
DESCRIPTION:Predmet: Matematika I (APF-1\, APM-1)\, Predavanja (P)\nLetnik
 i: 1. letnik (Aplikativna fizika)\, 1. letnik (APM)\nIzvajalci: Pavle Saks
 ida\nProstor: 2.01
LOCATION:2.01
ORGANIZER:Pavle Saksida
RELATED-TO:fmf-AFLABS-URNIK:srecanje:4977
X-WR-TIMEZONE:Europe/Ljubljana
END:VEVENT
BEGIN:VEVENT
SUMMARY:Matematika I (APF-1\, APM-1)\, Predavanja (P)
DTSTART;TZID=Europe/Ljubljana:20201204T090000
DTEND;TZID=Europe/Ljubljana:20201204T110000
DTSTAMP:20260423T010004Z
UID:fmf-AFLABS-URNIK:premaknjeno-srecanje:64280
ATTENDEE:1. letnik (APM)
ATTENDEE:1. letnik (Aplikativna fizika)
CATEGORIES:Entry,Standard
COLOR:darkgreen
DESCRIPTION:Predmet: Matematika I (APF-1\, APM-1)\, Predavanja (P)\nLetnik
 i: 1. letnik (Aplikativna fizika)\, 1. letnik (APM)\nIzvajalci: Pavle Saks
 ida\nProstor: 2.01
LOCATION:2.01
ORGANIZER:Pavle Saksida
RELATED-TO:fmf-AFLABS-URNIK:srecanje:4977
X-WR-TIMEZONE:Europe/Ljubljana
END:VEVENT
BEGIN:VEVENT
SUMMARY:Matematika I (APF-1\, APM-1)\, Predavanja (P)
DTSTART;TZID=Europe/Ljubljana:20201211T090000
DTEND;TZID=Europe/Ljubljana:20201211T110000
DTSTAMP:20260423T010004Z
UID:fmf-AFLABS-URNIK:premaknjeno-srecanje:64281
ATTENDEE:1. letnik (APM)
ATTENDEE:1. letnik (Aplikativna fizika)
CATEGORIES:Entry,Standard
COLOR:darkgreen
DESCRIPTION:Predmet: Matematika I (APF-1\, APM-1)\, Predavanja (P)\nLetnik
 i: 1. letnik (Aplikativna fizika)\, 1. letnik (APM)\nIzvajalci: Pavle Saks
 ida\nProstor: 2.01
LOCATION:2.01
ORGANIZER:Pavle Saksida
RELATED-TO:fmf-AFLABS-URNIK:srecanje:4977
X-WR-TIMEZONE:Europe/Ljubljana
END:VEVENT
BEGIN:VEVENT
SUMMARY:Matematika I (APF-1\, APM-1)\, Predavanja (P)
DTSTART;TZID=Europe/Ljubljana:20201218T090000
DTEND;TZID=Europe/Ljubljana:20201218T110000
DTSTAMP:20260423T010004Z
UID:fmf-AFLABS-URNIK:premaknjeno-srecanje:64282
ATTENDEE:1. letnik (APM)
ATTENDEE:1. letnik (Aplikativna fizika)
CATEGORIES:Entry,Standard
COLOR:darkgreen
DESCRIPTION:Predmet: Matematika I (APF-1\, APM-1)\, Predavanja (P)\nLetnik
 i: 1. letnik (Aplikativna fizika)\, 1. letnik (APM)\nIzvajalci: Pavle Saks
 ida\nProstor: 2.01
LOCATION:2.01
ORGANIZER:Pavle Saksida
RELATED-TO:fmf-AFLABS-URNIK:srecanje:4977
X-WR-TIMEZONE:Europe/Ljubljana
END:VEVENT
BEGIN:VEVENT
SUMMARY:Matematika I (APF-1\, APM-1)\, Predavanja (P)
DTSTART;TZID=Europe/Ljubljana:20201225T090000
DTEND;TZID=Europe/Ljubljana:20201225T110000
DTSTAMP:20260423T010004Z
UID:fmf-AFLABS-URNIK:premaknjeno-srecanje:64283
ATTENDEE:1. letnik (APM)
ATTENDEE:1. letnik (Aplikativna fizika)
CATEGORIES:Entry,Standard
COLOR:darkgreen
DESCRIPTION:Predmet: Matematika I (APF-1\, APM-1)\, Predavanja (P)\nLetnik
 i: 1. letnik (Aplikativna fizika)\, 1. letnik (APM)\nIzvajalci: Pavle Saks
 ida\nProstor: 2.01
LOCATION:2.01
ORGANIZER:Pavle Saksida
RELATED-TO:fmf-AFLABS-URNIK:srecanje:4977
X-WR-TIMEZONE:Europe/Ljubljana
END:VEVENT
BEGIN:VEVENT
SUMMARY:Matematika I (APF-1\, APM-1)\, Predavanja (P)
DTSTART;TZID=Europe/Ljubljana:20210101T090000
DTEND;TZID=Europe/Ljubljana:20210101T110000
DTSTAMP:20260423T010004Z
UID:fmf-AFLABS-URNIK:premaknjeno-srecanje:64284
ATTENDEE:1. letnik (APM)
ATTENDEE:1. letnik (Aplikativna fizika)
CATEGORIES:Entry,Standard
COLOR:darkgreen
DESCRIPTION:Predmet: Matematika I (APF-1\, APM-1)\, Predavanja (P)\nLetnik
 i: 1. letnik (Aplikativna fizika)\, 1. letnik (APM)\nIzvajalci: Pavle Saks
 ida\nProstor: 2.01
LOCATION:2.01
ORGANIZER:Pavle Saksida
RELATED-TO:fmf-AFLABS-URNIK:srecanje:4977
X-WR-TIMEZONE:Europe/Ljubljana
END:VEVENT
BEGIN:VEVENT
SUMMARY:Matematika I (APF-1\, APM-1)\, Predavanja (P)
DTSTART;TZID=Europe/Ljubljana:20210108T090000
DTEND;TZID=Europe/Ljubljana:20210108T110000
DTSTAMP:20260423T010004Z
UID:fmf-AFLABS-URNIK:premaknjeno-srecanje:64285
ATTENDEE:1. letnik (APM)
ATTENDEE:1. letnik (Aplikativna fizika)
CATEGORIES:Entry,Standard
COLOR:darkgreen
DESCRIPTION:Predmet: Matematika I (APF-1\, APM-1)\, Predavanja (P)\nLetnik
 i: 1. letnik (Aplikativna fizika)\, 1. letnik (APM)\nIzvajalci: Pavle Saks
 ida\nProstor: 2.01
LOCATION:2.01
ORGANIZER:Pavle Saksida
RELATED-TO:fmf-AFLABS-URNIK:srecanje:4977
X-WR-TIMEZONE:Europe/Ljubljana
END:VEVENT
BEGIN:VEVENT
SUMMARY:Matematika I (APF-1\, APM-1)\, Predavanja (P)
DTSTART;TZID=Europe/Ljubljana:20210115T090000
DTEND;TZID=Europe/Ljubljana:20210115T110000
DTSTAMP:20260423T010004Z
UID:fmf-AFLABS-URNIK:premaknjeno-srecanje:64286
ATTENDEE:1. letnik (APM)
ATTENDEE:1. letnik (Aplikativna fizika)
CATEGORIES:Entry,Standard
COLOR:darkgreen
DESCRIPTION:Predmet: Matematika I (APF-1\, APM-1)\, Predavanja (P)\nLetnik
 i: 1. letnik (Aplikativna fizika)\, 1. letnik (APM)\nIzvajalci: Pavle Saks
 ida\nProstor: 2.01
LOCATION:2.01
ORGANIZER:Pavle Saksida
RELATED-TO:fmf-AFLABS-URNIK:srecanje:4977
X-WR-TIMEZONE:Europe/Ljubljana
END:VEVENT
BEGIN:VEVENT
SUMMARY:Matematika I (APF-1\, APM-1)\, Predavanja (P)
DTSTART;TZID=Europe/Ljubljana:20201006T140000
DTEND;TZID=Europe/Ljubljana:20201006T160000
DTSTAMP:20260423T010004Z
UID:fmf-AFLABS-URNIK:premaknjeno-srecanje:64022
ATTENDEE:1. letnik (APM)
ATTENDEE:1. letnik (Aplikativna fizika)
CATEGORIES:Entry,Standard
COLOR:darkgreen
DESCRIPTION:Predmet: Matematika I (APF-1\, APM-1)\, Predavanja (P)\nLetnik
 i: 1. letnik (Aplikativna fizika)\, 1. letnik (APM)\nIzvajalci: Pavle Saks
 ida\nProstor: 2.01
LOCATION:2.01
ORGANIZER:Pavle Saksida
RELATED-TO:fmf-AFLABS-URNIK:srecanje:4975
X-WR-TIMEZONE:Europe/Ljubljana
END:VEVENT
BEGIN:VEVENT
SUMMARY:Matematika I (APF-1\, APM-1)\, Predavanja (P)
DTSTART;TZID=Europe/Ljubljana:20201013T140000
DTEND;TZID=Europe/Ljubljana:20201013T160000
DTSTAMP:20260423T010004Z
UID:fmf-AFLABS-URNIK:premaknjeno-srecanje:64023
ATTENDEE:1. letnik (APM)
ATTENDEE:1. letnik (Aplikativna fizika)
CATEGORIES:Entry,Standard
COLOR:darkgreen
DESCRIPTION:Predmet: Matematika I (APF-1\, APM-1)\, Predavanja (P)\nLetnik
 i: 1. letnik (Aplikativna fizika)\, 1. letnik (APM)\nIzvajalci: Pavle Saks
 ida\nProstor: 2.01
LOCATION:2.01
ORGANIZER:Pavle Saksida
RELATED-TO:fmf-AFLABS-URNIK:srecanje:4975
X-WR-TIMEZONE:Europe/Ljubljana
END:VEVENT
BEGIN:VEVENT
SUMMARY:Matematika I (APF-1\, APM-1)\, Predavanja (P)
DTSTART;TZID=Europe/Ljubljana:20201020T140000
DTEND;TZID=Europe/Ljubljana:20201020T160000
DTSTAMP:20260423T010004Z
UID:fmf-AFLABS-URNIK:premaknjeno-srecanje:64024
ATTENDEE:1. letnik (APM)
ATTENDEE:1. letnik (Aplikativna fizika)
CATEGORIES:Entry,Standard
COLOR:darkgreen
DESCRIPTION:Predmet: Matematika I (APF-1\, APM-1)\, Predavanja (P)\nLetnik
 i: 1. letnik (Aplikativna fizika)\, 1. letnik (APM)\nIzvajalci: Pavle Saks
 ida\nProstor: 2.01
LOCATION:2.01
ORGANIZER:Pavle Saksida
RELATED-TO:fmf-AFLABS-URNIK:srecanje:4975
X-WR-TIMEZONE:Europe/Ljubljana
END:VEVENT
BEGIN:VEVENT
SUMMARY:Matematika I (APF-1\, APM-1)\, Predavanja (P)
DTSTART;TZID=Europe/Ljubljana:20201027T140000
DTEND;TZID=Europe/Ljubljana:20201027T160000
DTSTAMP:20260423T010004Z
UID:fmf-AFLABS-URNIK:premaknjeno-srecanje:64025
ATTENDEE:1. letnik (APM)
ATTENDEE:1. letnik (Aplikativna fizika)
CATEGORIES:Entry,Standard
COLOR:darkgreen
DESCRIPTION:Predmet: Matematika I (APF-1\, APM-1)\, Predavanja (P)\nLetnik
 i: 1. letnik (Aplikativna fizika)\, 1. letnik (APM)\nIzvajalci: Pavle Saks
 ida\nProstor: 2.01
LOCATION:2.01
ORGANIZER:Pavle Saksida
RELATED-TO:fmf-AFLABS-URNIK:srecanje:4975
X-WR-TIMEZONE:Europe/Ljubljana
END:VEVENT
BEGIN:VEVENT
SUMMARY:Matematika I (APF-1\, APM-1)\, Predavanja (P)
DTSTART;TZID=Europe/Ljubljana:20201103T140000
DTEND;TZID=Europe/Ljubljana:20201103T160000
DTSTAMP:20260423T010004Z
UID:fmf-AFLABS-URNIK:premaknjeno-srecanje:64026
ATTENDEE:1. letnik (APM)
ATTENDEE:1. letnik (Aplikativna fizika)
CATEGORIES:Entry,Standard
COLOR:darkgreen
DESCRIPTION:Predmet: Matematika I (APF-1\, APM-1)\, Predavanja (P)\nLetnik
 i: 1. letnik (Aplikativna fizika)\, 1. letnik (APM)\nIzvajalci: Pavle Saks
 ida\nProstor: 2.01
LOCATION:2.01
ORGANIZER:Pavle Saksida
RELATED-TO:fmf-AFLABS-URNIK:srecanje:4975
X-WR-TIMEZONE:Europe/Ljubljana
END:VEVENT
BEGIN:VEVENT
SUMMARY:Matematika I (APF-1\, APM-1)\, Predavanja (P)
DTSTART;TZID=Europe/Ljubljana:20201110T140000
DTEND;TZID=Europe/Ljubljana:20201110T160000
DTSTAMP:20260423T010004Z
UID:fmf-AFLABS-URNIK:premaknjeno-srecanje:64027
ATTENDEE:1. letnik (APM)
ATTENDEE:1. letnik (Aplikativna fizika)
CATEGORIES:Entry,Standard
COLOR:darkgreen
DESCRIPTION:Predmet: Matematika I (APF-1\, APM-1)\, Predavanja (P)\nLetnik
 i: 1. letnik (Aplikativna fizika)\, 1. letnik (APM)\nIzvajalci: Pavle Saks
 ida\nProstor: 2.01
LOCATION:2.01
ORGANIZER:Pavle Saksida
RELATED-TO:fmf-AFLABS-URNIK:srecanje:4975
X-WR-TIMEZONE:Europe/Ljubljana
END:VEVENT
BEGIN:VEVENT
SUMMARY:Matematika I (APF-1\, APM-1)\, Predavanja (P)
DTSTART;TZID=Europe/Ljubljana:20201117T140000
DTEND;TZID=Europe/Ljubljana:20201117T160000
DTSTAMP:20260423T010004Z
UID:fmf-AFLABS-URNIK:premaknjeno-srecanje:64028
ATTENDEE:1. letnik (APM)
ATTENDEE:1. letnik (Aplikativna fizika)
CATEGORIES:Entry,Standard
COLOR:darkgreen
DESCRIPTION:Predmet: Matematika I (APF-1\, APM-1)\, Predavanja (P)\nLetnik
 i: 1. letnik (Aplikativna fizika)\, 1. letnik (APM)\nIzvajalci: Pavle Saks
 ida\nProstor: 2.01
LOCATION:2.01
ORGANIZER:Pavle Saksida
RELATED-TO:fmf-AFLABS-URNIK:srecanje:4975
X-WR-TIMEZONE:Europe/Ljubljana
END:VEVENT
BEGIN:VEVENT
SUMMARY:Matematika I (APF-1\, APM-1)\, Predavanja (P)
DTSTART;TZID=Europe/Ljubljana:20201124T140000
DTEND;TZID=Europe/Ljubljana:20201124T160000
DTSTAMP:20260423T010004Z
UID:fmf-AFLABS-URNIK:premaknjeno-srecanje:64029
ATTENDEE:1. letnik (APM)
ATTENDEE:1. letnik (Aplikativna fizika)
CATEGORIES:Entry,Standard
COLOR:darkgreen
DESCRIPTION:Predmet: Matematika I (APF-1\, APM-1)\, Predavanja (P)\nLetnik
 i: 1. letnik (Aplikativna fizika)\, 1. letnik (APM)\nIzvajalci: Pavle Saks
 ida\nProstor: 2.01
LOCATION:2.01
ORGANIZER:Pavle Saksida
RELATED-TO:fmf-AFLABS-URNIK:srecanje:4975
X-WR-TIMEZONE:Europe/Ljubljana
END:VEVENT
BEGIN:VEVENT
SUMMARY:Matematika I (APF-1\, APM-1)\, Predavanja (P)
DTSTART;TZID=Europe/Ljubljana:20201201T140000
DTEND;TZID=Europe/Ljubljana:20201201T160000
DTSTAMP:20260423T010004Z
UID:fmf-AFLABS-URNIK:premaknjeno-srecanje:64030
ATTENDEE:1. letnik (APM)
ATTENDEE:1. letnik (Aplikativna fizika)
CATEGORIES:Entry,Standard
COLOR:darkgreen
DESCRIPTION:Predmet: Matematika I (APF-1\, APM-1)\, Predavanja (P)\nLetnik
 i: 1. letnik (Aplikativna fizika)\, 1. letnik (APM)\nIzvajalci: Pavle Saks
 ida\nProstor: 2.01
LOCATION:2.01
ORGANIZER:Pavle Saksida
RELATED-TO:fmf-AFLABS-URNIK:srecanje:4975
X-WR-TIMEZONE:Europe/Ljubljana
END:VEVENT
BEGIN:VEVENT
SUMMARY:Matematika I (APF-1\, APM-1)\, Predavanja (P)
DTSTART;TZID=Europe/Ljubljana:20201208T140000
DTEND;TZID=Europe/Ljubljana:20201208T160000
DTSTAMP:20260423T010004Z
UID:fmf-AFLABS-URNIK:premaknjeno-srecanje:64031
ATTENDEE:1. letnik (APM)
ATTENDEE:1. letnik (Aplikativna fizika)
CATEGORIES:Entry,Standard
COLOR:darkgreen
DESCRIPTION:Predmet: Matematika I (APF-1\, APM-1)\, Predavanja (P)\nLetnik
 i: 1. letnik (Aplikativna fizika)\, 1. letnik (APM)\nIzvajalci: Pavle Saks
 ida\nProstor: 2.01
LOCATION:2.01
ORGANIZER:Pavle Saksida
RELATED-TO:fmf-AFLABS-URNIK:srecanje:4975
X-WR-TIMEZONE:Europe/Ljubljana
END:VEVENT
BEGIN:VEVENT
SUMMARY:Matematika I (APF-1\, APM-1)\, Predavanja (P)
DTSTART;TZID=Europe/Ljubljana:20201215T140000
DTEND;TZID=Europe/Ljubljana:20201215T160000
DTSTAMP:20260423T010004Z
UID:fmf-AFLABS-URNIK:premaknjeno-srecanje:64032
ATTENDEE:1. letnik (APM)
ATTENDEE:1. letnik (Aplikativna fizika)
CATEGORIES:Entry,Standard
COLOR:darkgreen
DESCRIPTION:Predmet: Matematika I (APF-1\, APM-1)\, Predavanja (P)\nLetnik
 i: 1. letnik (Aplikativna fizika)\, 1. letnik (APM)\nIzvajalci: Pavle Saks
 ida\nProstor: 2.01
LOCATION:2.01
ORGANIZER:Pavle Saksida
RELATED-TO:fmf-AFLABS-URNIK:srecanje:4975
X-WR-TIMEZONE:Europe/Ljubljana
END:VEVENT
BEGIN:VEVENT
SUMMARY:Matematika I (APF-1\, APM-1)\, Predavanja (P)
DTSTART;TZID=Europe/Ljubljana:20201222T140000
DTEND;TZID=Europe/Ljubljana:20201222T160000
DTSTAMP:20260423T010004Z
UID:fmf-AFLABS-URNIK:premaknjeno-srecanje:64033
ATTENDEE:1. letnik (APM)
ATTENDEE:1. letnik (Aplikativna fizika)
CATEGORIES:Entry,Standard
COLOR:darkgreen
DESCRIPTION:Predmet: Matematika I (APF-1\, APM-1)\, Predavanja (P)\nLetnik
 i: 1. letnik (Aplikativna fizika)\, 1. letnik (APM)\nIzvajalci: Pavle Saks
 ida\nProstor: 2.01
LOCATION:2.01
ORGANIZER:Pavle Saksida
RELATED-TO:fmf-AFLABS-URNIK:srecanje:4975
X-WR-TIMEZONE:Europe/Ljubljana
END:VEVENT
BEGIN:VEVENT
SUMMARY:Matematika I (APF-1\, APM-1)\, Predavanja (P)
DTSTART;TZID=Europe/Ljubljana:20201229T140000
DTEND;TZID=Europe/Ljubljana:20201229T160000
DTSTAMP:20260423T010004Z
UID:fmf-AFLABS-URNIK:premaknjeno-srecanje:64034
ATTENDEE:1. letnik (APM)
ATTENDEE:1. letnik (Aplikativna fizika)
CATEGORIES:Entry,Standard
COLOR:darkgreen
DESCRIPTION:Predmet: Matematika I (APF-1\, APM-1)\, Predavanja (P)\nLetnik
 i: 1. letnik (Aplikativna fizika)\, 1. letnik (APM)\nIzvajalci: Pavle Saks
 ida\nProstor: 2.01
LOCATION:2.01
ORGANIZER:Pavle Saksida
RELATED-TO:fmf-AFLABS-URNIK:srecanje:4975
X-WR-TIMEZONE:Europe/Ljubljana
END:VEVENT
BEGIN:VEVENT
SUMMARY:Matematika I (APF-1\, APM-1)\, Predavanja (P)
DTSTART;TZID=Europe/Ljubljana:20210105T140000
DTEND;TZID=Europe/Ljubljana:20210105T160000
DTSTAMP:20260423T010004Z
UID:fmf-AFLABS-URNIK:premaknjeno-srecanje:64035
ATTENDEE:1. letnik (APM)
ATTENDEE:1. letnik (Aplikativna fizika)
CATEGORIES:Entry,Standard
COLOR:darkgreen
DESCRIPTION:Predmet: Matematika I (APF-1\, APM-1)\, Predavanja (P)\nLetnik
 i: 1. letnik (Aplikativna fizika)\, 1. letnik (APM)\nIzvajalci: Pavle Saks
 ida\nProstor: 2.01
LOCATION:2.01
ORGANIZER:Pavle Saksida
RELATED-TO:fmf-AFLABS-URNIK:srecanje:4975
X-WR-TIMEZONE:Europe/Ljubljana
END:VEVENT
BEGIN:VEVENT
SUMMARY:Matematika I (APF-1\, APM-1)\, Predavanja (P)
DTSTART;TZID=Europe/Ljubljana:20210112T140000
DTEND;TZID=Europe/Ljubljana:20210112T160000
DTSTAMP:20260423T010004Z
UID:fmf-AFLABS-URNIK:premaknjeno-srecanje:64036
ATTENDEE:1. letnik (APM)
ATTENDEE:1. letnik (Aplikativna fizika)
CATEGORIES:Entry,Standard
COLOR:darkgreen
DESCRIPTION:Predmet: Matematika I (APF-1\, APM-1)\, Predavanja (P)\nLetnik
 i: 1. letnik (Aplikativna fizika)\, 1. letnik (APM)\nIzvajalci: Pavle Saks
 ida\nProstor: 2.01
LOCATION:2.01
ORGANIZER:Pavle Saksida
RELATED-TO:fmf-AFLABS-URNIK:srecanje:4975
X-WR-TIMEZONE:Europe/Ljubljana
END:VEVENT
END:VCALENDAR
