BEGIN:VCALENDAR
VERSION:2.0
PRODID:-//AFLabs urnik izvoz - fmf//aflabs.si//SI
DTSTAMP:20260424T190135Z
NAME:UL FMF urnik
REFRESH-INTERVAL:PT1H
SOURCE:https://urnik.fmf.uni-lj.si/teacher/3?day=2024-06-10&export=1
URL:https://urnik.fmf.uni-lj.si/teacher/3?day=2024-06-10&export=1
X-PUBLISHED-TTL:PT1H
X-WR-CALNAME:UL FMF urnik
X-WR-TIMEZONE:Europe/Ljubljana
BEGIN:VTIMEZONE
TZID:Europe/Ljubljana
BEGIN:DAYLIGHT
DTSTART:20260329T020000
RDATE:20260329T020000
RDATE:20270328T020000
TZNAME:CEST
TZOFFSETFROM:+0100
TZOFFSETTO:+0200
END:DAYLIGHT
BEGIN:STANDARD
DTSTART:20261025T030000
RDATE:20261025T030000
RDATE:20271031T030000
TZNAME:CET
TZOFFSETFROM:+0200
TZOFFSETTO:+0100
END:STANDARD
END:VTIMEZONE
BEGIN:VEVENT
SUMMARY:Matematika 1 (APF-1\, APM-1)\, Predavanja (P)
DTSTART;TZID=Europe/Ljubljana:20240507T100000
DTEND;TZID=Europe/Ljubljana:20240507T120000
DTSTAMP:20260424T190135Z
UID:fmf-AFLABS-URNIK:premaknjeno-srecanje:126955
ATTENDEE:1. letnik (APM)
ATTENDEE:1. letnik (Aplikativna fizika)
CATEGORIES:Entry,Standard
COLOR:darkgreen
DESCRIPTION:Predmet: Matematika 1 (APF-1\, APM-1)\, Predavanja (P)\nLetnik
 i: 1. letnik (Aplikativna fizika)\, 1. letnik (APM)\nIzvajalci: Pavle Saks
 ida\nProstor: P.01
LOCATION:P.01
ORGANIZER:Pavle Saksida
RELATED-TO:fmf-AFLABS-URNIK:srecanje:10745
X-WR-TIMEZONE:Europe/Ljubljana
END:VEVENT
BEGIN:VEVENT
SUMMARY:Matematika 1 (APF-1\, APM-1)\, Predavanja (P)
DTSTART;TZID=Europe/Ljubljana:20240514T100000
DTEND;TZID=Europe/Ljubljana:20240514T120000
DTSTAMP:20260424T190135Z
UID:fmf-AFLABS-URNIK:premaknjeno-srecanje:126956
ATTENDEE:1. letnik (APM)
ATTENDEE:1. letnik (Aplikativna fizika)
CATEGORIES:Entry,Standard
COLOR:darkgreen
DESCRIPTION:Predmet: Matematika 1 (APF-1\, APM-1)\, Predavanja (P)\nLetnik
 i: 1. letnik (Aplikativna fizika)\, 1. letnik (APM)\nIzvajalci: Pavle Saks
 ida\nProstor: P.01
LOCATION:P.01
ORGANIZER:Pavle Saksida
RELATED-TO:fmf-AFLABS-URNIK:srecanje:10745
X-WR-TIMEZONE:Europe/Ljubljana
END:VEVENT
BEGIN:VEVENT
SUMMARY:Matematika 1 (APF-1\, APM-1)\, Predavanja (P)
DTSTART;TZID=Europe/Ljubljana:20240521T100000
DTEND;TZID=Europe/Ljubljana:20240521T120000
DTSTAMP:20260424T190135Z
UID:fmf-AFLABS-URNIK:premaknjeno-srecanje:126957
ATTENDEE:1. letnik (APM)
ATTENDEE:1. letnik (Aplikativna fizika)
CATEGORIES:Entry,Standard
COLOR:darkgreen
DESCRIPTION:Predmet: Matematika 1 (APF-1\, APM-1)\, Predavanja (P)\nLetnik
 i: 1. letnik (Aplikativna fizika)\, 1. letnik (APM)\nIzvajalci: Pavle Saks
 ida\nProstor: P.01
LOCATION:P.01
ORGANIZER:Pavle Saksida
RELATED-TO:fmf-AFLABS-URNIK:srecanje:10745
X-WR-TIMEZONE:Europe/Ljubljana
END:VEVENT
BEGIN:VEVENT
SUMMARY:Matematika 1 (APF-1\, APM-1)\, Predavanja (P)
DTSTART;TZID=Europe/Ljubljana:20240528T100000
DTEND;TZID=Europe/Ljubljana:20240528T120000
DTSTAMP:20260424T190135Z
UID:fmf-AFLABS-URNIK:premaknjeno-srecanje:126958
ATTENDEE:1. letnik (APM)
ATTENDEE:1. letnik (Aplikativna fizika)
CATEGORIES:Entry,Standard
COLOR:darkgreen
DESCRIPTION:Predmet: Matematika 1 (APF-1\, APM-1)\, Predavanja (P)\nLetnik
 i: 1. letnik (Aplikativna fizika)\, 1. letnik (APM)\nIzvajalci: Pavle Saks
 ida\nProstor: P.01
LOCATION:P.01
ORGANIZER:Pavle Saksida
RELATED-TO:fmf-AFLABS-URNIK:srecanje:10745
X-WR-TIMEZONE:Europe/Ljubljana
END:VEVENT
BEGIN:VEVENT
SUMMARY:Govorilna ura ()\, Predavanja (P)
DTSTART;TZID=Europe/Ljubljana:20240508T130000
DTEND;TZID=Europe/Ljubljana:20240508T140000
DTSTAMP:20260424T190135Z
UID:fmf-AFLABS-URNIK:premaknjeno-srecanje:125440
CATEGORIES:Entry,Standard
COLOR:darkgreen
DESCRIPTION:Predmet: Govorilna ura ()\, Predavanja (P)\nLetniki: \nIzvajal
 ci: Pavle Saksida\nProstor: X
LOCATION:X
ORGANIZER:Pavle Saksida
RELATED-TO:fmf-AFLABS-URNIK:srecanje:9929
X-WR-TIMEZONE:Europe/Ljubljana
END:VEVENT
BEGIN:VEVENT
SUMMARY:Govorilna ura ()\, Predavanja (P)
DTSTART;TZID=Europe/Ljubljana:20240515T130000
DTEND;TZID=Europe/Ljubljana:20240515T140000
DTSTAMP:20260424T190135Z
UID:fmf-AFLABS-URNIK:premaknjeno-srecanje:125441
CATEGORIES:Entry,Standard
COLOR:darkgreen
DESCRIPTION:Predmet: Govorilna ura ()\, Predavanja (P)\nLetniki: \nIzvajal
 ci: Pavle Saksida\nProstor: X
LOCATION:X
ORGANIZER:Pavle Saksida
RELATED-TO:fmf-AFLABS-URNIK:srecanje:9929
X-WR-TIMEZONE:Europe/Ljubljana
END:VEVENT
BEGIN:VEVENT
SUMMARY:Govorilna ura ()\, Predavanja (P)
DTSTART;TZID=Europe/Ljubljana:20240522T130000
DTEND;TZID=Europe/Ljubljana:20240522T140000
DTSTAMP:20260424T190135Z
UID:fmf-AFLABS-URNIK:premaknjeno-srecanje:125442
CATEGORIES:Entry,Standard
COLOR:darkgreen
DESCRIPTION:Predmet: Govorilna ura ()\, Predavanja (P)\nLetniki: \nIzvajal
 ci: Pavle Saksida\nProstor: X
LOCATION:X
ORGANIZER:Pavle Saksida
RELATED-TO:fmf-AFLABS-URNIK:srecanje:9929
X-WR-TIMEZONE:Europe/Ljubljana
END:VEVENT
BEGIN:VEVENT
SUMMARY:Govorilna ura ()\, Predavanja (P)
DTSTART;TZID=Europe/Ljubljana:20240529T130000
DTEND;TZID=Europe/Ljubljana:20240529T140000
DTSTAMP:20260424T190135Z
UID:fmf-AFLABS-URNIK:premaknjeno-srecanje:125443
CATEGORIES:Entry,Standard
COLOR:darkgreen
DESCRIPTION:Predmet: Govorilna ura ()\, Predavanja (P)\nLetniki: \nIzvajal
 ci: Pavle Saksida\nProstor: X
LOCATION:X
ORGANIZER:Pavle Saksida
RELATED-TO:fmf-AFLABS-URNIK:srecanje:9929
X-WR-TIMEZONE:Europe/Ljubljana
END:VEVENT
BEGIN:VEVENT
SUMMARY:Matematika 1 (APF-1\, APM-1)\, Predavanja (P)
DTSTART;TZID=Europe/Ljubljana:20240510T080000
DTEND;TZID=Europe/Ljubljana:20240510T100000
DTSTAMP:20260424T190135Z
UID:fmf-AFLABS-URNIK:premaknjeno-srecanje:126970
ATTENDEE:1. letnik (APM)
ATTENDEE:1. letnik (Aplikativna fizika)
CATEGORIES:Entry,Standard
COLOR:darkgreen
DESCRIPTION:Predmet: Matematika 1 (APF-1\, APM-1)\, Predavanja (P)\nLetnik
 i: 1. letnik (Aplikativna fizika)\, 1. letnik (APM)\nIzvajalci: Pavle Saks
 ida\nProstor: 1.01
LOCATION:1.01
ORGANIZER:Pavle Saksida
RELATED-TO:fmf-AFLABS-URNIK:srecanje:10589
X-WR-TIMEZONE:Europe/Ljubljana
END:VEVENT
BEGIN:VEVENT
SUMMARY:Matematika 1 (APF-1\, APM-1)\, Predavanja (P)
DTSTART;TZID=Europe/Ljubljana:20240517T080000
DTEND;TZID=Europe/Ljubljana:20240517T100000
DTSTAMP:20260424T190135Z
UID:fmf-AFLABS-URNIK:premaknjeno-srecanje:126971
ATTENDEE:1. letnik (APM)
ATTENDEE:1. letnik (Aplikativna fizika)
CATEGORIES:Entry,Standard
COLOR:darkgreen
DESCRIPTION:Predmet: Matematika 1 (APF-1\, APM-1)\, Predavanja (P)\nLetnik
 i: 1. letnik (Aplikativna fizika)\, 1. letnik (APM)\nIzvajalci: Pavle Saks
 ida\nProstor: 1.01
LOCATION:1.01
ORGANIZER:Pavle Saksida
RELATED-TO:fmf-AFLABS-URNIK:srecanje:10589
X-WR-TIMEZONE:Europe/Ljubljana
END:VEVENT
BEGIN:VEVENT
SUMMARY:Matematika 1 (APF-1\, APM-1)\, Predavanja (P)
DTSTART;TZID=Europe/Ljubljana:20240524T080000
DTEND;TZID=Europe/Ljubljana:20240524T100000
DTSTAMP:20260424T190135Z
UID:fmf-AFLABS-URNIK:premaknjeno-srecanje:126972
ATTENDEE:1. letnik (APM)
ATTENDEE:1. letnik (Aplikativna fizika)
CATEGORIES:Entry,Standard
COLOR:darkgreen
DESCRIPTION:Predmet: Matematika 1 (APF-1\, APM-1)\, Predavanja (P)\nLetnik
 i: 1. letnik (Aplikativna fizika)\, 1. letnik (APM)\nIzvajalci: Pavle Saks
 ida\nProstor: 1.01
LOCATION:1.01
ORGANIZER:Pavle Saksida
RELATED-TO:fmf-AFLABS-URNIK:srecanje:10589
X-WR-TIMEZONE:Europe/Ljubljana
END:VEVENT
BEGIN:VEVENT
SUMMARY:Matematika 1 (APF-1\, APM-1)\, Predavanja (P)
DTSTART;TZID=Europe/Ljubljana:20240531T080000
DTEND;TZID=Europe/Ljubljana:20240531T100000
DTSTAMP:20260424T190135Z
UID:fmf-AFLABS-URNIK:premaknjeno-srecanje:126973
ATTENDEE:1. letnik (APM)
ATTENDEE:1. letnik (Aplikativna fizika)
CATEGORIES:Entry,Standard
COLOR:darkgreen
DESCRIPTION:Predmet: Matematika 1 (APF-1\, APM-1)\, Predavanja (P)\nLetnik
 i: 1. letnik (Aplikativna fizika)\, 1. letnik (APM)\nIzvajalci: Pavle Saks
 ida\nProstor: 1.01
LOCATION:1.01
ORGANIZER:Pavle Saksida
RELATED-TO:fmf-AFLABS-URNIK:srecanje:10589
X-WR-TIMEZONE:Europe/Ljubljana
END:VEVENT
BEGIN:VEVENT
SUMMARY:Diplomski seminar (MAT-3)\, Seminar (S)\, [2]
DTSTART;TZID=Europe/Ljubljana:20240510T130000
DTEND;TZID=Europe/Ljubljana:20240510T150000
DTSTAMP:20260424T190135Z
UID:fmf-AFLABS-URNIK:premaknjeno-srecanje:133795
ATTENDEE:3. letnik (M)
CATEGORIES:Entry,Standard
COLOR:darkgreen
DESCRIPTION:Predmet: Diplomski seminar (MAT-3)\, Seminar (S)\, [2]\nLetnik
 i: 3. letnik (M)\nIzvajalci: Pavle Saksida\nProstor: 3.05
LOCATION:3.05
ORGANIZER:Pavle Saksida
RELATED-TO:fmf-AFLABS-URNIK:srecanje:9820
X-WR-TIMEZONE:Europe/Ljubljana
END:VEVENT
BEGIN:VEVENT
SUMMARY:Diplomski seminar (MAT-3)\, Seminar (S)\, [2]
DTSTART;TZID=Europe/Ljubljana:20240517T130000
DTEND;TZID=Europe/Ljubljana:20240517T150000
DTSTAMP:20260424T190135Z
UID:fmf-AFLABS-URNIK:premaknjeno-srecanje:133796
ATTENDEE:3. letnik (M)
CATEGORIES:Entry,Standard
COLOR:darkgreen
DESCRIPTION:Predmet: Diplomski seminar (MAT-3)\, Seminar (S)\, [2]\nLetnik
 i: 3. letnik (M)\nIzvajalci: Pavle Saksida\nProstor: 3.05
LOCATION:3.05
ORGANIZER:Pavle Saksida
RELATED-TO:fmf-AFLABS-URNIK:srecanje:9820
X-WR-TIMEZONE:Europe/Ljubljana
END:VEVENT
BEGIN:VEVENT
SUMMARY:Diplomski seminar (MAT-3)\, Seminar (S)\, [2]
DTSTART;TZID=Europe/Ljubljana:20240524T130000
DTEND;TZID=Europe/Ljubljana:20240524T150000
DTSTAMP:20260424T190135Z
UID:fmf-AFLABS-URNIK:premaknjeno-srecanje:133797
ATTENDEE:3. letnik (M)
CATEGORIES:Entry,Standard
COLOR:darkgreen
DESCRIPTION:Predmet: Diplomski seminar (MAT-3)\, Seminar (S)\, [2]\nLetnik
 i: 3. letnik (M)\nIzvajalci: Pavle Saksida\nProstor: 3.05
LOCATION:3.05
ORGANIZER:Pavle Saksida
RELATED-TO:fmf-AFLABS-URNIK:srecanje:9820
X-WR-TIMEZONE:Europe/Ljubljana
END:VEVENT
BEGIN:VEVENT
SUMMARY:Diplomski seminar (MAT-3)\, Seminar (S)\, [2]
DTSTART;TZID=Europe/Ljubljana:20240531T130000
DTEND;TZID=Europe/Ljubljana:20240531T150000
DTSTAMP:20260424T190135Z
UID:fmf-AFLABS-URNIK:premaknjeno-srecanje:133798
ATTENDEE:3. letnik (M)
CATEGORIES:Entry,Standard
COLOR:darkgreen
DESCRIPTION:Predmet: Diplomski seminar (MAT-3)\, Seminar (S)\, [2]\nLetnik
 i: 3. letnik (M)\nIzvajalci: Pavle Saksida\nProstor: 3.05
LOCATION:3.05
ORGANIZER:Pavle Saksida
RELATED-TO:fmf-AFLABS-URNIK:srecanje:9820
X-WR-TIMEZONE:Europe/Ljubljana
END:VEVENT
BEGIN:VEVENT
SUMMARY:Dolge predstavitve
DTSTART;TZID=Europe/Ljubljana:20240513T160000
DTEND;TZID=Europe/Ljubljana:20240513T180000
DTSTAMP:20260424T190135Z
UID:fmf-AFLABS-URNIK:rezervacija:15914
ATTENDEE:3. letnik (M)
CATEGORIES:Reservation
COLOR:royalblue
DESCRIPTION:Predmeti: Diplomski seminar (MAT-3)\nLetniki: 3. letnik (M)\nI
 zvajalci: Pavle Saksida\nProstori: 3.05
LOCATION:3.05
ORGANIZER:Pavle Saksida
X-WR-TIMEZONE:Europe/Ljubljana
END:VEVENT
BEGIN:VEVENT
SUMMARY:Dolge predstavitve
DTSTART;TZID=Europe/Ljubljana:20240520T160000
DTEND;TZID=Europe/Ljubljana:20240520T180000
DTSTAMP:20260424T190135Z
UID:fmf-AFLABS-URNIK:rezervacija:15915
ATTENDEE:3. letnik (M)
CATEGORIES:Reservation
COLOR:royalblue
DESCRIPTION:Predmeti: Diplomski seminar (MAT-3)\nLetniki: 3. letnik (M)\nI
 zvajalci: Pavle Saksida\nProstori: 3.05
LOCATION:3.05
ORGANIZER:Pavle Saksida
X-WR-TIMEZONE:Europe/Ljubljana
END:VEVENT
BEGIN:VEVENT
SUMMARY:Pisni izpit iz Matematike 1
DTSTART;TZID=Europe/Ljubljana:20240612T100000
DTEND;TZID=Europe/Ljubljana:20240612T120000
DTSTAMP:20260424T190135Z
UID:fmf-AFLABS-URNIK:rezervacija:16760
ATTENDEE:1. letnik (APM)
ATTENDEE:1. letnik (Aplikativna fizika)
CATEGORIES:Reservation
COLOR:royalblue
DESCRIPTION:Predmeti: Matematika 1 (APF-1\, APM-1)\nLetniki: 1. letnik (Ap
 likativna fizika)\, 1. letnik (APM)\nIzvajalci: Pavle Saksida\nProstori: 2
 .04
LOCATION:2.04
ORGANIZER:Pavle Saksida
X-WR-TIMEZONE:Europe/Ljubljana
END:VEVENT
END:VCALENDAR
