BEGIN:VCALENDAR
VERSION:2.0
PRODID:-//AFLabs urnik izvoz - fmf//aflabs.si//SI
DTSTAMP:20260420T233254Z
NAME:UL FMF urnik
REFRESH-INTERVAL:PT1H
SOURCE:https://urnik.fmf.uni-lj.si/teacher/3?day=2025-09-01&export=1
URL:https://urnik.fmf.uni-lj.si/teacher/3?day=2025-09-01&export=1
X-PUBLISHED-TTL:PT1H
X-WR-CALNAME:UL FMF urnik
X-WR-TIMEZONE:Europe/Ljubljana
BEGIN:VTIMEZONE
TZID:Europe/Ljubljana
BEGIN:DAYLIGHT
DTSTART:20260329T020000
RDATE:20260329T020000
RDATE:20270328T020000
TZNAME:CEST
TZOFFSETFROM:+0100
TZOFFSETTO:+0200
END:DAYLIGHT
BEGIN:STANDARD
DTSTART:20261025T030000
RDATE:20261025T030000
RDATE:20271031T030000
TZNAME:CET
TZOFFSETFROM:+0200
TZOFFSETTO:+0100
END:STANDARD
END:VTIMEZONE
BEGIN:VEVENT
SUMMARY:Analiza 3 (FM-3\, MAT-3\, PM-3)\, Predavanja (P)
DTSTART;TZID=Europe/Ljubljana:20251002T130000
DTEND;TZID=Europe/Ljubljana:20251002T140000
DTSTAMP:20260420T233254Z
UID:fmf-AFLABS-URNIK:premaknjeno-srecanje:215762
ATTENDEE:3. letnik (FM)
ATTENDEE:3. letnik (M)
ATTENDEE:3. letnik (PM)
CATEGORIES:Entry,Standard
COLOR:darkgreen
DESCRIPTION:Predmet: Analiza 3 (FM-3\, MAT-3\, PM-3)\, Predavanja (P)\nLet
 niki: 3. letnik (FM)\, 3. letnik (M)\, 3. letnik (PM)\nIzvajalci: Pavle Sa
 ksida\nProstor: 1.01
LOCATION:1.01
ORGANIZER:Pavle Saksida
RELATED-TO:fmf-AFLABS-URNIK:srecanje:15794
X-WR-TIMEZONE:Europe/Ljubljana
END:VEVENT
BEGIN:VEVENT
SUMMARY:Diplomski seminar (MAT-3)\, Seminar (S)
DTSTART;TZID=Europe/Ljubljana:20251006T140000
DTEND;TZID=Europe/Ljubljana:20251006T160000
DTSTAMP:20260420T233254Z
UID:fmf-AFLABS-URNIK:premaknjeno-srecanje:216293
ATTENDEE:3. letnik (M)
CATEGORIES:Entry,Standard
COLOR:darkgreen
DESCRIPTION:Predmet: Diplomski seminar (MAT-3)\, Seminar (S)\nLetniki: 3. 
 letnik (M)\nIzvajalci: Pavle Saksida\nProstor: 3.05
LOCATION:3.05
ORGANIZER:Pavle Saksida
RELATED-TO:fmf-AFLABS-URNIK:srecanje:15828
X-WR-TIMEZONE:Europe/Ljubljana
END:VEVENT
BEGIN:VEVENT
SUMMARY:Zagovor diplome
DTSTART;TZID=Europe/Ljubljana:20250701T110000
DTEND;TZID=Europe/Ljubljana:20250701T120000
DTSTAMP:20260420T233254Z
UID:fmf-AFLABS-URNIK:rezervacija:23125
ATTENDEE:3. letnik (M)
CATEGORIES:Reservation
COLOR:royalblue
DESCRIPTION:Predmeti: Diplomski seminar (MAT-3)\nLetniki: 3. letnik (M)\nI
 zvajalci: Pavle Saksida\nProstori: 2.03
LOCATION:2.03
ORGANIZER:Pavle Saksida
X-WR-TIMEZONE:Europe/Ljubljana
END:VEVENT
BEGIN:VEVENT
SUMMARY:Izpit iz Matematike 1\, Apl. mat.\, Apl. fiz.
DTSTART;TZID=Europe/Ljubljana:20250902T100000
DTEND;TZID=Europe/Ljubljana:20250902T120000
DTSTAMP:20260420T233254Z
UID:fmf-AFLABS-URNIK:rezervacija:22073
ATTENDEE:1. letnik (APM)
ATTENDEE:1. letnik (Aplikativna fizika)
CATEGORIES:Reservation
COLOR:royalblue
DESCRIPTION:Predmeti: Matematika 1 (APF-1\, APM-1)\nLetniki: 1. letnik (Ap
 likativna fizika)\, 1. letnik (APM)\nIzvajalci: Pavle Saksida\nProstori: 1
 .01
LOCATION:1.01
ORGANIZER:Pavle Saksida
X-WR-TIMEZONE:Europe/Ljubljana
END:VEVENT
BEGIN:VEVENT
SUMMARY:Izpit iz Matematike 1\, Apl. mat.\, Apl. fiz.
DTSTART;TZID=Europe/Ljubljana:20250820T100000
DTEND;TZID=Europe/Ljubljana:20250820T120000
DTSTAMP:20260420T233254Z
UID:fmf-AFLABS-URNIK:rezervacija:22072
ATTENDEE:1. letnik (APM)
ATTENDEE:1. letnik (Aplikativna fizika)
CATEGORIES:Reservation
COLOR:royalblue
DESCRIPTION:Predmeti: Matematika 1 (APF-1\, APM-1)\nLetniki: 1. letnik (Ap
 likativna fizika)\, 1. letnik (APM)\nIzvajalci: Pavle Saksida\nProstori: 1
 .01
LOCATION:1.01
ORGANIZER:Pavle Saksida
X-WR-TIMEZONE:Europe/Ljubljana
END:VEVENT
BEGIN:VEVENT
SUMMARY:Izpit iz Matematike 1 Apl. mat.\, Apl. fiz.
DTSTART;TZID=Europe/Ljubljana:20250616T100000
DTEND;TZID=Europe/Ljubljana:20250616T120000
DTSTAMP:20260420T233254Z
UID:fmf-AFLABS-URNIK:rezervacija:22071
ATTENDEE:1. letnik (APM)
ATTENDEE:1. letnik (Aplikativna fizika)
CATEGORIES:Reservation
COLOR:royalblue
DESCRIPTION:Predmeti: Matematika 1 (APF-1\, APM-1)\nLetniki: 1. letnik (Ap
 likativna fizika)\, 1. letnik (APM)\nIzvajalci: Pavle Saksida\nProstori: 1
 .01
LOCATION:1.01
ORGANIZER:Pavle Saksida
X-WR-TIMEZONE:Europe/Ljubljana
END:VEVENT
BEGIN:VEVENT
SUMMARY:Komisijski izpit
DTSTART;TZID=Europe/Ljubljana:20250911T130000
DTEND;TZID=Europe/Ljubljana:20250911T140000
DTSTAMP:20260420T233254Z
UID:fmf-AFLABS-URNIK:rezervacija:23961
ATTENDEE:2. letnik (APM)
CATEGORIES:Reservation
COLOR:royalblue
DESCRIPTION:Predmeti: MAT 2 (APM-2)\nLetniki: 2. letnik (APM)\nIzvajalci: 
 Pavle Saksida\nProstori: 3.10
LOCATION:3.10
ORGANIZER:Pavle Saksida
X-WR-TIMEZONE:Europe/Ljubljana
END:VEVENT
END:VCALENDAR
