BEGIN:VCALENDAR
VERSION:2.0
PRODID:-//AFLabs urnik izvoz - fmf//aflabs.si//SI
DTSTAMP:20260425T142226Z
NAME:UL FMF urnik
REFRESH-INTERVAL:PT1H
SOURCE:https://urnik.fmf.uni-lj.si/teacher/403?day=2026-04-20&export=1
URL:https://urnik.fmf.uni-lj.si/teacher/403?day=2026-04-20&export=1
X-PUBLISHED-TTL:PT1H
X-WR-CALNAME:UL FMF urnik
X-WR-TIMEZONE:Europe/Ljubljana
BEGIN:VTIMEZONE
TZID:Europe/Ljubljana
BEGIN:DAYLIGHT
DTSTART:20260329T020000
RDATE:20260329T020000
RDATE:20270328T020000
TZNAME:CEST
TZOFFSETFROM:+0100
TZOFFSETTO:+0200
END:DAYLIGHT
BEGIN:STANDARD
DTSTART:20261025T030000
RDATE:20261025T030000
RDATE:20271031T030000
TZNAME:CET
TZOFFSETFROM:+0200
TZOFFSETTO:+0100
END:STANDARD
END:VTIMEZONE
BEGIN:VEVENT
SUMMARY:Matematična orodja v fiziki (APM-2)\, Predavanja (P)
DTSTART;TZID=Europe/Ljubljana:20260216T140000
DTEND;TZID=Europe/Ljubljana:20260216T160000
DTSTAMP:20260425T142226Z
UID:fmf-AFLABS-URNIK:premaknjeno-srecanje:252295
ATTENDEE:2. letnik (APM)
CATEGORIES:Entry,Standard
COLOR:darkgreen
DESCRIPTION:Predmet: Matematična orodja v fiziki (APM-2)\, Predavanja (P)
 \nLetniki: 2. letnik (APM)\nIzvajalci: Jernej Mravlje\nProstor: F4
LOCATION:F4
ORGANIZER:Jernej Mravlje
RELATED-TO:fmf-AFLABS-URNIK:srecanje:17464
X-WR-TIMEZONE:Europe/Ljubljana
END:VEVENT
BEGIN:VEVENT
SUMMARY:Matematična orodja v fiziki (APM-2)\, Predavanja (P)
DTSTART;TZID=Europe/Ljubljana:20260223T140000
DTEND;TZID=Europe/Ljubljana:20260223T160000
DTSTAMP:20260425T142226Z
UID:fmf-AFLABS-URNIK:premaknjeno-srecanje:252296
ATTENDEE:2. letnik (APM)
CATEGORIES:Entry,Standard
COLOR:darkgreen
DESCRIPTION:Predmet: Matematična orodja v fiziki (APM-2)\, Predavanja (P)
 \nLetniki: 2. letnik (APM)\nIzvajalci: Jernej Mravlje\nProstor: F4
LOCATION:F4
ORGANIZER:Jernej Mravlje
RELATED-TO:fmf-AFLABS-URNIK:srecanje:17464
X-WR-TIMEZONE:Europe/Ljubljana
END:VEVENT
BEGIN:VEVENT
SUMMARY:Matematična orodja v fiziki (APM-2)\, Predavanja (P)
DTSTART;TZID=Europe/Ljubljana:20260302T140000
DTEND;TZID=Europe/Ljubljana:20260302T160000
DTSTAMP:20260425T142226Z
UID:fmf-AFLABS-URNIK:premaknjeno-srecanje:252297
ATTENDEE:2. letnik (APM)
CATEGORIES:Entry,Standard
COLOR:darkgreen
DESCRIPTION:Predmet: Matematična orodja v fiziki (APM-2)\, Predavanja (P)
 \nLetniki: 2. letnik (APM)\nIzvajalci: Jernej Mravlje\nProstor: F4
LOCATION:F4
ORGANIZER:Jernej Mravlje
RELATED-TO:fmf-AFLABS-URNIK:srecanje:17464
X-WR-TIMEZONE:Europe/Ljubljana
END:VEVENT
BEGIN:VEVENT
SUMMARY:Matematična orodja v fiziki (APM-2)\, Predavanja (P)
DTSTART;TZID=Europe/Ljubljana:20260309T140000
DTEND;TZID=Europe/Ljubljana:20260309T160000
DTSTAMP:20260425T142226Z
UID:fmf-AFLABS-URNIK:premaknjeno-srecanje:252298
ATTENDEE:2. letnik (APM)
CATEGORIES:Entry,Standard
COLOR:darkgreen
DESCRIPTION:Predmet: Matematična orodja v fiziki (APM-2)\, Predavanja (P)
 \nLetniki: 2. letnik (APM)\nIzvajalci: Jernej Mravlje\nProstor: F4
LOCATION:F4
ORGANIZER:Jernej Mravlje
RELATED-TO:fmf-AFLABS-URNIK:srecanje:17464
X-WR-TIMEZONE:Europe/Ljubljana
END:VEVENT
BEGIN:VEVENT
SUMMARY:Matematična orodja v fiziki (APM-2)\, Predavanja (P)
DTSTART;TZID=Europe/Ljubljana:20260316T140000
DTEND;TZID=Europe/Ljubljana:20260316T160000
DTSTAMP:20260425T142226Z
UID:fmf-AFLABS-URNIK:premaknjeno-srecanje:252299
ATTENDEE:2. letnik (APM)
CATEGORIES:Entry,Standard
COLOR:darkgreen
DESCRIPTION:Predmet: Matematična orodja v fiziki (APM-2)\, Predavanja (P)
 \nLetniki: 2. letnik (APM)\nIzvajalci: Jernej Mravlje\nProstor: F4
LOCATION:F4
ORGANIZER:Jernej Mravlje
RELATED-TO:fmf-AFLABS-URNIK:srecanje:17464
X-WR-TIMEZONE:Europe/Ljubljana
END:VEVENT
BEGIN:VEVENT
SUMMARY:Matematična orodja v fiziki (APM-2)\, Predavanja (P)
DTSTART;TZID=Europe/Ljubljana:20260323T140000
DTEND;TZID=Europe/Ljubljana:20260323T160000
DTSTAMP:20260425T142226Z
UID:fmf-AFLABS-URNIK:premaknjeno-srecanje:252300
ATTENDEE:2. letnik (APM)
CATEGORIES:Entry,Standard
COLOR:darkgreen
DESCRIPTION:Predmet: Matematična orodja v fiziki (APM-2)\, Predavanja (P)
 \nLetniki: 2. letnik (APM)\nIzvajalci: Jernej Mravlje\nProstor: F4
LOCATION:F4
ORGANIZER:Jernej Mravlje
RELATED-TO:fmf-AFLABS-URNIK:srecanje:17464
X-WR-TIMEZONE:Europe/Ljubljana
END:VEVENT
BEGIN:VEVENT
SUMMARY:Matematična orodja v fiziki (APM-2)\, Predavanja (P)
DTSTART;TZID=Europe/Ljubljana:20260330T140000
DTEND;TZID=Europe/Ljubljana:20260330T160000
DTSTAMP:20260425T142226Z
UID:fmf-AFLABS-URNIK:premaknjeno-srecanje:252301
ATTENDEE:2. letnik (APM)
CATEGORIES:Entry,Standard
COLOR:darkgreen
DESCRIPTION:Predmet: Matematična orodja v fiziki (APM-2)\, Predavanja (P)
 \nLetniki: 2. letnik (APM)\nIzvajalci: Jernej Mravlje\nProstor: F4
LOCATION:F4
ORGANIZER:Jernej Mravlje
RELATED-TO:fmf-AFLABS-URNIK:srecanje:17464
X-WR-TIMEZONE:Europe/Ljubljana
END:VEVENT
BEGIN:VEVENT
SUMMARY:Matematična orodja v fiziki (APM-2)\, Predavanja (P)
DTSTART;TZID=Europe/Ljubljana:20260413T140000
DTEND;TZID=Europe/Ljubljana:20260413T160000
DTSTAMP:20260425T142226Z
UID:fmf-AFLABS-URNIK:premaknjeno-srecanje:252302
ATTENDEE:2. letnik (APM)
CATEGORIES:Entry,Standard
COLOR:darkgreen
DESCRIPTION:Predmet: Matematična orodja v fiziki (APM-2)\, Predavanja (P)
 \nLetniki: 2. letnik (APM)\nIzvajalci: Jernej Mravlje\nProstor: F4
LOCATION:F4
ORGANIZER:Jernej Mravlje
RELATED-TO:fmf-AFLABS-URNIK:srecanje:17464
X-WR-TIMEZONE:Europe/Ljubljana
END:VEVENT
BEGIN:VEVENT
SUMMARY:Matematična orodja v fiziki (APM-2)\, Predavanja (P)
DTSTART;TZID=Europe/Ljubljana:20260420T140000
DTEND;TZID=Europe/Ljubljana:20260420T160000
DTSTAMP:20260425T142226Z
UID:fmf-AFLABS-URNIK:premaknjeno-srecanje:252303
ATTENDEE:2. letnik (APM)
CATEGORIES:Entry,Standard
COLOR:darkgreen
DESCRIPTION:Predmet: Matematična orodja v fiziki (APM-2)\, Predavanja (P)
 \nLetniki: 2. letnik (APM)\nIzvajalci: Jernej Mravlje\nProstor: F4
LOCATION:F4
ORGANIZER:Jernej Mravlje
RELATED-TO:fmf-AFLABS-URNIK:srecanje:17464
X-WR-TIMEZONE:Europe/Ljubljana
END:VEVENT
BEGIN:VEVENT
SUMMARY:Matematična orodja v fiziki (APM-2)\, Predavanja (P)
DTSTART;TZID=Europe/Ljubljana:20260504T140000
DTEND;TZID=Europe/Ljubljana:20260504T160000
DTSTAMP:20260425T142226Z
UID:fmf-AFLABS-URNIK:premaknjeno-srecanje:252304
ATTENDEE:2. letnik (APM)
CATEGORIES:Entry,Standard
COLOR:darkgreen
DESCRIPTION:Predmet: Matematična orodja v fiziki (APM-2)\, Predavanja (P)
 \nLetniki: 2. letnik (APM)\nIzvajalci: Jernej Mravlje\nProstor: F4
LOCATION:F4
ORGANIZER:Jernej Mravlje
RELATED-TO:fmf-AFLABS-URNIK:srecanje:17464
X-WR-TIMEZONE:Europe/Ljubljana
END:VEVENT
BEGIN:VEVENT
SUMMARY:Matematična orodja v fiziki (APM-2)\, Predavanja (P)
DTSTART;TZID=Europe/Ljubljana:20260511T140000
DTEND;TZID=Europe/Ljubljana:20260511T160000
DTSTAMP:20260425T142226Z
UID:fmf-AFLABS-URNIK:premaknjeno-srecanje:252305
ATTENDEE:2. letnik (APM)
CATEGORIES:Entry,Standard
COLOR:darkgreen
DESCRIPTION:Predmet: Matematična orodja v fiziki (APM-2)\, Predavanja (P)
 \nLetniki: 2. letnik (APM)\nIzvajalci: Jernej Mravlje\nProstor: F4
LOCATION:F4
ORGANIZER:Jernej Mravlje
RELATED-TO:fmf-AFLABS-URNIK:srecanje:17464
X-WR-TIMEZONE:Europe/Ljubljana
END:VEVENT
BEGIN:VEVENT
SUMMARY:Matematična orodja v fiziki (APM-2)\, Predavanja (P)
DTSTART;TZID=Europe/Ljubljana:20260518T140000
DTEND;TZID=Europe/Ljubljana:20260518T160000
DTSTAMP:20260425T142226Z
UID:fmf-AFLABS-URNIK:premaknjeno-srecanje:252306
ATTENDEE:2. letnik (APM)
CATEGORIES:Entry,Standard
COLOR:darkgreen
DESCRIPTION:Predmet: Matematična orodja v fiziki (APM-2)\, Predavanja (P)
 \nLetniki: 2. letnik (APM)\nIzvajalci: Jernej Mravlje\nProstor: F4
LOCATION:F4
ORGANIZER:Jernej Mravlje
RELATED-TO:fmf-AFLABS-URNIK:srecanje:17464
X-WR-TIMEZONE:Europe/Ljubljana
END:VEVENT
BEGIN:VEVENT
SUMMARY:Matematična orodja v fiziki (APM-2)\, Predavanja (P)
DTSTART;TZID=Europe/Ljubljana:20260525T140000
DTEND;TZID=Europe/Ljubljana:20260525T160000
DTSTAMP:20260425T142226Z
UID:fmf-AFLABS-URNIK:premaknjeno-srecanje:252307
ATTENDEE:2. letnik (APM)
CATEGORIES:Entry,Standard
COLOR:darkgreen
DESCRIPTION:Predmet: Matematična orodja v fiziki (APM-2)\, Predavanja (P)
 \nLetniki: 2. letnik (APM)\nIzvajalci: Jernej Mravlje\nProstor: F4
LOCATION:F4
ORGANIZER:Jernej Mravlje
RELATED-TO:fmf-AFLABS-URNIK:srecanje:17464
X-WR-TIMEZONE:Europe/Ljubljana
END:VEVENT
BEGIN:VEVENT
SUMMARY:Matematična orodja v fiziki (APM-2)\, Predavanja (P)
DTSTART;TZID=Europe/Ljubljana:20260601T140000
DTEND;TZID=Europe/Ljubljana:20260601T160000
DTSTAMP:20260425T142226Z
UID:fmf-AFLABS-URNIK:premaknjeno-srecanje:252308
ATTENDEE:2. letnik (APM)
CATEGORIES:Entry,Standard
COLOR:darkgreen
DESCRIPTION:Predmet: Matematična orodja v fiziki (APM-2)\, Predavanja (P)
 \nLetniki: 2. letnik (APM)\nIzvajalci: Jernej Mravlje\nProstor: F4
LOCATION:F4
ORGANIZER:Jernej Mravlje
RELATED-TO:fmf-AFLABS-URNIK:srecanje:17464
X-WR-TIMEZONE:Europe/Ljubljana
END:VEVENT
BEGIN:VEVENT
SUMMARY:Nanofizika (FIZ-M1\, FIZ-M2)\, Predavanja (P)
DTSTART;TZID=Europe/Ljubljana:20260218T080000
DTEND;TZID=Europe/Ljubljana:20260218T100000
DTSTAMP:20260425T142226Z
UID:fmf-AFLABS-URNIK:premaknjeno-srecanje:250632
ATTENDEE:1. letnik (Fizika, 2. stopnja)
ATTENDEE:2. letnik (Fizika, 2. stopnja)
CATEGORIES:Entry,Standard
COLOR:darkgreen
DESCRIPTION:Predmet: Nanofizika (FIZ-M1\, FIZ-M2)\, Predavanja (P)\nLetnik
 i: 1. letnik (Fizika\, 2. stopnja)\, 2. letnik (Fizika\, 2. stopnja)\nIzva
 jalci: Jernej Mravlje\nProstor: P.02
LOCATION:P.02
ORGANIZER:Jernej Mravlje
RELATED-TO:fmf-AFLABS-URNIK:srecanje:17174
X-WR-TIMEZONE:Europe/Ljubljana
END:VEVENT
BEGIN:VEVENT
SUMMARY:Nanofizika (FIZ-M1\, FIZ-M2)\, Predavanja (P)
DTSTART;TZID=Europe/Ljubljana:20260225T080000
DTEND;TZID=Europe/Ljubljana:20260225T100000
DTSTAMP:20260425T142226Z
UID:fmf-AFLABS-URNIK:premaknjeno-srecanje:250633
ATTENDEE:1. letnik (Fizika, 2. stopnja)
ATTENDEE:2. letnik (Fizika, 2. stopnja)
CATEGORIES:Entry,Standard
COLOR:darkgreen
DESCRIPTION:Predmet: Nanofizika (FIZ-M1\, FIZ-M2)\, Predavanja (P)\nLetnik
 i: 1. letnik (Fizika\, 2. stopnja)\, 2. letnik (Fizika\, 2. stopnja)\nIzva
 jalci: Jernej Mravlje\nProstor: P.02
LOCATION:P.02
ORGANIZER:Jernej Mravlje
RELATED-TO:fmf-AFLABS-URNIK:srecanje:17174
X-WR-TIMEZONE:Europe/Ljubljana
END:VEVENT
BEGIN:VEVENT
SUMMARY:Nanofizika (FIZ-M1\, FIZ-M2)\, Predavanja (P)
DTSTART;TZID=Europe/Ljubljana:20260304T080000
DTEND;TZID=Europe/Ljubljana:20260304T100000
DTSTAMP:20260425T142226Z
UID:fmf-AFLABS-URNIK:premaknjeno-srecanje:250634
ATTENDEE:1. letnik (Fizika, 2. stopnja)
ATTENDEE:2. letnik (Fizika, 2. stopnja)
CATEGORIES:Entry,Standard
COLOR:darkgreen
DESCRIPTION:Predmet: Nanofizika (FIZ-M1\, FIZ-M2)\, Predavanja (P)\nLetnik
 i: 1. letnik (Fizika\, 2. stopnja)\, 2. letnik (Fizika\, 2. stopnja)\nIzva
 jalci: Jernej Mravlje\nProstor: P.02
LOCATION:P.02
ORGANIZER:Jernej Mravlje
RELATED-TO:fmf-AFLABS-URNIK:srecanje:17174
X-WR-TIMEZONE:Europe/Ljubljana
END:VEVENT
BEGIN:VEVENT
SUMMARY:Nanofizika (FIZ-M1\, FIZ-M2)\, Predavanja (P)
DTSTART;TZID=Europe/Ljubljana:20260311T080000
DTEND;TZID=Europe/Ljubljana:20260311T100000
DTSTAMP:20260425T142226Z
UID:fmf-AFLABS-URNIK:premaknjeno-srecanje:250635
ATTENDEE:1. letnik (Fizika, 2. stopnja)
ATTENDEE:2. letnik (Fizika, 2. stopnja)
CATEGORIES:Entry,Standard
COLOR:darkgreen
DESCRIPTION:Predmet: Nanofizika (FIZ-M1\, FIZ-M2)\, Predavanja (P)\nLetnik
 i: 1. letnik (Fizika\, 2. stopnja)\, 2. letnik (Fizika\, 2. stopnja)\nIzva
 jalci: Jernej Mravlje\nProstor: P.02
LOCATION:P.02
ORGANIZER:Jernej Mravlje
RELATED-TO:fmf-AFLABS-URNIK:srecanje:17174
X-WR-TIMEZONE:Europe/Ljubljana
END:VEVENT
BEGIN:VEVENT
SUMMARY:Nanofizika (FIZ-M1\, FIZ-M2)\, Predavanja (P)
DTSTART;TZID=Europe/Ljubljana:20260318T080000
DTEND;TZID=Europe/Ljubljana:20260318T100000
DTSTAMP:20260425T142226Z
UID:fmf-AFLABS-URNIK:premaknjeno-srecanje:250636
ATTENDEE:1. letnik (Fizika, 2. stopnja)
ATTENDEE:2. letnik (Fizika, 2. stopnja)
CATEGORIES:Entry,Standard
COLOR:darkgreen
DESCRIPTION:Predmet: Nanofizika (FIZ-M1\, FIZ-M2)\, Predavanja (P)\nLetnik
 i: 1. letnik (Fizika\, 2. stopnja)\, 2. letnik (Fizika\, 2. stopnja)\nIzva
 jalci: Jernej Mravlje\nProstor: P.02
LOCATION:P.02
ORGANIZER:Jernej Mravlje
RELATED-TO:fmf-AFLABS-URNIK:srecanje:17174
X-WR-TIMEZONE:Europe/Ljubljana
END:VEVENT
BEGIN:VEVENT
SUMMARY:Nanofizika (FIZ-M1\, FIZ-M2)\, Predavanja (P)
DTSTART;TZID=Europe/Ljubljana:20260325T080000
DTEND;TZID=Europe/Ljubljana:20260325T100000
DTSTAMP:20260425T142226Z
UID:fmf-AFLABS-URNIK:premaknjeno-srecanje:250637
ATTENDEE:1. letnik (Fizika, 2. stopnja)
ATTENDEE:2. letnik (Fizika, 2. stopnja)
CATEGORIES:Entry,Standard
COLOR:darkgreen
DESCRIPTION:Predmet: Nanofizika (FIZ-M1\, FIZ-M2)\, Predavanja (P)\nLetnik
 i: 1. letnik (Fizika\, 2. stopnja)\, 2. letnik (Fizika\, 2. stopnja)\nIzva
 jalci: Jernej Mravlje\nProstor: P.02
LOCATION:P.02
ORGANIZER:Jernej Mravlje
RELATED-TO:fmf-AFLABS-URNIK:srecanje:17174
X-WR-TIMEZONE:Europe/Ljubljana
END:VEVENT
BEGIN:VEVENT
SUMMARY:Nanofizika (FIZ-M1\, FIZ-M2)\, Predavanja (P)
DTSTART;TZID=Europe/Ljubljana:20260401T080000
DTEND;TZID=Europe/Ljubljana:20260401T100000
DTSTAMP:20260425T142226Z
UID:fmf-AFLABS-URNIK:premaknjeno-srecanje:250638
ATTENDEE:1. letnik (Fizika, 2. stopnja)
ATTENDEE:2. letnik (Fizika, 2. stopnja)
CATEGORIES:Entry,Standard
COLOR:darkgreen
DESCRIPTION:Predmet: Nanofizika (FIZ-M1\, FIZ-M2)\, Predavanja (P)\nLetnik
 i: 1. letnik (Fizika\, 2. stopnja)\, 2. letnik (Fizika\, 2. stopnja)\nIzva
 jalci: Jernej Mravlje\nProstor: P.02
LOCATION:P.02
ORGANIZER:Jernej Mravlje
RELATED-TO:fmf-AFLABS-URNIK:srecanje:17174
X-WR-TIMEZONE:Europe/Ljubljana
END:VEVENT
BEGIN:VEVENT
SUMMARY:Nanofizika (FIZ-M1\, FIZ-M2)\, Predavanja (P)
DTSTART;TZID=Europe/Ljubljana:20260408T080000
DTEND;TZID=Europe/Ljubljana:20260408T100000
DTSTAMP:20260425T142226Z
UID:fmf-AFLABS-URNIK:premaknjeno-srecanje:250639
ATTENDEE:1. letnik (Fizika, 2. stopnja)
ATTENDEE:2. letnik (Fizika, 2. stopnja)
CATEGORIES:Entry,Standard
COLOR:darkgreen
DESCRIPTION:Predmet: Nanofizika (FIZ-M1\, FIZ-M2)\, Predavanja (P)\nLetnik
 i: 1. letnik (Fizika\, 2. stopnja)\, 2. letnik (Fizika\, 2. stopnja)\nIzva
 jalci: Jernej Mravlje\nProstor: P.02
LOCATION:P.02
ORGANIZER:Jernej Mravlje
RELATED-TO:fmf-AFLABS-URNIK:srecanje:17174
X-WR-TIMEZONE:Europe/Ljubljana
END:VEVENT
BEGIN:VEVENT
SUMMARY:Nanofizika (FIZ-M1\, FIZ-M2)\, Predavanja (P)
DTSTART;TZID=Europe/Ljubljana:20260415T080000
DTEND;TZID=Europe/Ljubljana:20260415T100000
DTSTAMP:20260425T142226Z
UID:fmf-AFLABS-URNIK:premaknjeno-srecanje:250640
ATTENDEE:1. letnik (Fizika, 2. stopnja)
ATTENDEE:2. letnik (Fizika, 2. stopnja)
CATEGORIES:Entry,Standard
COLOR:darkgreen
DESCRIPTION:Predmet: Nanofizika (FIZ-M1\, FIZ-M2)\, Predavanja (P)\nLetnik
 i: 1. letnik (Fizika\, 2. stopnja)\, 2. letnik (Fizika\, 2. stopnja)\nIzva
 jalci: Jernej Mravlje\nProstor: P.02
LOCATION:P.02
ORGANIZER:Jernej Mravlje
RELATED-TO:fmf-AFLABS-URNIK:srecanje:17174
X-WR-TIMEZONE:Europe/Ljubljana
END:VEVENT
BEGIN:VEVENT
SUMMARY:Nanofizika (FIZ-M1\, FIZ-M2)\, Predavanja (P)
DTSTART;TZID=Europe/Ljubljana:20260422T080000
DTEND;TZID=Europe/Ljubljana:20260422T100000
DTSTAMP:20260425T142226Z
UID:fmf-AFLABS-URNIK:premaknjeno-srecanje:250641
ATTENDEE:1. letnik (Fizika, 2. stopnja)
ATTENDEE:2. letnik (Fizika, 2. stopnja)
CATEGORIES:Entry,Standard
COLOR:darkgreen
DESCRIPTION:Predmet: Nanofizika (FIZ-M1\, FIZ-M2)\, Predavanja (P)\nLetnik
 i: 1. letnik (Fizika\, 2. stopnja)\, 2. letnik (Fizika\, 2. stopnja)\nIzva
 jalci: Jernej Mravlje\nProstor: P.02
LOCATION:P.02
ORGANIZER:Jernej Mravlje
RELATED-TO:fmf-AFLABS-URNIK:srecanje:17174
X-WR-TIMEZONE:Europe/Ljubljana
END:VEVENT
BEGIN:VEVENT
SUMMARY:Nanofizika (FIZ-M1\, FIZ-M2)\, Predavanja (P)
DTSTART;TZID=Europe/Ljubljana:20260429T080000
DTEND;TZID=Europe/Ljubljana:20260429T100000
DTSTAMP:20260425T142226Z
UID:fmf-AFLABS-URNIK:premaknjeno-srecanje:250642
ATTENDEE:1. letnik (Fizika, 2. stopnja)
ATTENDEE:2. letnik (Fizika, 2. stopnja)
CATEGORIES:Entry,Standard
COLOR:darkgreen
DESCRIPTION:Predmet: Nanofizika (FIZ-M1\, FIZ-M2)\, Predavanja (P)\nLetnik
 i: 1. letnik (Fizika\, 2. stopnja)\, 2. letnik (Fizika\, 2. stopnja)\nIzva
 jalci: Jernej Mravlje\nProstor: P.02
LOCATION:P.02
ORGANIZER:Jernej Mravlje
RELATED-TO:fmf-AFLABS-URNIK:srecanje:17174
X-WR-TIMEZONE:Europe/Ljubljana
END:VEVENT
BEGIN:VEVENT
SUMMARY:Nanofizika (FIZ-M1\, FIZ-M2)\, Predavanja (P)
DTSTART;TZID=Europe/Ljubljana:20260506T080000
DTEND;TZID=Europe/Ljubljana:20260506T100000
DTSTAMP:20260425T142226Z
UID:fmf-AFLABS-URNIK:premaknjeno-srecanje:250643
ATTENDEE:1. letnik (Fizika, 2. stopnja)
ATTENDEE:2. letnik (Fizika, 2. stopnja)
CATEGORIES:Entry,Standard
COLOR:darkgreen
DESCRIPTION:Predmet: Nanofizika (FIZ-M1\, FIZ-M2)\, Predavanja (P)\nLetnik
 i: 1. letnik (Fizika\, 2. stopnja)\, 2. letnik (Fizika\, 2. stopnja)\nIzva
 jalci: Jernej Mravlje\nProstor: P.02
LOCATION:P.02
ORGANIZER:Jernej Mravlje
RELATED-TO:fmf-AFLABS-URNIK:srecanje:17174
X-WR-TIMEZONE:Europe/Ljubljana
END:VEVENT
BEGIN:VEVENT
SUMMARY:Nanofizika (FIZ-M1\, FIZ-M2)\, Predavanja (P)
DTSTART;TZID=Europe/Ljubljana:20260513T080000
DTEND;TZID=Europe/Ljubljana:20260513T100000
DTSTAMP:20260425T142226Z
UID:fmf-AFLABS-URNIK:premaknjeno-srecanje:250644
ATTENDEE:1. letnik (Fizika, 2. stopnja)
ATTENDEE:2. letnik (Fizika, 2. stopnja)
CATEGORIES:Entry,Standard
COLOR:darkgreen
DESCRIPTION:Predmet: Nanofizika (FIZ-M1\, FIZ-M2)\, Predavanja (P)\nLetnik
 i: 1. letnik (Fizika\, 2. stopnja)\, 2. letnik (Fizika\, 2. stopnja)\nIzva
 jalci: Jernej Mravlje\nProstor: P.02
LOCATION:P.02
ORGANIZER:Jernej Mravlje
RELATED-TO:fmf-AFLABS-URNIK:srecanje:17174
X-WR-TIMEZONE:Europe/Ljubljana
END:VEVENT
BEGIN:VEVENT
SUMMARY:Nanofizika (FIZ-M1\, FIZ-M2)\, Predavanja (P)
DTSTART;TZID=Europe/Ljubljana:20260520T080000
DTEND;TZID=Europe/Ljubljana:20260520T100000
DTSTAMP:20260425T142226Z
UID:fmf-AFLABS-URNIK:premaknjeno-srecanje:250645
ATTENDEE:1. letnik (Fizika, 2. stopnja)
ATTENDEE:2. letnik (Fizika, 2. stopnja)
CATEGORIES:Entry,Standard
COLOR:darkgreen
DESCRIPTION:Predmet: Nanofizika (FIZ-M1\, FIZ-M2)\, Predavanja (P)\nLetnik
 i: 1. letnik (Fizika\, 2. stopnja)\, 2. letnik (Fizika\, 2. stopnja)\nIzva
 jalci: Jernej Mravlje\nProstor: P.02
LOCATION:P.02
ORGANIZER:Jernej Mravlje
RELATED-TO:fmf-AFLABS-URNIK:srecanje:17174
X-WR-TIMEZONE:Europe/Ljubljana
END:VEVENT
BEGIN:VEVENT
SUMMARY:Nanofizika (FIZ-M1\, FIZ-M2)\, Predavanja (P)
DTSTART;TZID=Europe/Ljubljana:20260527T080000
DTEND;TZID=Europe/Ljubljana:20260527T100000
DTSTAMP:20260425T142226Z
UID:fmf-AFLABS-URNIK:premaknjeno-srecanje:250646
ATTENDEE:1. letnik (Fizika, 2. stopnja)
ATTENDEE:2. letnik (Fizika, 2. stopnja)
CATEGORIES:Entry,Standard
COLOR:darkgreen
DESCRIPTION:Predmet: Nanofizika (FIZ-M1\, FIZ-M2)\, Predavanja (P)\nLetnik
 i: 1. letnik (Fizika\, 2. stopnja)\, 2. letnik (Fizika\, 2. stopnja)\nIzva
 jalci: Jernej Mravlje\nProstor: P.02
LOCATION:P.02
ORGANIZER:Jernej Mravlje
RELATED-TO:fmf-AFLABS-URNIK:srecanje:17174
X-WR-TIMEZONE:Europe/Ljubljana
END:VEVENT
BEGIN:VEVENT
SUMMARY:Nanofizika (FIZ-M1\, FIZ-M2)\, Predavanja (P)
DTSTART;TZID=Europe/Ljubljana:20260603T080000
DTEND;TZID=Europe/Ljubljana:20260603T100000
DTSTAMP:20260425T142226Z
UID:fmf-AFLABS-URNIK:premaknjeno-srecanje:250647
ATTENDEE:1. letnik (Fizika, 2. stopnja)
ATTENDEE:2. letnik (Fizika, 2. stopnja)
CATEGORIES:Entry,Standard
COLOR:darkgreen
DESCRIPTION:Predmet: Nanofizika (FIZ-M1\, FIZ-M2)\, Predavanja (P)\nLetnik
 i: 1. letnik (Fizika\, 2. stopnja)\, 2. letnik (Fizika\, 2. stopnja)\nIzva
 jalci: Jernej Mravlje\nProstor: P.02
LOCATION:P.02
ORGANIZER:Jernej Mravlje
RELATED-TO:fmf-AFLABS-URNIK:srecanje:17174
X-WR-TIMEZONE:Europe/Ljubljana
END:VEVENT
BEGIN:VEVENT
SUMMARY:Matematična orodja v fiziki (APM-2)\, Predavanja (P)
DTSTART;TZID=Europe/Ljubljana:20260601T080000
DTEND;TZID=Europe/Ljubljana:20260601T100000
DTSTAMP:20260425T142226Z
UID:fmf-AFLABS-URNIK:premaknjeno-srecanje:247183
ATTENDEE:2. letnik (APM)
CATEGORIES:Entry,Standard
COLOR:darkgreen
DESCRIPTION:Predmet: Matematična orodja v fiziki (APM-2)\, Predavanja (P)
 \nLetniki: 2. letnik (APM)\nIzvajalci: Jernej Mravlje\nProstor: 3.04
LOCATION:3.04
ORGANIZER:Jernej Mravlje
RELATED-TO:fmf-AFLABS-URNIK:srecanje:17463
X-WR-TIMEZONE:Europe/Ljubljana
END:VEVENT
END:VCALENDAR
