BEGIN:VCALENDAR
VERSION:2.0
PRODID:-//AFLabs urnik izvoz - fmf//aflabs.si//SI
DTSTAMP:20260425T160026Z
NAME:UL FMF urnik
REFRESH-INTERVAL:PT1H
SOURCE:https://urnik.fmf.uni-lj.si/teacher/407?day=2020-03-02&export=1
URL:https://urnik.fmf.uni-lj.si/teacher/407?day=2020-03-02&export=1
X-PUBLISHED-TTL:PT1H
X-WR-CALNAME:UL FMF urnik
X-WR-TIMEZONE:Europe/Ljubljana
BEGIN:VTIMEZONE
TZID:Europe/Ljubljana
BEGIN:DAYLIGHT
DTSTART:20260329T020000
RDATE:20260329T020000
RDATE:20270328T020000
TZNAME:CEST
TZOFFSETFROM:+0100
TZOFFSETTO:+0200
END:DAYLIGHT
BEGIN:STANDARD
DTSTART:20261025T030000
RDATE:20261025T030000
RDATE:20271031T030000
TZNAME:CET
TZOFFSETFROM:+0200
TZOFFSETTO:+0100
END:STANDARD
END:VTIMEZONE
BEGIN:VEVENT
SUMMARY:Seminar (FIZ-3)\, Seminar (S)\, [2]
DTSTART;TZID=Europe/Ljubljana:20200219T080000
DTEND;TZID=Europe/Ljubljana:20200219T100000
DTSTAMP:20260425T160026Z
UID:fmf-AFLABS-URNIK:premaknjeno-srecanje:100943
ATTENDEE:3. letnik (Fizika, 1. stopnja)
CATEGORIES:Entry,Standard
COLOR:darkgreen
DESCRIPTION:Predmet: Seminar (FIZ-3)\, Seminar (S)\, [2]\nLetniki: 3. letn
 ik (Fizika\, 1. stopnja)\nIzvajalci: Jernej Fesel Kamenik\nProstor: F4
LOCATION:F4
ORGANIZER:Jernej Fesel Kamenik
RELATED-TO:fmf-AFLABS-URNIK:srecanje:4437
X-WR-TIMEZONE:Europe/Ljubljana
END:VEVENT
BEGIN:VEVENT
SUMMARY:Seminar (FIZ-3)\, Seminar (S)\, [2]
DTSTART;TZID=Europe/Ljubljana:20200226T080000
DTEND;TZID=Europe/Ljubljana:20200226T100000
DTSTAMP:20260425T160026Z
UID:fmf-AFLABS-URNIK:premaknjeno-srecanje:100944
ATTENDEE:3. letnik (Fizika, 1. stopnja)
CATEGORIES:Entry,Standard
COLOR:darkgreen
DESCRIPTION:Predmet: Seminar (FIZ-3)\, Seminar (S)\, [2]\nLetniki: 3. letn
 ik (Fizika\, 1. stopnja)\nIzvajalci: Jernej Fesel Kamenik\nProstor: F4
LOCATION:F4
ORGANIZER:Jernej Fesel Kamenik
RELATED-TO:fmf-AFLABS-URNIK:srecanje:4437
X-WR-TIMEZONE:Europe/Ljubljana
END:VEVENT
BEGIN:VEVENT
SUMMARY:Seminar (FIZ-3)\, Seminar (S)\, [2]
DTSTART;TZID=Europe/Ljubljana:20200304T080000
DTEND;TZID=Europe/Ljubljana:20200304T100000
DTSTAMP:20260425T160026Z
UID:fmf-AFLABS-URNIK:premaknjeno-srecanje:100945
ATTENDEE:3. letnik (Fizika, 1. stopnja)
CATEGORIES:Entry,Standard
COLOR:darkgreen
DESCRIPTION:Predmet: Seminar (FIZ-3)\, Seminar (S)\, [2]\nLetniki: 3. letn
 ik (Fizika\, 1. stopnja)\nIzvajalci: Jernej Fesel Kamenik\nProstor: F4
LOCATION:F4
ORGANIZER:Jernej Fesel Kamenik
RELATED-TO:fmf-AFLABS-URNIK:srecanje:4437
X-WR-TIMEZONE:Europe/Ljubljana
END:VEVENT
BEGIN:VEVENT
SUMMARY:Seminar (FIZ-3)\, Seminar (S)\, [2]
DTSTART;TZID=Europe/Ljubljana:20200311T080000
DTEND;TZID=Europe/Ljubljana:20200311T100000
DTSTAMP:20260425T160026Z
UID:fmf-AFLABS-URNIK:premaknjeno-srecanje:100946
ATTENDEE:3. letnik (Fizika, 1. stopnja)
CATEGORIES:Entry,Standard
COLOR:darkgreen
DESCRIPTION:Predmet: Seminar (FIZ-3)\, Seminar (S)\, [2]\nLetniki: 3. letn
 ik (Fizika\, 1. stopnja)\nIzvajalci: Jernej Fesel Kamenik\nProstor: F4
LOCATION:F4
ORGANIZER:Jernej Fesel Kamenik
RELATED-TO:fmf-AFLABS-URNIK:srecanje:4437
X-WR-TIMEZONE:Europe/Ljubljana
END:VEVENT
BEGIN:VEVENT
SUMMARY:Seminar (FIZ-3)\, Seminar (S)\, [2]
DTSTART;TZID=Europe/Ljubljana:20200318T080000
DTEND;TZID=Europe/Ljubljana:20200318T100000
DTSTAMP:20260425T160026Z
UID:fmf-AFLABS-URNIK:premaknjeno-srecanje:100947
ATTENDEE:3. letnik (Fizika, 1. stopnja)
CATEGORIES:Entry,Standard
COLOR:darkgreen
DESCRIPTION:Predmet: Seminar (FIZ-3)\, Seminar (S)\, [2]\nLetniki: 3. letn
 ik (Fizika\, 1. stopnja)\nIzvajalci: Jernej Fesel Kamenik\nProstor: F4
LOCATION:F4
ORGANIZER:Jernej Fesel Kamenik
RELATED-TO:fmf-AFLABS-URNIK:srecanje:4437
X-WR-TIMEZONE:Europe/Ljubljana
END:VEVENT
BEGIN:VEVENT
SUMMARY:Seminar (FIZ-3)\, Seminar (S)\, [2]
DTSTART;TZID=Europe/Ljubljana:20200325T080000
DTEND;TZID=Europe/Ljubljana:20200325T100000
DTSTAMP:20260425T160026Z
UID:fmf-AFLABS-URNIK:premaknjeno-srecanje:100948
ATTENDEE:3. letnik (Fizika, 1. stopnja)
CATEGORIES:Entry,Standard
COLOR:darkgreen
DESCRIPTION:Predmet: Seminar (FIZ-3)\, Seminar (S)\, [2]\nLetniki: 3. letn
 ik (Fizika\, 1. stopnja)\nIzvajalci: Jernej Fesel Kamenik\nProstor: F4
LOCATION:F4
ORGANIZER:Jernej Fesel Kamenik
RELATED-TO:fmf-AFLABS-URNIK:srecanje:4437
X-WR-TIMEZONE:Europe/Ljubljana
END:VEVENT
BEGIN:VEVENT
SUMMARY:Seminar (FIZ-3)\, Seminar (S)\, [2]
DTSTART;TZID=Europe/Ljubljana:20200401T080000
DTEND;TZID=Europe/Ljubljana:20200401T100000
DTSTAMP:20260425T160026Z
UID:fmf-AFLABS-URNIK:premaknjeno-srecanje:100949
ATTENDEE:3. letnik (Fizika, 1. stopnja)
CATEGORIES:Entry,Standard
COLOR:darkgreen
DESCRIPTION:Predmet: Seminar (FIZ-3)\, Seminar (S)\, [2]\nLetniki: 3. letn
 ik (Fizika\, 1. stopnja)\nIzvajalci: Jernej Fesel Kamenik\nProstor: F4
LOCATION:F4
ORGANIZER:Jernej Fesel Kamenik
RELATED-TO:fmf-AFLABS-URNIK:srecanje:4437
X-WR-TIMEZONE:Europe/Ljubljana
END:VEVENT
BEGIN:VEVENT
SUMMARY:Seminar (FIZ-3)\, Seminar (S)\, [2]
DTSTART;TZID=Europe/Ljubljana:20200408T080000
DTEND;TZID=Europe/Ljubljana:20200408T100000
DTSTAMP:20260425T160026Z
UID:fmf-AFLABS-URNIK:premaknjeno-srecanje:100950
ATTENDEE:3. letnik (Fizika, 1. stopnja)
CATEGORIES:Entry,Standard
COLOR:darkgreen
DESCRIPTION:Predmet: Seminar (FIZ-3)\, Seminar (S)\, [2]\nLetniki: 3. letn
 ik (Fizika\, 1. stopnja)\nIzvajalci: Jernej Fesel Kamenik\nProstor: F4
LOCATION:F4
ORGANIZER:Jernej Fesel Kamenik
RELATED-TO:fmf-AFLABS-URNIK:srecanje:4437
X-WR-TIMEZONE:Europe/Ljubljana
END:VEVENT
BEGIN:VEVENT
SUMMARY:Seminar (FIZ-3)\, Seminar (S)\, [2]
DTSTART;TZID=Europe/Ljubljana:20200415T080000
DTEND;TZID=Europe/Ljubljana:20200415T100000
DTSTAMP:20260425T160026Z
UID:fmf-AFLABS-URNIK:premaknjeno-srecanje:100951
ATTENDEE:3. letnik (Fizika, 1. stopnja)
CATEGORIES:Entry,Standard
COLOR:darkgreen
DESCRIPTION:Predmet: Seminar (FIZ-3)\, Seminar (S)\, [2]\nLetniki: 3. letn
 ik (Fizika\, 1. stopnja)\nIzvajalci: Jernej Fesel Kamenik\nProstor: F4
LOCATION:F4
ORGANIZER:Jernej Fesel Kamenik
RELATED-TO:fmf-AFLABS-URNIK:srecanje:4437
X-WR-TIMEZONE:Europe/Ljubljana
END:VEVENT
BEGIN:VEVENT
SUMMARY:Seminar (FIZ-3)\, Seminar (S)\, [2]
DTSTART;TZID=Europe/Ljubljana:20200422T080000
DTEND;TZID=Europe/Ljubljana:20200422T100000
DTSTAMP:20260425T160026Z
UID:fmf-AFLABS-URNIK:premaknjeno-srecanje:100952
ATTENDEE:3. letnik (Fizika, 1. stopnja)
CATEGORIES:Entry,Standard
COLOR:darkgreen
DESCRIPTION:Predmet: Seminar (FIZ-3)\, Seminar (S)\, [2]\nLetniki: 3. letn
 ik (Fizika\, 1. stopnja)\nIzvajalci: Jernej Fesel Kamenik\nProstor: F4
LOCATION:F4
ORGANIZER:Jernej Fesel Kamenik
RELATED-TO:fmf-AFLABS-URNIK:srecanje:4437
X-WR-TIMEZONE:Europe/Ljubljana
END:VEVENT
BEGIN:VEVENT
SUMMARY:Seminar (FIZ-3)\, Seminar (S)\, [2]
DTSTART;TZID=Europe/Ljubljana:20200429T080000
DTEND;TZID=Europe/Ljubljana:20200429T100000
DTSTAMP:20260425T160026Z
UID:fmf-AFLABS-URNIK:premaknjeno-srecanje:100953
ATTENDEE:3. letnik (Fizika, 1. stopnja)
CATEGORIES:Entry,Standard
COLOR:darkgreen
DESCRIPTION:Predmet: Seminar (FIZ-3)\, Seminar (S)\, [2]\nLetniki: 3. letn
 ik (Fizika\, 1. stopnja)\nIzvajalci: Jernej Fesel Kamenik\nProstor: F4
LOCATION:F4
ORGANIZER:Jernej Fesel Kamenik
RELATED-TO:fmf-AFLABS-URNIK:srecanje:4437
X-WR-TIMEZONE:Europe/Ljubljana
END:VEVENT
BEGIN:VEVENT
SUMMARY:Seminar (FIZ-3)\, Seminar (S)\, [2]
DTSTART;TZID=Europe/Ljubljana:20200506T080000
DTEND;TZID=Europe/Ljubljana:20200506T100000
DTSTAMP:20260425T160026Z
UID:fmf-AFLABS-URNIK:premaknjeno-srecanje:100954
ATTENDEE:3. letnik (Fizika, 1. stopnja)
CATEGORIES:Entry,Standard
COLOR:darkgreen
DESCRIPTION:Predmet: Seminar (FIZ-3)\, Seminar (S)\, [2]\nLetniki: 3. letn
 ik (Fizika\, 1. stopnja)\nIzvajalci: Jernej Fesel Kamenik\nProstor: F4
LOCATION:F4
ORGANIZER:Jernej Fesel Kamenik
RELATED-TO:fmf-AFLABS-URNIK:srecanje:4437
X-WR-TIMEZONE:Europe/Ljubljana
END:VEVENT
BEGIN:VEVENT
SUMMARY:Seminar (FIZ-3)\, Seminar (S)\, [2]
DTSTART;TZID=Europe/Ljubljana:20200513T080000
DTEND;TZID=Europe/Ljubljana:20200513T100000
DTSTAMP:20260425T160026Z
UID:fmf-AFLABS-URNIK:premaknjeno-srecanje:100955
ATTENDEE:3. letnik (Fizika, 1. stopnja)
CATEGORIES:Entry,Standard
COLOR:darkgreen
DESCRIPTION:Predmet: Seminar (FIZ-3)\, Seminar (S)\, [2]\nLetniki: 3. letn
 ik (Fizika\, 1. stopnja)\nIzvajalci: Jernej Fesel Kamenik\nProstor: F4
LOCATION:F4
ORGANIZER:Jernej Fesel Kamenik
RELATED-TO:fmf-AFLABS-URNIK:srecanje:4437
X-WR-TIMEZONE:Europe/Ljubljana
END:VEVENT
BEGIN:VEVENT
SUMMARY:Seminar (FIZ-3)\, Seminar (S)\, [2]
DTSTART;TZID=Europe/Ljubljana:20200520T080000
DTEND;TZID=Europe/Ljubljana:20200520T100000
DTSTAMP:20260425T160026Z
UID:fmf-AFLABS-URNIK:premaknjeno-srecanje:100956
ATTENDEE:3. letnik (Fizika, 1. stopnja)
CATEGORIES:Entry,Standard
COLOR:darkgreen
DESCRIPTION:Predmet: Seminar (FIZ-3)\, Seminar (S)\, [2]\nLetniki: 3. letn
 ik (Fizika\, 1. stopnja)\nIzvajalci: Jernej Fesel Kamenik\nProstor: F4
LOCATION:F4
ORGANIZER:Jernej Fesel Kamenik
RELATED-TO:fmf-AFLABS-URNIK:srecanje:4437
X-WR-TIMEZONE:Europe/Ljubljana
END:VEVENT
BEGIN:VEVENT
SUMMARY:Seminar (FIZ-3)\, Seminar (S)\, [2]
DTSTART;TZID=Europe/Ljubljana:20200527T080000
DTEND;TZID=Europe/Ljubljana:20200527T100000
DTSTAMP:20260425T160026Z
UID:fmf-AFLABS-URNIK:premaknjeno-srecanje:100957
ATTENDEE:3. letnik (Fizika, 1. stopnja)
CATEGORIES:Entry,Standard
COLOR:darkgreen
DESCRIPTION:Predmet: Seminar (FIZ-3)\, Seminar (S)\, [2]\nLetniki: 3. letn
 ik (Fizika\, 1. stopnja)\nIzvajalci: Jernej Fesel Kamenik\nProstor: F4
LOCATION:F4
ORGANIZER:Jernej Fesel Kamenik
RELATED-TO:fmf-AFLABS-URNIK:srecanje:4437
X-WR-TIMEZONE:Europe/Ljubljana
END:VEVENT
BEGIN:VEVENT
SUMMARY:Rezervacija
DTSTART;TZID=Europe/Ljubljana:20200529T110000
DTEND;TZID=Europe/Ljubljana:20200529T130000
DTSTAMP:20260425T160026Z
UID:fmf-AFLABS-URNIK:rezervacija:5376
ATTENDEE:1. letnik (Fizika, 2. stopnja)
CATEGORIES:Reservation
COLOR:royalblue
DESCRIPTION:Predmeti: Jedra\, kvarki in leptoni (FIZ-M1)\nLetniki: 1. letn
 ik (Fizika\, 2. stopnja)\nIzvajalci: Jernej Fesel Kamenik\nProstori: F6
LOCATION:F6
ORGANIZER:Jernej Fesel Kamenik
X-WR-TIMEZONE:Europe/Ljubljana
END:VEVENT
END:VCALENDAR
