BEGIN:VCALENDAR
VERSION:2.0
PRODID:-//AFLabs urnik izvoz - fmf//aflabs.si//SI
DTSTAMP:20260425T155434Z
NAME:UL FMF urnik
REFRESH-INTERVAL:PT1H
SOURCE:https://urnik.fmf.uni-lj.si/teacher/408?day=2022-01-10&export=1
URL:https://urnik.fmf.uni-lj.si/teacher/408?day=2022-01-10&export=1
X-PUBLISHED-TTL:PT1H
X-WR-CALNAME:UL FMF urnik
X-WR-TIMEZONE:Europe/Ljubljana
BEGIN:VTIMEZONE
TZID:Europe/Ljubljana
BEGIN:DAYLIGHT
DTSTART:20260329T020000
RDATE:20260329T020000
RDATE:20270328T020000
TZNAME:CEST
TZOFFSETFROM:+0100
TZOFFSETTO:+0200
END:DAYLIGHT
BEGIN:STANDARD
DTSTART:20261025T030000
RDATE:20261025T030000
RDATE:20271031T030000
TZNAME:CET
TZOFFSETFROM:+0200
TZOFFSETTO:+0100
END:STANDARD
END:VTIMEZONE
BEGIN:VEVENT
SUMMARY:Numerično modeliranje atmosfere (FIZ-M1\, FIZ-M2)\, Vaje (V)
DTSTART;TZID=Europe/Ljubljana:20211005T140000
DTEND;TZID=Europe/Ljubljana:20211005T170000
DTSTAMP:20260425T155434Z
UID:fmf-AFLABS-URNIK:premaknjeno-srecanje:78780
ATTENDEE:1. letnik (Fizika, 2. stopnja)
ATTENDEE:2. letnik (Fizika, 2. stopnja)
CATEGORIES:Entry,Standard
COLOR:darkgreen
DESCRIPTION:Predmet: Numerično modeliranje atmosfere (FIZ-M1\, FIZ-M2)\, 
 Vaje (V)\nLetniki: 1. letnik (Fizika\, 2. stopnja)\, 2. letnik (Fizika\, 2
 . stopnja)\nIzvajalci: Žiga Zaplotnik\nProstor: F6
LOCATION:F6
ORGANIZER:Žiga Zaplotnik
RELATED-TO:fmf-AFLABS-URNIK:srecanje:6737
X-WR-TIMEZONE:Europe/Ljubljana
END:VEVENT
BEGIN:VEVENT
SUMMARY:Numerično modeliranje atmosfere (FIZ-M1\, FIZ-M2)\, Vaje (V)
DTSTART;TZID=Europe/Ljubljana:20211012T140000
DTEND;TZID=Europe/Ljubljana:20211012T170000
DTSTAMP:20260425T155434Z
UID:fmf-AFLABS-URNIK:premaknjeno-srecanje:78781
ATTENDEE:1. letnik (Fizika, 2. stopnja)
ATTENDEE:2. letnik (Fizika, 2. stopnja)
CATEGORIES:Entry,Standard
COLOR:darkgreen
DESCRIPTION:Predmet: Numerično modeliranje atmosfere (FIZ-M1\, FIZ-M2)\, 
 Vaje (V)\nLetniki: 1. letnik (Fizika\, 2. stopnja)\, 2. letnik (Fizika\, 2
 . stopnja)\nIzvajalci: Žiga Zaplotnik\nProstor: F6
LOCATION:F6
ORGANIZER:Žiga Zaplotnik
RELATED-TO:fmf-AFLABS-URNIK:srecanje:6737
X-WR-TIMEZONE:Europe/Ljubljana
END:VEVENT
BEGIN:VEVENT
SUMMARY:Numerično modeliranje atmosfere (FIZ-M1\, FIZ-M2)\, Vaje (V)
DTSTART;TZID=Europe/Ljubljana:20211019T140000
DTEND;TZID=Europe/Ljubljana:20211019T170000
DTSTAMP:20260425T155434Z
UID:fmf-AFLABS-URNIK:premaknjeno-srecanje:78782
ATTENDEE:1. letnik (Fizika, 2. stopnja)
ATTENDEE:2. letnik (Fizika, 2. stopnja)
CATEGORIES:Entry,Standard
COLOR:darkgreen
DESCRIPTION:Predmet: Numerično modeliranje atmosfere (FIZ-M1\, FIZ-M2)\, 
 Vaje (V)\nLetniki: 1. letnik (Fizika\, 2. stopnja)\, 2. letnik (Fizika\, 2
 . stopnja)\nIzvajalci: Žiga Zaplotnik\nProstor: F6
LOCATION:F6
ORGANIZER:Žiga Zaplotnik
RELATED-TO:fmf-AFLABS-URNIK:srecanje:6737
X-WR-TIMEZONE:Europe/Ljubljana
END:VEVENT
BEGIN:VEVENT
SUMMARY:Numerično modeliranje atmosfere (FIZ-M1\, FIZ-M2)\, Vaje (V)
DTSTART;TZID=Europe/Ljubljana:20211026T140000
DTEND;TZID=Europe/Ljubljana:20211026T170000
DTSTAMP:20260425T155434Z
UID:fmf-AFLABS-URNIK:premaknjeno-srecanje:78783
ATTENDEE:1. letnik (Fizika, 2. stopnja)
ATTENDEE:2. letnik (Fizika, 2. stopnja)
CATEGORIES:Entry,Standard
COLOR:darkgreen
DESCRIPTION:Predmet: Numerično modeliranje atmosfere (FIZ-M1\, FIZ-M2)\, 
 Vaje (V)\nLetniki: 1. letnik (Fizika\, 2. stopnja)\, 2. letnik (Fizika\, 2
 . stopnja)\nIzvajalci: Žiga Zaplotnik\nProstor: F6
LOCATION:F6
ORGANIZER:Žiga Zaplotnik
RELATED-TO:fmf-AFLABS-URNIK:srecanje:6737
X-WR-TIMEZONE:Europe/Ljubljana
END:VEVENT
BEGIN:VEVENT
SUMMARY:Numerično modeliranje atmosfere (FIZ-M1\, FIZ-M2)\, Vaje (V)
DTSTART;TZID=Europe/Ljubljana:20211102T140000
DTEND;TZID=Europe/Ljubljana:20211102T170000
DTSTAMP:20260425T155434Z
UID:fmf-AFLABS-URNIK:premaknjeno-srecanje:78784
ATTENDEE:1. letnik (Fizika, 2. stopnja)
ATTENDEE:2. letnik (Fizika, 2. stopnja)
CATEGORIES:Entry,Standard
COLOR:darkgreen
DESCRIPTION:Predmet: Numerično modeliranje atmosfere (FIZ-M1\, FIZ-M2)\, 
 Vaje (V)\nLetniki: 1. letnik (Fizika\, 2. stopnja)\, 2. letnik (Fizika\, 2
 . stopnja)\nIzvajalci: Žiga Zaplotnik\nProstor: F6
LOCATION:F6
ORGANIZER:Žiga Zaplotnik
RELATED-TO:fmf-AFLABS-URNIK:srecanje:6737
X-WR-TIMEZONE:Europe/Ljubljana
END:VEVENT
BEGIN:VEVENT
SUMMARY:Numerično modeliranje atmosfere (FIZ-M1\, FIZ-M2)\, Vaje (V)
DTSTART;TZID=Europe/Ljubljana:20211109T140000
DTEND;TZID=Europe/Ljubljana:20211109T170000
DTSTAMP:20260425T155434Z
UID:fmf-AFLABS-URNIK:premaknjeno-srecanje:78785
ATTENDEE:1. letnik (Fizika, 2. stopnja)
ATTENDEE:2. letnik (Fizika, 2. stopnja)
CATEGORIES:Entry,Standard
COLOR:darkgreen
DESCRIPTION:Predmet: Numerično modeliranje atmosfere (FIZ-M1\, FIZ-M2)\, 
 Vaje (V)\nLetniki: 1. letnik (Fizika\, 2. stopnja)\, 2. letnik (Fizika\, 2
 . stopnja)\nIzvajalci: Žiga Zaplotnik\nProstor: F6
LOCATION:F6
ORGANIZER:Žiga Zaplotnik
RELATED-TO:fmf-AFLABS-URNIK:srecanje:6737
X-WR-TIMEZONE:Europe/Ljubljana
END:VEVENT
BEGIN:VEVENT
SUMMARY:Numerično modeliranje atmosfere (FIZ-M1\, FIZ-M2)\, Vaje (V)
DTSTART;TZID=Europe/Ljubljana:20211116T140000
DTEND;TZID=Europe/Ljubljana:20211116T170000
DTSTAMP:20260425T155434Z
UID:fmf-AFLABS-URNIK:premaknjeno-srecanje:78786
ATTENDEE:1. letnik (Fizika, 2. stopnja)
ATTENDEE:2. letnik (Fizika, 2. stopnja)
CATEGORIES:Entry,Standard
COLOR:darkgreen
DESCRIPTION:Predmet: Numerično modeliranje atmosfere (FIZ-M1\, FIZ-M2)\, 
 Vaje (V)\nLetniki: 1. letnik (Fizika\, 2. stopnja)\, 2. letnik (Fizika\, 2
 . stopnja)\nIzvajalci: Žiga Zaplotnik\nProstor: F6
LOCATION:F6
ORGANIZER:Žiga Zaplotnik
RELATED-TO:fmf-AFLABS-URNIK:srecanje:6737
X-WR-TIMEZONE:Europe/Ljubljana
END:VEVENT
BEGIN:VEVENT
SUMMARY:Numerično modeliranje atmosfere (FIZ-M1\, FIZ-M2)\, Vaje (V)
DTSTART;TZID=Europe/Ljubljana:20211123T140000
DTEND;TZID=Europe/Ljubljana:20211123T170000
DTSTAMP:20260425T155434Z
UID:fmf-AFLABS-URNIK:premaknjeno-srecanje:78787
ATTENDEE:1. letnik (Fizika, 2. stopnja)
ATTENDEE:2. letnik (Fizika, 2. stopnja)
CATEGORIES:Entry,Standard
COLOR:darkgreen
DESCRIPTION:Predmet: Numerično modeliranje atmosfere (FIZ-M1\, FIZ-M2)\, 
 Vaje (V)\nLetniki: 1. letnik (Fizika\, 2. stopnja)\, 2. letnik (Fizika\, 2
 . stopnja)\nIzvajalci: Žiga Zaplotnik\nProstor: F6
LOCATION:F6
ORGANIZER:Žiga Zaplotnik
RELATED-TO:fmf-AFLABS-URNIK:srecanje:6737
X-WR-TIMEZONE:Europe/Ljubljana
END:VEVENT
BEGIN:VEVENT
SUMMARY:Numerično modeliranje atmosfere (FIZ-M1\, FIZ-M2)\, Vaje (V)
DTSTART;TZID=Europe/Ljubljana:20211130T140000
DTEND;TZID=Europe/Ljubljana:20211130T170000
DTSTAMP:20260425T155434Z
UID:fmf-AFLABS-URNIK:premaknjeno-srecanje:78788
ATTENDEE:1. letnik (Fizika, 2. stopnja)
ATTENDEE:2. letnik (Fizika, 2. stopnja)
CATEGORIES:Entry,Standard
COLOR:darkgreen
DESCRIPTION:Predmet: Numerično modeliranje atmosfere (FIZ-M1\, FIZ-M2)\, 
 Vaje (V)\nLetniki: 1. letnik (Fizika\, 2. stopnja)\, 2. letnik (Fizika\, 2
 . stopnja)\nIzvajalci: Žiga Zaplotnik\nProstor: F6
LOCATION:F6
ORGANIZER:Žiga Zaplotnik
RELATED-TO:fmf-AFLABS-URNIK:srecanje:6737
X-WR-TIMEZONE:Europe/Ljubljana
END:VEVENT
BEGIN:VEVENT
SUMMARY:Numerično modeliranje atmosfere (FIZ-M1\, FIZ-M2)\, Vaje (V)
DTSTART;TZID=Europe/Ljubljana:20211207T140000
DTEND;TZID=Europe/Ljubljana:20211207T170000
DTSTAMP:20260425T155434Z
UID:fmf-AFLABS-URNIK:premaknjeno-srecanje:78789
ATTENDEE:1. letnik (Fizika, 2. stopnja)
ATTENDEE:2. letnik (Fizika, 2. stopnja)
CATEGORIES:Entry,Standard
COLOR:darkgreen
DESCRIPTION:Predmet: Numerično modeliranje atmosfere (FIZ-M1\, FIZ-M2)\, 
 Vaje (V)\nLetniki: 1. letnik (Fizika\, 2. stopnja)\, 2. letnik (Fizika\, 2
 . stopnja)\nIzvajalci: Žiga Zaplotnik\nProstor: F6
LOCATION:F6
ORGANIZER:Žiga Zaplotnik
RELATED-TO:fmf-AFLABS-URNIK:srecanje:6737
X-WR-TIMEZONE:Europe/Ljubljana
END:VEVENT
BEGIN:VEVENT
SUMMARY:Numerično modeliranje atmosfere (FIZ-M1\, FIZ-M2)\, Vaje (V)
DTSTART;TZID=Europe/Ljubljana:20211214T140000
DTEND;TZID=Europe/Ljubljana:20211214T170000
DTSTAMP:20260425T155434Z
UID:fmf-AFLABS-URNIK:premaknjeno-srecanje:78790
ATTENDEE:1. letnik (Fizika, 2. stopnja)
ATTENDEE:2. letnik (Fizika, 2. stopnja)
CATEGORIES:Entry,Standard
COLOR:darkgreen
DESCRIPTION:Predmet: Numerično modeliranje atmosfere (FIZ-M1\, FIZ-M2)\, 
 Vaje (V)\nLetniki: 1. letnik (Fizika\, 2. stopnja)\, 2. letnik (Fizika\, 2
 . stopnja)\nIzvajalci: Žiga Zaplotnik\nProstor: F6
LOCATION:F6
ORGANIZER:Žiga Zaplotnik
RELATED-TO:fmf-AFLABS-URNIK:srecanje:6737
X-WR-TIMEZONE:Europe/Ljubljana
END:VEVENT
BEGIN:VEVENT
SUMMARY:Numerično modeliranje atmosfere (FIZ-M1\, FIZ-M2)\, Vaje (V)
DTSTART;TZID=Europe/Ljubljana:20211221T140000
DTEND;TZID=Europe/Ljubljana:20211221T170000
DTSTAMP:20260425T155434Z
UID:fmf-AFLABS-URNIK:premaknjeno-srecanje:78791
ATTENDEE:1. letnik (Fizika, 2. stopnja)
ATTENDEE:2. letnik (Fizika, 2. stopnja)
CATEGORIES:Entry,Standard
COLOR:darkgreen
DESCRIPTION:Predmet: Numerično modeliranje atmosfere (FIZ-M1\, FIZ-M2)\, 
 Vaje (V)\nLetniki: 1. letnik (Fizika\, 2. stopnja)\, 2. letnik (Fizika\, 2
 . stopnja)\nIzvajalci: Žiga Zaplotnik\nProstor: F6
LOCATION:F6
ORGANIZER:Žiga Zaplotnik
RELATED-TO:fmf-AFLABS-URNIK:srecanje:6737
X-WR-TIMEZONE:Europe/Ljubljana
END:VEVENT
BEGIN:VEVENT
SUMMARY:Numerično modeliranje atmosfere (FIZ-M1\, FIZ-M2)\, Vaje (V)
DTSTART;TZID=Europe/Ljubljana:20211228T140000
DTEND;TZID=Europe/Ljubljana:20211228T170000
DTSTAMP:20260425T155434Z
UID:fmf-AFLABS-URNIK:premaknjeno-srecanje:78792
ATTENDEE:1. letnik (Fizika, 2. stopnja)
ATTENDEE:2. letnik (Fizika, 2. stopnja)
CATEGORIES:Entry,Standard
COLOR:darkgreen
DESCRIPTION:Predmet: Numerično modeliranje atmosfere (FIZ-M1\, FIZ-M2)\, 
 Vaje (V)\nLetniki: 1. letnik (Fizika\, 2. stopnja)\, 2. letnik (Fizika\, 2
 . stopnja)\nIzvajalci: Žiga Zaplotnik\nProstor: F6
LOCATION:F6
ORGANIZER:Žiga Zaplotnik
RELATED-TO:fmf-AFLABS-URNIK:srecanje:6737
X-WR-TIMEZONE:Europe/Ljubljana
END:VEVENT
BEGIN:VEVENT
SUMMARY:Numerično modeliranje atmosfere (FIZ-M1\, FIZ-M2)\, Vaje (V)
DTSTART;TZID=Europe/Ljubljana:20220104T140000
DTEND;TZID=Europe/Ljubljana:20220104T170000
DTSTAMP:20260425T155434Z
UID:fmf-AFLABS-URNIK:premaknjeno-srecanje:78793
ATTENDEE:1. letnik (Fizika, 2. stopnja)
ATTENDEE:2. letnik (Fizika, 2. stopnja)
CATEGORIES:Entry,Standard
COLOR:darkgreen
DESCRIPTION:Predmet: Numerično modeliranje atmosfere (FIZ-M1\, FIZ-M2)\, 
 Vaje (V)\nLetniki: 1. letnik (Fizika\, 2. stopnja)\, 2. letnik (Fizika\, 2
 . stopnja)\nIzvajalci: Žiga Zaplotnik\nProstor: F6
LOCATION:F6
ORGANIZER:Žiga Zaplotnik
RELATED-TO:fmf-AFLABS-URNIK:srecanje:6737
X-WR-TIMEZONE:Europe/Ljubljana
END:VEVENT
BEGIN:VEVENT
SUMMARY:Numerično modeliranje atmosfere (FIZ-M1\, FIZ-M2)\, Vaje (V)
DTSTART;TZID=Europe/Ljubljana:20220111T140000
DTEND;TZID=Europe/Ljubljana:20220111T170000
DTSTAMP:20260425T155434Z
UID:fmf-AFLABS-URNIK:premaknjeno-srecanje:78794
ATTENDEE:1. letnik (Fizika, 2. stopnja)
ATTENDEE:2. letnik (Fizika, 2. stopnja)
CATEGORIES:Entry,Standard
COLOR:darkgreen
DESCRIPTION:Predmet: Numerično modeliranje atmosfere (FIZ-M1\, FIZ-M2)\, 
 Vaje (V)\nLetniki: 1. letnik (Fizika\, 2. stopnja)\, 2. letnik (Fizika\, 2
 . stopnja)\nIzvajalci: Žiga Zaplotnik\nProstor: F6
LOCATION:F6
ORGANIZER:Žiga Zaplotnik
RELATED-TO:fmf-AFLABS-URNIK:srecanje:6737
X-WR-TIMEZONE:Europe/Ljubljana
END:VEVENT
BEGIN:VEVENT
SUMMARY:Numerično modeliranje atmosfere (FIZ-M1\, FIZ-M2)\, Vaje (V)
DTSTART;TZID=Europe/Ljubljana:20211007T090000
DTEND;TZID=Europe/Ljubljana:20211007T110000
DTSTAMP:20260425T155434Z
UID:fmf-AFLABS-URNIK:premaknjeno-srecanje:78810
ATTENDEE:1. letnik (Fizika, 2. stopnja)
ATTENDEE:2. letnik (Fizika, 2. stopnja)
CATEGORIES:Entry,Standard
COLOR:darkgreen
DESCRIPTION:Predmet: Numerično modeliranje atmosfere (FIZ-M1\, FIZ-M2)\, 
 Vaje (V)\nLetniki: 1. letnik (Fizika\, 2. stopnja)\, 2. letnik (Fizika\, 2
 . stopnja)\nIzvajalci: Žiga Zaplotnik\nProstor: 3.06
LOCATION:3.06
ORGANIZER:Žiga Zaplotnik
RELATED-TO:fmf-AFLABS-URNIK:srecanje:6808
X-WR-TIMEZONE:Europe/Ljubljana
END:VEVENT
BEGIN:VEVENT
SUMMARY:Numerično modeliranje atmosfere (FIZ-M1\, FIZ-M2)\, Vaje (V)
DTSTART;TZID=Europe/Ljubljana:20211014T090000
DTEND;TZID=Europe/Ljubljana:20211014T110000
DTSTAMP:20260425T155434Z
UID:fmf-AFLABS-URNIK:premaknjeno-srecanje:78811
ATTENDEE:1. letnik (Fizika, 2. stopnja)
ATTENDEE:2. letnik (Fizika, 2. stopnja)
CATEGORIES:Entry,Standard
COLOR:darkgreen
DESCRIPTION:Predmet: Numerično modeliranje atmosfere (FIZ-M1\, FIZ-M2)\, 
 Vaje (V)\nLetniki: 1. letnik (Fizika\, 2. stopnja)\, 2. letnik (Fizika\, 2
 . stopnja)\nIzvajalci: Žiga Zaplotnik\nProstor: 3.06
LOCATION:3.06
ORGANIZER:Žiga Zaplotnik
RELATED-TO:fmf-AFLABS-URNIK:srecanje:6808
X-WR-TIMEZONE:Europe/Ljubljana
END:VEVENT
BEGIN:VEVENT
SUMMARY:Numerično modeliranje atmosfere (FIZ-M1\, FIZ-M2)\, Vaje (V)
DTSTART;TZID=Europe/Ljubljana:20211021T090000
DTEND;TZID=Europe/Ljubljana:20211021T110000
DTSTAMP:20260425T155434Z
UID:fmf-AFLABS-URNIK:premaknjeno-srecanje:78812
ATTENDEE:1. letnik (Fizika, 2. stopnja)
ATTENDEE:2. letnik (Fizika, 2. stopnja)
CATEGORIES:Entry,Standard
COLOR:darkgreen
DESCRIPTION:Predmet: Numerično modeliranje atmosfere (FIZ-M1\, FIZ-M2)\, 
 Vaje (V)\nLetniki: 1. letnik (Fizika\, 2. stopnja)\, 2. letnik (Fizika\, 2
 . stopnja)\nIzvajalci: Žiga Zaplotnik\nProstor: 3.06
LOCATION:3.06
ORGANIZER:Žiga Zaplotnik
RELATED-TO:fmf-AFLABS-URNIK:srecanje:6808
X-WR-TIMEZONE:Europe/Ljubljana
END:VEVENT
BEGIN:VEVENT
SUMMARY:Numerično modeliranje atmosfere (FIZ-M1\, FIZ-M2)\, Vaje (V)
DTSTART;TZID=Europe/Ljubljana:20211028T090000
DTEND;TZID=Europe/Ljubljana:20211028T110000
DTSTAMP:20260425T155434Z
UID:fmf-AFLABS-URNIK:premaknjeno-srecanje:78813
ATTENDEE:1. letnik (Fizika, 2. stopnja)
ATTENDEE:2. letnik (Fizika, 2. stopnja)
CATEGORIES:Entry,Standard
COLOR:darkgreen
DESCRIPTION:Predmet: Numerično modeliranje atmosfere (FIZ-M1\, FIZ-M2)\, 
 Vaje (V)\nLetniki: 1. letnik (Fizika\, 2. stopnja)\, 2. letnik (Fizika\, 2
 . stopnja)\nIzvajalci: Žiga Zaplotnik\nProstor: 3.06
LOCATION:3.06
ORGANIZER:Žiga Zaplotnik
RELATED-TO:fmf-AFLABS-URNIK:srecanje:6808
X-WR-TIMEZONE:Europe/Ljubljana
END:VEVENT
BEGIN:VEVENT
SUMMARY:Numerično modeliranje atmosfere (FIZ-M1\, FIZ-M2)\, Vaje (V)
DTSTART;TZID=Europe/Ljubljana:20211104T090000
DTEND;TZID=Europe/Ljubljana:20211104T110000
DTSTAMP:20260425T155434Z
UID:fmf-AFLABS-URNIK:premaknjeno-srecanje:78814
ATTENDEE:1. letnik (Fizika, 2. stopnja)
ATTENDEE:2. letnik (Fizika, 2. stopnja)
CATEGORIES:Entry,Standard
COLOR:darkgreen
DESCRIPTION:Predmet: Numerično modeliranje atmosfere (FIZ-M1\, FIZ-M2)\, 
 Vaje (V)\nLetniki: 1. letnik (Fizika\, 2. stopnja)\, 2. letnik (Fizika\, 2
 . stopnja)\nIzvajalci: Žiga Zaplotnik\nProstor: 3.06
LOCATION:3.06
ORGANIZER:Žiga Zaplotnik
RELATED-TO:fmf-AFLABS-URNIK:srecanje:6808
X-WR-TIMEZONE:Europe/Ljubljana
END:VEVENT
BEGIN:VEVENT
SUMMARY:Numerično modeliranje atmosfere (FIZ-M1\, FIZ-M2)\, Vaje (V)
DTSTART;TZID=Europe/Ljubljana:20211111T090000
DTEND;TZID=Europe/Ljubljana:20211111T110000
DTSTAMP:20260425T155434Z
UID:fmf-AFLABS-URNIK:premaknjeno-srecanje:78815
ATTENDEE:1. letnik (Fizika, 2. stopnja)
ATTENDEE:2. letnik (Fizika, 2. stopnja)
CATEGORIES:Entry,Standard
COLOR:darkgreen
DESCRIPTION:Predmet: Numerično modeliranje atmosfere (FIZ-M1\, FIZ-M2)\, 
 Vaje (V)\nLetniki: 1. letnik (Fizika\, 2. stopnja)\, 2. letnik (Fizika\, 2
 . stopnja)\nIzvajalci: Žiga Zaplotnik\nProstor: 3.06
LOCATION:3.06
ORGANIZER:Žiga Zaplotnik
RELATED-TO:fmf-AFLABS-URNIK:srecanje:6808
X-WR-TIMEZONE:Europe/Ljubljana
END:VEVENT
BEGIN:VEVENT
SUMMARY:Numerično modeliranje atmosfere (FIZ-M1\, FIZ-M2)\, Vaje (V)
DTSTART;TZID=Europe/Ljubljana:20211118T090000
DTEND;TZID=Europe/Ljubljana:20211118T110000
DTSTAMP:20260425T155434Z
UID:fmf-AFLABS-URNIK:premaknjeno-srecanje:78816
ATTENDEE:1. letnik (Fizika, 2. stopnja)
ATTENDEE:2. letnik (Fizika, 2. stopnja)
CATEGORIES:Entry,Standard
COLOR:darkgreen
DESCRIPTION:Predmet: Numerično modeliranje atmosfere (FIZ-M1\, FIZ-M2)\, 
 Vaje (V)\nLetniki: 1. letnik (Fizika\, 2. stopnja)\, 2. letnik (Fizika\, 2
 . stopnja)\nIzvajalci: Žiga Zaplotnik\nProstor: 3.06
LOCATION:3.06
ORGANIZER:Žiga Zaplotnik
RELATED-TO:fmf-AFLABS-URNIK:srecanje:6808
X-WR-TIMEZONE:Europe/Ljubljana
END:VEVENT
BEGIN:VEVENT
SUMMARY:Numerično modeliranje atmosfere (FIZ-M1\, FIZ-M2)\, Vaje (V)
DTSTART;TZID=Europe/Ljubljana:20211125T090000
DTEND;TZID=Europe/Ljubljana:20211125T110000
DTSTAMP:20260425T155434Z
UID:fmf-AFLABS-URNIK:premaknjeno-srecanje:78817
ATTENDEE:1. letnik (Fizika, 2. stopnja)
ATTENDEE:2. letnik (Fizika, 2. stopnja)
CATEGORIES:Entry,Standard
COLOR:darkgreen
DESCRIPTION:Predmet: Numerično modeliranje atmosfere (FIZ-M1\, FIZ-M2)\, 
 Vaje (V)\nLetniki: 1. letnik (Fizika\, 2. stopnja)\, 2. letnik (Fizika\, 2
 . stopnja)\nIzvajalci: Žiga Zaplotnik\nProstor: 3.06
LOCATION:3.06
ORGANIZER:Žiga Zaplotnik
RELATED-TO:fmf-AFLABS-URNIK:srecanje:6808
X-WR-TIMEZONE:Europe/Ljubljana
END:VEVENT
BEGIN:VEVENT
SUMMARY:Numerično modeliranje atmosfere (FIZ-M1\, FIZ-M2)\, Vaje (V)
DTSTART;TZID=Europe/Ljubljana:20211202T090000
DTEND;TZID=Europe/Ljubljana:20211202T110000
DTSTAMP:20260425T155434Z
UID:fmf-AFLABS-URNIK:premaknjeno-srecanje:78818
ATTENDEE:1. letnik (Fizika, 2. stopnja)
ATTENDEE:2. letnik (Fizika, 2. stopnja)
CATEGORIES:Entry,Standard
COLOR:darkgreen
DESCRIPTION:Predmet: Numerično modeliranje atmosfere (FIZ-M1\, FIZ-M2)\, 
 Vaje (V)\nLetniki: 1. letnik (Fizika\, 2. stopnja)\, 2. letnik (Fizika\, 2
 . stopnja)\nIzvajalci: Žiga Zaplotnik\nProstor: 3.06
LOCATION:3.06
ORGANIZER:Žiga Zaplotnik
RELATED-TO:fmf-AFLABS-URNIK:srecanje:6808
X-WR-TIMEZONE:Europe/Ljubljana
END:VEVENT
BEGIN:VEVENT
SUMMARY:Numerično modeliranje atmosfere (FIZ-M1\, FIZ-M2)\, Vaje (V)
DTSTART;TZID=Europe/Ljubljana:20211209T090000
DTEND;TZID=Europe/Ljubljana:20211209T110000
DTSTAMP:20260425T155434Z
UID:fmf-AFLABS-URNIK:premaknjeno-srecanje:78819
ATTENDEE:1. letnik (Fizika, 2. stopnja)
ATTENDEE:2. letnik (Fizika, 2. stopnja)
CATEGORIES:Entry,Standard
COLOR:darkgreen
DESCRIPTION:Predmet: Numerično modeliranje atmosfere (FIZ-M1\, FIZ-M2)\, 
 Vaje (V)\nLetniki: 1. letnik (Fizika\, 2. stopnja)\, 2. letnik (Fizika\, 2
 . stopnja)\nIzvajalci: Žiga Zaplotnik\nProstor: 3.06
LOCATION:3.06
ORGANIZER:Žiga Zaplotnik
RELATED-TO:fmf-AFLABS-URNIK:srecanje:6808
X-WR-TIMEZONE:Europe/Ljubljana
END:VEVENT
BEGIN:VEVENT
SUMMARY:Numerično modeliranje atmosfere (FIZ-M1\, FIZ-M2)\, Vaje (V)
DTSTART;TZID=Europe/Ljubljana:20211216T090000
DTEND;TZID=Europe/Ljubljana:20211216T110000
DTSTAMP:20260425T155434Z
UID:fmf-AFLABS-URNIK:premaknjeno-srecanje:78820
ATTENDEE:1. letnik (Fizika, 2. stopnja)
ATTENDEE:2. letnik (Fizika, 2. stopnja)
CATEGORIES:Entry,Standard
COLOR:darkgreen
DESCRIPTION:Predmet: Numerično modeliranje atmosfere (FIZ-M1\, FIZ-M2)\, 
 Vaje (V)\nLetniki: 1. letnik (Fizika\, 2. stopnja)\, 2. letnik (Fizika\, 2
 . stopnja)\nIzvajalci: Žiga Zaplotnik\nProstor: 3.06
LOCATION:3.06
ORGANIZER:Žiga Zaplotnik
RELATED-TO:fmf-AFLABS-URNIK:srecanje:6808
X-WR-TIMEZONE:Europe/Ljubljana
END:VEVENT
BEGIN:VEVENT
SUMMARY:Numerično modeliranje atmosfere (FIZ-M1\, FIZ-M2)\, Vaje (V)
DTSTART;TZID=Europe/Ljubljana:20211223T090000
DTEND;TZID=Europe/Ljubljana:20211223T110000
DTSTAMP:20260425T155434Z
UID:fmf-AFLABS-URNIK:premaknjeno-srecanje:78821
ATTENDEE:1. letnik (Fizika, 2. stopnja)
ATTENDEE:2. letnik (Fizika, 2. stopnja)
CATEGORIES:Entry,Standard
COLOR:darkgreen
DESCRIPTION:Predmet: Numerično modeliranje atmosfere (FIZ-M1\, FIZ-M2)\, 
 Vaje (V)\nLetniki: 1. letnik (Fizika\, 2. stopnja)\, 2. letnik (Fizika\, 2
 . stopnja)\nIzvajalci: Žiga Zaplotnik\nProstor: 3.06
LOCATION:3.06
ORGANIZER:Žiga Zaplotnik
RELATED-TO:fmf-AFLABS-URNIK:srecanje:6808
X-WR-TIMEZONE:Europe/Ljubljana
END:VEVENT
BEGIN:VEVENT
SUMMARY:Numerično modeliranje atmosfere (FIZ-M1\, FIZ-M2)\, Vaje (V)
DTSTART;TZID=Europe/Ljubljana:20211230T090000
DTEND;TZID=Europe/Ljubljana:20211230T110000
DTSTAMP:20260425T155434Z
UID:fmf-AFLABS-URNIK:premaknjeno-srecanje:78822
ATTENDEE:1. letnik (Fizika, 2. stopnja)
ATTENDEE:2. letnik (Fizika, 2. stopnja)
CATEGORIES:Entry,Standard
COLOR:darkgreen
DESCRIPTION:Predmet: Numerično modeliranje atmosfere (FIZ-M1\, FIZ-M2)\, 
 Vaje (V)\nLetniki: 1. letnik (Fizika\, 2. stopnja)\, 2. letnik (Fizika\, 2
 . stopnja)\nIzvajalci: Žiga Zaplotnik\nProstor: 3.06
LOCATION:3.06
ORGANIZER:Žiga Zaplotnik
RELATED-TO:fmf-AFLABS-URNIK:srecanje:6808
X-WR-TIMEZONE:Europe/Ljubljana
END:VEVENT
BEGIN:VEVENT
SUMMARY:Numerično modeliranje atmosfere (FIZ-M1\, FIZ-M2)\, Vaje (V)
DTSTART;TZID=Europe/Ljubljana:20220106T090000
DTEND;TZID=Europe/Ljubljana:20220106T110000
DTSTAMP:20260425T155434Z
UID:fmf-AFLABS-URNIK:premaknjeno-srecanje:78823
ATTENDEE:1. letnik (Fizika, 2. stopnja)
ATTENDEE:2. letnik (Fizika, 2. stopnja)
CATEGORIES:Entry,Standard
COLOR:darkgreen
DESCRIPTION:Predmet: Numerično modeliranje atmosfere (FIZ-M1\, FIZ-M2)\, 
 Vaje (V)\nLetniki: 1. letnik (Fizika\, 2. stopnja)\, 2. letnik (Fizika\, 2
 . stopnja)\nIzvajalci: Žiga Zaplotnik\nProstor: 3.06
LOCATION:3.06
ORGANIZER:Žiga Zaplotnik
RELATED-TO:fmf-AFLABS-URNIK:srecanje:6808
X-WR-TIMEZONE:Europe/Ljubljana
END:VEVENT
BEGIN:VEVENT
SUMMARY:Numerično modeliranje atmosfere (FIZ-M1\, FIZ-M2)\, Vaje (V)
DTSTART;TZID=Europe/Ljubljana:20220113T090000
DTEND;TZID=Europe/Ljubljana:20220113T110000
DTSTAMP:20260425T155434Z
UID:fmf-AFLABS-URNIK:premaknjeno-srecanje:78824
ATTENDEE:1. letnik (Fizika, 2. stopnja)
ATTENDEE:2. letnik (Fizika, 2. stopnja)
CATEGORIES:Entry,Standard
COLOR:darkgreen
DESCRIPTION:Predmet: Numerično modeliranje atmosfere (FIZ-M1\, FIZ-M2)\, 
 Vaje (V)\nLetniki: 1. letnik (Fizika\, 2. stopnja)\, 2. letnik (Fizika\, 2
 . stopnja)\nIzvajalci: Žiga Zaplotnik\nProstor: 3.06
LOCATION:3.06
ORGANIZER:Žiga Zaplotnik
RELATED-TO:fmf-AFLABS-URNIK:srecanje:6808
X-WR-TIMEZONE:Europe/Ljubljana
END:VEVENT
BEGIN:VEVENT
SUMMARY:Analiza in prognoza vremena (FIZ-M1\, FIZ-M2)\, Predavanja (P)
DTSTART;TZID=Europe/Ljubljana:20220214T110000
DTEND;TZID=Europe/Ljubljana:20220214T140000
DTSTAMP:20260425T155434Z
UID:fmf-AFLABS-URNIK:premaknjeno-srecanje:9516
ATTENDEE:1. letnik (Fizika, 2. stopnja)
ATTENDEE:2. letnik (Fizika, 2. stopnja)
CATEGORIES:Entry,Standard
COLOR:darkgreen
DESCRIPTION:Predmet: Analiza in prognoza vremena (FIZ-M1\, FIZ-M2)\, Preda
 vanja (P)\nLetniki: 1. letnik (Fizika\, 2. stopnja)\, 2. letnik (Fizika\, 
 2. stopnja)\nIzvajalci: Žiga Zaplotnik\nProstor: F6
LOCATION:F6
ORGANIZER:Žiga Zaplotnik
RELATED-TO:fmf-AFLABS-URNIK:srecanje:7398
X-WR-TIMEZONE:Europe/Ljubljana
END:VEVENT
BEGIN:VEVENT
SUMMARY:Rezervacija
DTSTART;TZID=Europe/Ljubljana:20211104T090000
DTEND;TZID=Europe/Ljubljana:20211104T110000
DTSTAMP:20260425T155434Z
UID:fmf-AFLABS-URNIK:rezervacija:7967
ATTENDEE:1. letnik (Fizika, 2. stopnja)
ATTENDEE:2. letnik (Fizika, 2. stopnja)
CATEGORIES:Reservation
COLOR:royalblue
DESCRIPTION:Predmeti: Numerično modeliranje atmosfere (FIZ-M1\, FIZ-M2)\n
 Letniki: 1. letnik (Fizika\, 2. stopnja)\, 2. letnik (Fizika\, 2. stopnja)
 \nIzvajalci: Žiga Zaplotnik\nProstori: 3.06
LOCATION:3.06
ORGANIZER:Žiga Zaplotnik
X-WR-TIMEZONE:Europe/Ljubljana
END:VEVENT
END:VCALENDAR
