BEGIN:VCALENDAR
VERSION:2.0
PRODID:-//AFLabs urnik izvoz - fmf//aflabs.si//SI
DTSTAMP:20260426T023211Z
NAME:UL FMF urnik
REFRESH-INTERVAL:PT1H
SOURCE:https://urnik.fmf.uni-lj.si/teacher/40?day=2019-06-10&export=1
URL:https://urnik.fmf.uni-lj.si/teacher/40?day=2019-06-10&export=1
X-PUBLISHED-TTL:PT1H
X-WR-CALNAME:UL FMF urnik
X-WR-TIMEZONE:Europe/Ljubljana
BEGIN:VTIMEZONE
TZID:Europe/Ljubljana
BEGIN:DAYLIGHT
DTSTART:20260329T020000
RDATE:20260329T020000
RDATE:20270328T020000
TZNAME:CEST
TZOFFSETFROM:+0100
TZOFFSETTO:+0200
END:DAYLIGHT
BEGIN:STANDARD
DTSTART:20261025T030000
RDATE:20261025T030000
RDATE:20271031T030000
TZNAME:CET
TZOFFSETFROM:+0200
TZOFFSETTO:+0100
END:STANDARD
END:VTIMEZONE
BEGIN:VEVENT
SUMMARY:Uvod v geometrijsko topologijo (FM-3\, IŠRM-3\, MAT-2\, PM-4)\, V
 aje (V)
DTSTART;TZID=Europe/Ljubljana:20190507T120000
DTEND;TZID=Europe/Ljubljana:20190507T140000
DTSTAMP:20260426T023211Z
UID:fmf-AFLABS-URNIK:premaknjeno-srecanje:116501
ATTENDEE:2. letnik (M)
ATTENDEE:3. letnik (FM)
ATTENDEE:3. letnik (IŠRM)
ATTENDEE:4. letnik (PM)
CATEGORIES:Entry,Standard
COLOR:darkgreen
DESCRIPTION:Predmet: Uvod v geometrijsko topologijo (FM-3\, IŠRM-3\, MAT-
 2\, PM-4)\, Vaje (V)\nLetniki: 3. letnik (FM)\, 3. letnik (IŠRM)\, 2. let
 nik (M)\, 4. letnik (PM)\nIzvajalci: Aleš Vavpetič\nProstor: 3.07
LOCATION:3.07
ORGANIZER:Aleš Vavpetič
RELATED-TO:fmf-AFLABS-URNIK:srecanje:3034
X-WR-TIMEZONE:Europe/Ljubljana
END:VEVENT
BEGIN:VEVENT
SUMMARY:Uvod v geometrijsko topologijo (FM-3\, IŠRM-3\, MAT-2\, PM-4)\, V
 aje (V)
DTSTART;TZID=Europe/Ljubljana:20190514T120000
DTEND;TZID=Europe/Ljubljana:20190514T140000
DTSTAMP:20260426T023211Z
UID:fmf-AFLABS-URNIK:premaknjeno-srecanje:116502
ATTENDEE:2. letnik (M)
ATTENDEE:3. letnik (FM)
ATTENDEE:3. letnik (IŠRM)
ATTENDEE:4. letnik (PM)
CATEGORIES:Entry,Standard
COLOR:darkgreen
DESCRIPTION:Predmet: Uvod v geometrijsko topologijo (FM-3\, IŠRM-3\, MAT-
 2\, PM-4)\, Vaje (V)\nLetniki: 3. letnik (FM)\, 3. letnik (IŠRM)\, 2. let
 nik (M)\, 4. letnik (PM)\nIzvajalci: Aleš Vavpetič\nProstor: 3.07
LOCATION:3.07
ORGANIZER:Aleš Vavpetič
RELATED-TO:fmf-AFLABS-URNIK:srecanje:3034
X-WR-TIMEZONE:Europe/Ljubljana
END:VEVENT
BEGIN:VEVENT
SUMMARY:Uvod v geometrijsko topologijo (FM-3\, IŠRM-3\, MAT-2\, PM-4)\, V
 aje (V)
DTSTART;TZID=Europe/Ljubljana:20190521T120000
DTEND;TZID=Europe/Ljubljana:20190521T140000
DTSTAMP:20260426T023211Z
UID:fmf-AFLABS-URNIK:premaknjeno-srecanje:116503
ATTENDEE:2. letnik (M)
ATTENDEE:3. letnik (FM)
ATTENDEE:3. letnik (IŠRM)
ATTENDEE:4. letnik (PM)
CATEGORIES:Entry,Standard
COLOR:darkgreen
DESCRIPTION:Predmet: Uvod v geometrijsko topologijo (FM-3\, IŠRM-3\, MAT-
 2\, PM-4)\, Vaje (V)\nLetniki: 3. letnik (FM)\, 3. letnik (IŠRM)\, 2. let
 nik (M)\, 4. letnik (PM)\nIzvajalci: Aleš Vavpetič\nProstor: 3.07
LOCATION:3.07
ORGANIZER:Aleš Vavpetič
RELATED-TO:fmf-AFLABS-URNIK:srecanje:3034
X-WR-TIMEZONE:Europe/Ljubljana
END:VEVENT
BEGIN:VEVENT
SUMMARY:Uvod v geometrijsko topologijo (FM-3\, IŠRM-3\, MAT-2\, PM-4)\, V
 aje (V)
DTSTART;TZID=Europe/Ljubljana:20190528T120000
DTEND;TZID=Europe/Ljubljana:20190528T140000
DTSTAMP:20260426T023211Z
UID:fmf-AFLABS-URNIK:premaknjeno-srecanje:116504
ATTENDEE:2. letnik (M)
ATTENDEE:3. letnik (FM)
ATTENDEE:3. letnik (IŠRM)
ATTENDEE:4. letnik (PM)
CATEGORIES:Entry,Standard
COLOR:darkgreen
DESCRIPTION:Predmet: Uvod v geometrijsko topologijo (FM-3\, IŠRM-3\, MAT-
 2\, PM-4)\, Vaje (V)\nLetniki: 3. letnik (FM)\, 3. letnik (IŠRM)\, 2. let
 nik (M)\, 4. letnik (PM)\nIzvajalci: Aleš Vavpetič\nProstor: 3.07
LOCATION:3.07
ORGANIZER:Aleš Vavpetič
RELATED-TO:fmf-AFLABS-URNIK:srecanje:3034
X-WR-TIMEZONE:Europe/Ljubljana
END:VEVENT
BEGIN:VEVENT
SUMMARY:Afina in projektivna geometrija (FM-3\, IŠRM-3\, MAT-2\, PM-2)\, 
 Predavanja (P)
DTSTART;TZID=Europe/Ljubljana:20190509T120000
DTEND;TZID=Europe/Ljubljana:20190509T140000
DTSTAMP:20260426T023211Z
UID:fmf-AFLABS-URNIK:premaknjeno-srecanje:570
ATTENDEE:2. letnik (M)
ATTENDEE:2. letnik (PM)
ATTENDEE:3. letnik (FM)
ATTENDEE:3. letnik (IŠRM)
CATEGORIES:Entry,Standard
COLOR:darkgreen
DESCRIPTION:Predmet: Afina in projektivna geometrija (FM-3\, IŠRM-3\, MAT
 -2\, PM-2)\, Predavanja (P)\nLetniki: 3. letnik (FM)\, 3. letnik (IŠRM)\,
  2. letnik (M)\, 2. letnik (PM)\nIzvajalci: Aleš Vavpetič\nProstor: ne o
 bstaja več - P.04
LOCATION:ne obstaja več - P.04
ORGANIZER:Aleš Vavpetič
RELATED-TO:fmf-AFLABS-URNIK:srecanje:2496
X-WR-TIMEZONE:Europe/Ljubljana
END:VEVENT
BEGIN:VEVENT
SUMMARY:Afina in projektivna geometrija (FM-3\, IŠRM-3\, MAT-2\, PM-2)\, 
 Predavanja (P)
DTSTART;TZID=Europe/Ljubljana:20190516T120000
DTEND;TZID=Europe/Ljubljana:20190516T140000
DTSTAMP:20260426T023211Z
UID:fmf-AFLABS-URNIK:premaknjeno-srecanje:571
ATTENDEE:2. letnik (M)
ATTENDEE:2. letnik (PM)
ATTENDEE:3. letnik (FM)
ATTENDEE:3. letnik (IŠRM)
CATEGORIES:Entry,Standard
COLOR:darkgreen
DESCRIPTION:Predmet: Afina in projektivna geometrija (FM-3\, IŠRM-3\, MAT
 -2\, PM-2)\, Predavanja (P)\nLetniki: 3. letnik (FM)\, 3. letnik (IŠRM)\,
  2. letnik (M)\, 2. letnik (PM)\nIzvajalci: Aleš Vavpetič\nProstor: ne o
 bstaja več - P.04
LOCATION:ne obstaja več - P.04
ORGANIZER:Aleš Vavpetič
RELATED-TO:fmf-AFLABS-URNIK:srecanje:2496
X-WR-TIMEZONE:Europe/Ljubljana
END:VEVENT
BEGIN:VEVENT
SUMMARY:Afina in projektivna geometrija (FM-3\, IŠRM-3\, MAT-2\, PM-2)\, 
 Predavanja (P)
DTSTART;TZID=Europe/Ljubljana:20190523T120000
DTEND;TZID=Europe/Ljubljana:20190523T140000
DTSTAMP:20260426T023211Z
UID:fmf-AFLABS-URNIK:premaknjeno-srecanje:572
ATTENDEE:2. letnik (M)
ATTENDEE:2. letnik (PM)
ATTENDEE:3. letnik (FM)
ATTENDEE:3. letnik (IŠRM)
CATEGORIES:Entry,Standard
COLOR:darkgreen
DESCRIPTION:Predmet: Afina in projektivna geometrija (FM-3\, IŠRM-3\, MAT
 -2\, PM-2)\, Predavanja (P)\nLetniki: 3. letnik (FM)\, 3. letnik (IŠRM)\,
  2. letnik (M)\, 2. letnik (PM)\nIzvajalci: Aleš Vavpetič\nProstor: ne o
 bstaja več - P.04
LOCATION:ne obstaja več - P.04
ORGANIZER:Aleš Vavpetič
RELATED-TO:fmf-AFLABS-URNIK:srecanje:2496
X-WR-TIMEZONE:Europe/Ljubljana
END:VEVENT
BEGIN:VEVENT
SUMMARY:Afina in projektivna geometrija (FM-3\, IŠRM-3\, MAT-2\, PM-2)\, 
 Predavanja (P)
DTSTART;TZID=Europe/Ljubljana:20190530T120000
DTEND;TZID=Europe/Ljubljana:20190530T140000
DTSTAMP:20260426T023211Z
UID:fmf-AFLABS-URNIK:premaknjeno-srecanje:573
ATTENDEE:2. letnik (M)
ATTENDEE:2. letnik (PM)
ATTENDEE:3. letnik (FM)
ATTENDEE:3. letnik (IŠRM)
CATEGORIES:Entry,Standard
COLOR:darkgreen
DESCRIPTION:Predmet: Afina in projektivna geometrija (FM-3\, IŠRM-3\, MAT
 -2\, PM-2)\, Predavanja (P)\nLetniki: 3. letnik (FM)\, 3. letnik (IŠRM)\,
  2. letnik (M)\, 2. letnik (PM)\nIzvajalci: Aleš Vavpetič\nProstor: ne o
 bstaja več - P.04
LOCATION:ne obstaja več - P.04
ORGANIZER:Aleš Vavpetič
RELATED-TO:fmf-AFLABS-URNIK:srecanje:2496
X-WR-TIMEZONE:Europe/Ljubljana
END:VEVENT
BEGIN:VEVENT
SUMMARY:Algebra 1 (FM-1)\, Vaje (V)\, [1]
DTSTART;TZID=Europe/Ljubljana:20190509T100000
DTEND;TZID=Europe/Ljubljana:20190509T120000
DTSTAMP:20260426T023211Z
UID:fmf-AFLABS-URNIK:premaknjeno-srecanje:2088
ATTENDEE:1. letnik (FM)
CATEGORIES:Entry,Standard
COLOR:darkgreen
DESCRIPTION:Predmet: Algebra 1 (FM-1)\, Vaje (V)\, [1]\nLetniki: 1. letnik
  (FM)\nIzvajalci: Aleš Vavpetič\nProstor: P.01
LOCATION:P.01
ORGANIZER:Aleš Vavpetič
RELATED-TO:fmf-AFLABS-URNIK:srecanje:2505
X-WR-TIMEZONE:Europe/Ljubljana
END:VEVENT
BEGIN:VEVENT
SUMMARY:Algebra 1 (FM-1)\, Vaje (V)\, [1]
DTSTART;TZID=Europe/Ljubljana:20190516T100000
DTEND;TZID=Europe/Ljubljana:20190516T120000
DTSTAMP:20260426T023211Z
UID:fmf-AFLABS-URNIK:premaknjeno-srecanje:2089
ATTENDEE:1. letnik (FM)
CATEGORIES:Entry,Standard
COLOR:darkgreen
DESCRIPTION:Predmet: Algebra 1 (FM-1)\, Vaje (V)\, [1]\nLetniki: 1. letnik
  (FM)\nIzvajalci: Aleš Vavpetič\nProstor: P.01
LOCATION:P.01
ORGANIZER:Aleš Vavpetič
RELATED-TO:fmf-AFLABS-URNIK:srecanje:2505
X-WR-TIMEZONE:Europe/Ljubljana
END:VEVENT
BEGIN:VEVENT
SUMMARY:Algebra 1 (FM-1)\, Vaje (V)\, [1]
DTSTART;TZID=Europe/Ljubljana:20190523T100000
DTEND;TZID=Europe/Ljubljana:20190523T120000
DTSTAMP:20260426T023211Z
UID:fmf-AFLABS-URNIK:premaknjeno-srecanje:2090
ATTENDEE:1. letnik (FM)
CATEGORIES:Entry,Standard
COLOR:darkgreen
DESCRIPTION:Predmet: Algebra 1 (FM-1)\, Vaje (V)\, [1]\nLetniki: 1. letnik
  (FM)\nIzvajalci: Aleš Vavpetič\nProstor: P.01
LOCATION:P.01
ORGANIZER:Aleš Vavpetič
RELATED-TO:fmf-AFLABS-URNIK:srecanje:2505
X-WR-TIMEZONE:Europe/Ljubljana
END:VEVENT
BEGIN:VEVENT
SUMMARY:Algebra 1 (FM-1)\, Vaje (V)\, [1]
DTSTART;TZID=Europe/Ljubljana:20190530T100000
DTEND;TZID=Europe/Ljubljana:20190530T120000
DTSTAMP:20260426T023211Z
UID:fmf-AFLABS-URNIK:premaknjeno-srecanje:2091
ATTENDEE:1. letnik (FM)
CATEGORIES:Entry,Standard
COLOR:darkgreen
DESCRIPTION:Predmet: Algebra 1 (FM-1)\, Vaje (V)\, [1]\nLetniki: 1. letnik
  (FM)\nIzvajalci: Aleš Vavpetič\nProstor: P.01
LOCATION:P.01
ORGANIZER:Aleš Vavpetič
RELATED-TO:fmf-AFLABS-URNIK:srecanje:2505
X-WR-TIMEZONE:Europe/Ljubljana
END:VEVENT
BEGIN:VEVENT
SUMMARY:RG ()\, Ostalo (O)
DTSTART;TZID=Europe/Ljubljana:20190510T120000
DTEND;TZID=Europe/Ljubljana:20190510T140000
DTSTAMP:20260426T023211Z
UID:fmf-AFLABS-URNIK:premaknjeno-srecanje:90604
CATEGORIES:Entry,Standard
COLOR:darkgreen
DESCRIPTION:Predmet: RG ()\, Ostalo (O)\nLetniki: \nIzvajalci: Marko Kandi
 ć\, Aleš Vavpetič\nProstor: None
ORGANIZER:Marko Kandić, Aleš Vavpetič
RELATED-TO:fmf-AFLABS-URNIK:srecanje:3211
X-WR-TIMEZONE:Europe/Ljubljana
END:VEVENT
BEGIN:VEVENT
SUMMARY:RG ()\, Ostalo (O)
DTSTART;TZID=Europe/Ljubljana:20190517T120000
DTEND;TZID=Europe/Ljubljana:20190517T140000
DTSTAMP:20260426T023211Z
UID:fmf-AFLABS-URNIK:premaknjeno-srecanje:90605
CATEGORIES:Entry,Standard
COLOR:darkgreen
DESCRIPTION:Predmet: RG ()\, Ostalo (O)\nLetniki: \nIzvajalci: Marko Kandi
 ć\, Aleš Vavpetič\nProstor: None
ORGANIZER:Marko Kandić, Aleš Vavpetič
RELATED-TO:fmf-AFLABS-URNIK:srecanje:3211
X-WR-TIMEZONE:Europe/Ljubljana
END:VEVENT
BEGIN:VEVENT
SUMMARY:RG ()\, Ostalo (O)
DTSTART;TZID=Europe/Ljubljana:20190524T120000
DTEND;TZID=Europe/Ljubljana:20190524T140000
DTSTAMP:20260426T023211Z
UID:fmf-AFLABS-URNIK:premaknjeno-srecanje:90606
CATEGORIES:Entry,Standard
COLOR:darkgreen
DESCRIPTION:Predmet: RG ()\, Ostalo (O)\nLetniki: \nIzvajalci: Marko Kandi
 ć\, Aleš Vavpetič\nProstor: None
ORGANIZER:Marko Kandić, Aleš Vavpetič
RELATED-TO:fmf-AFLABS-URNIK:srecanje:3211
X-WR-TIMEZONE:Europe/Ljubljana
END:VEVENT
BEGIN:VEVENT
SUMMARY:RG ()\, Ostalo (O)
DTSTART;TZID=Europe/Ljubljana:20190531T120000
DTEND;TZID=Europe/Ljubljana:20190531T140000
DTSTAMP:20260426T023211Z
UID:fmf-AFLABS-URNIK:premaknjeno-srecanje:90607
CATEGORIES:Entry,Standard
COLOR:darkgreen
DESCRIPTION:Predmet: RG ()\, Ostalo (O)\nLetniki: \nIzvajalci: Marko Kandi
 ć\, Aleš Vavpetič\nProstor: None
ORGANIZER:Marko Kandić, Aleš Vavpetič
RELATED-TO:fmf-AFLABS-URNIK:srecanje:3211
X-WR-TIMEZONE:Europe/Ljubljana
END:VEVENT
BEGIN:VEVENT
SUMMARY:Rezervacija
DTSTART;TZID=Europe/Ljubljana:20190507T140000
DTEND;TZID=Europe/Ljubljana:20190507T160000
DTSTAMP:20260426T023211Z
UID:fmf-AFLABS-URNIK:rezervacija:3092
CATEGORIES:Reservation
COLOR:royalblue
DESCRIPTION:Predmeti: \nLetniki: \nIzvajalci: Aleš Vavpetič\nProstori: n
 e obstaja več - P.04
LOCATION:ne obstaja več - P.04
ORGANIZER:Aleš Vavpetič
X-WR-TIMEZONE:Europe/Ljubljana
END:VEVENT
BEGIN:VEVENT
SUMMARY:Rezervacija
DTSTART;TZID=Europe/Ljubljana:20190515T080000
DTEND;TZID=Europe/Ljubljana:20190515T100000
DTSTAMP:20260426T023211Z
UID:fmf-AFLABS-URNIK:rezervacija:3152
CATEGORIES:Reservation
COLOR:royalblue
DESCRIPTION:Predmeti: \nLetniki: \nIzvajalci: Aleš Vavpetič\nProstori: 3
 .04
LOCATION:3.04
ORGANIZER:Aleš Vavpetič
X-WR-TIMEZONE:Europe/Ljubljana
END:VEVENT
BEGIN:VEVENT
SUMMARY:Rezervacija
DTSTART;TZID=Europe/Ljubljana:20190520T080000
DTEND;TZID=Europe/Ljubljana:20190520T100000
DTSTAMP:20260426T023211Z
UID:fmf-AFLABS-URNIK:rezervacija:3183
CATEGORIES:Reservation
COLOR:royalblue
DESCRIPTION:Predmeti: \nLetniki: \nIzvajalci: Aleš Vavpetič\nProstori: 2
 .04
LOCATION:2.04
ORGANIZER:Aleš Vavpetič
X-WR-TIMEZONE:Europe/Ljubljana
END:VEVENT
BEGIN:VEVENT
SUMMARY:Rezervacija
DTSTART;TZID=Europe/Ljubljana:20190520T100000
DTEND;TZID=Europe/Ljubljana:20190520T110000
DTSTAMP:20260426T023211Z
UID:fmf-AFLABS-URNIK:rezervacija:3185
CATEGORIES:Reservation
COLOR:royalblue
DESCRIPTION:Predmeti: \nLetniki: \nIzvajalci: Aleš Vavpetič\nProstori: 2
 .01
LOCATION:2.01
ORGANIZER:Aleš Vavpetič
X-WR-TIMEZONE:Europe/Ljubljana
END:VEVENT
BEGIN:VEVENT
SUMMARY:Rezervacija
DTSTART;TZID=Europe/Ljubljana:20190521T180000
DTEND;TZID=Europe/Ljubljana:20190521T200000
DTSTAMP:20260426T023211Z
UID:fmf-AFLABS-URNIK:rezervacija:3208
CATEGORIES:Reservation
COLOR:royalblue
DESCRIPTION:Predmeti: \nLetniki: \nIzvajalci: Aleš Vavpetič\nProstori: 2
 .05
LOCATION:2.05
ORGANIZER:Aleš Vavpetič
X-WR-TIMEZONE:Europe/Ljubljana
END:VEVENT
BEGIN:VEVENT
SUMMARY:Rezervacija
DTSTART;TZID=Europe/Ljubljana:20190522T080000
DTEND;TZID=Europe/Ljubljana:20190522T100000
DTSTAMP:20260426T023211Z
UID:fmf-AFLABS-URNIK:rezervacija:3210
CATEGORIES:Reservation
COLOR:royalblue
DESCRIPTION:Predmeti: \nLetniki: \nIzvajalci: Aleš Vavpetič\nProstori: 3
 .04
LOCATION:3.04
ORGANIZER:Aleš Vavpetič
X-WR-TIMEZONE:Europe/Ljubljana
END:VEVENT
BEGIN:VEVENT
SUMMARY:Rezervacija
DTSTART;TZID=Europe/Ljubljana:20190527T090000
DTEND;TZID=Europe/Ljubljana:20190527T100000
DTSTAMP:20260426T023211Z
UID:fmf-AFLABS-URNIK:rezervacija:3255
CATEGORIES:Reservation
COLOR:royalblue
DESCRIPTION:Predmeti: \nLetniki: \nIzvajalci: Aleš Vavpetič\nProstori: 2
 .03
LOCATION:2.03
ORGANIZER:Aleš Vavpetič
X-WR-TIMEZONE:Europe/Ljubljana
END:VEVENT
BEGIN:VEVENT
SUMMARY:Rezervacija
DTSTART;TZID=Europe/Ljubljana:20190527T100000
DTEND;TZID=Europe/Ljubljana:20190527T110000
DTSTAMP:20260426T023211Z
UID:fmf-AFLABS-URNIK:rezervacija:3256
CATEGORIES:Reservation
COLOR:royalblue
DESCRIPTION:Predmeti: \nLetniki: \nIzvajalci: Aleš Vavpetič\nProstori: 2
 .03
LOCATION:2.03
ORGANIZER:Aleš Vavpetič
X-WR-TIMEZONE:Europe/Ljubljana
END:VEVENT
BEGIN:VEVENT
SUMMARY:Rezervacija
DTSTART;TZID=Europe/Ljubljana:20190529T080000
DTEND;TZID=Europe/Ljubljana:20190529T100000
DTSTAMP:20260426T023211Z
UID:fmf-AFLABS-URNIK:rezervacija:3294
CATEGORIES:Reservation
COLOR:royalblue
DESCRIPTION:Predmeti: \nLetniki: \nIzvajalci: Aleš Vavpetič\nProstori: 3
 .04
LOCATION:3.04
ORGANIZER:Aleš Vavpetič
X-WR-TIMEZONE:Europe/Ljubljana
END:VEVENT
BEGIN:VEVENT
SUMMARY:Rezervacija
DTSTART;TZID=Europe/Ljubljana:20190529T160000
DTEND;TZID=Europe/Ljubljana:20190529T180000
DTSTAMP:20260426T023211Z
UID:fmf-AFLABS-URNIK:rezervacija:3309
CATEGORIES:Reservation
COLOR:royalblue
DESCRIPTION:Predmeti: \nLetniki: \nIzvajalci: Aleš Vavpetič\nProstori: 2
 .01\, 2.05
LOCATION:2.01\, 2.05
ORGANIZER:Aleš Vavpetič
X-WR-TIMEZONE:Europe/Ljubljana
END:VEVENT
BEGIN:VEVENT
SUMMARY:Rezervacija
DTSTART;TZID=Europe/Ljubljana:20190530T140000
DTEND;TZID=Europe/Ljubljana:20190530T150000
DTSTAMP:20260426T023211Z
UID:fmf-AFLABS-URNIK:rezervacija:3316
CATEGORIES:Reservation
COLOR:royalblue
DESCRIPTION:Predmeti: \nLetniki: \nIzvajalci: Aleš Vavpetič\nProstori: n
 e obstaja več - P.04
LOCATION:ne obstaja več - P.04
ORGANIZER:Aleš Vavpetič
X-WR-TIMEZONE:Europe/Ljubljana
END:VEVENT
BEGIN:VEVENT
SUMMARY:Rezervacija
DTSTART;TZID=Europe/Ljubljana:20190612T080000
DTEND;TZID=Europe/Ljubljana:20190612T100000
DTSTAMP:20260426T023211Z
UID:fmf-AFLABS-URNIK:rezervacija:3465
CATEGORIES:Reservation
COLOR:royalblue
DESCRIPTION:Predmeti: \nLetniki: \nIzvajalci: Aleš Vavpetič\nProstori: 2
 .05
LOCATION:2.05
ORGANIZER:Aleš Vavpetič
X-WR-TIMEZONE:Europe/Ljubljana
END:VEVENT
BEGIN:VEVENT
SUMMARY:Rezervacija
DTSTART;TZID=Europe/Ljubljana:20190613T100000
DTEND;TZID=Europe/Ljubljana:20190613T120000
DTSTAMP:20260426T023211Z
UID:fmf-AFLABS-URNIK:rezervacija:3491
CATEGORIES:Reservation
COLOR:royalblue
DESCRIPTION:Predmeti: \nLetniki: \nIzvajalci: Aleš Vavpetič\nProstori: 2
 .02
LOCATION:2.02
ORGANIZER:Aleš Vavpetič
X-WR-TIMEZONE:Europe/Ljubljana
END:VEVENT
BEGIN:VEVENT
SUMMARY:Rezervacija
DTSTART;TZID=Europe/Ljubljana:20190614T080000
DTEND;TZID=Europe/Ljubljana:20190614T100000
DTSTAMP:20260426T023211Z
UID:fmf-AFLABS-URNIK:rezervacija:3506
CATEGORIES:Reservation
COLOR:royalblue
DESCRIPTION:Predmeti: \nLetniki: \nIzvajalci: Aleš Vavpetič\nProstori: 2
 .02
LOCATION:2.02
ORGANIZER:Aleš Vavpetič
X-WR-TIMEZONE:Europe/Ljubljana
END:VEVENT
BEGIN:VEVENT
SUMMARY:Rezervacija
DTSTART;TZID=Europe/Ljubljana:20190621T080000
DTEND;TZID=Europe/Ljubljana:20190621T140000
DTSTAMP:20260426T023211Z
UID:fmf-AFLABS-URNIK:rezervacija:3697
CATEGORIES:Reservation
COLOR:royalblue
DESCRIPTION:Predmeti: \nLetniki: \nIzvajalci: Aleš Vavpetič\nProstori: 3
 .06
LOCATION:3.06
ORGANIZER:Aleš Vavpetič
X-WR-TIMEZONE:Europe/Ljubljana
END:VEVENT
END:VCALENDAR
