BEGIN:VCALENDAR
VERSION:2.0
PRODID:-//AFLabs urnik izvoz - fmf//aflabs.si//SI
DTSTAMP:20260422T220710Z
NAME:UL FMF urnik
REFRESH-INTERVAL:PT1H
SOURCE:https://urnik.fmf.uni-lj.si/teacher/40?day=2020-06-08&export=1
URL:https://urnik.fmf.uni-lj.si/teacher/40?day=2020-06-08&export=1
X-PUBLISHED-TTL:PT1H
X-WR-CALNAME:UL FMF urnik
X-WR-TIMEZONE:Europe/Ljubljana
BEGIN:VTIMEZONE
TZID:Europe/Ljubljana
BEGIN:DAYLIGHT
DTSTART:20260329T020000
RDATE:20260329T020000
RDATE:20270328T020000
TZNAME:CEST
TZOFFSETFROM:+0100
TZOFFSETTO:+0200
END:DAYLIGHT
BEGIN:STANDARD
DTSTART:20261025T030000
RDATE:20261025T030000
RDATE:20271031T030000
TZNAME:CET
TZOFFSETFROM:+0200
TZOFFSETTO:+0100
END:STANDARD
END:VTIMEZONE
BEGIN:VEVENT
SUMMARY:Afina in projektivna geometrija (FM-3\, IŠRM-3\, MAT-2\, PM-2)\, 
 Predavanja (P)
DTSTART;TZID=Europe/Ljubljana:20200505T100000
DTEND;TZID=Europe/Ljubljana:20200505T120000
DTSTAMP:20260422T220710Z
UID:fmf-AFLABS-URNIK:premaknjeno-srecanje:523
ATTENDEE:2. letnik (M)
ATTENDEE:2. letnik (PM)
ATTENDEE:3. letnik (FM)
ATTENDEE:3. letnik (IŠRM)
CATEGORIES:Entry,Standard
COLOR:darkgreen
DESCRIPTION:Predmet: Afina in projektivna geometrija (FM-3\, IŠRM-3\, MAT
 -2\, PM-2)\, Predavanja (P)\nLetniki: 3. letnik (FM)\, 3. letnik (IŠRM)\,
  2. letnik (M)\, 2. letnik (PM)\nIzvajalci: Aleš Vavpetič\nProstor: 2.03
LOCATION:2.03
ORGANIZER:Aleš Vavpetič
RELATED-TO:fmf-AFLABS-URNIK:srecanje:3972
X-WR-TIMEZONE:Europe/Ljubljana
END:VEVENT
BEGIN:VEVENT
SUMMARY:Afina in projektivna geometrija (FM-3\, IŠRM-3\, MAT-2\, PM-2)\, 
 Predavanja (P)
DTSTART;TZID=Europe/Ljubljana:20200512T100000
DTEND;TZID=Europe/Ljubljana:20200512T120000
DTSTAMP:20260422T220710Z
UID:fmf-AFLABS-URNIK:premaknjeno-srecanje:524
ATTENDEE:2. letnik (M)
ATTENDEE:2. letnik (PM)
ATTENDEE:3. letnik (FM)
ATTENDEE:3. letnik (IŠRM)
CATEGORIES:Entry,Standard
COLOR:darkgreen
DESCRIPTION:Predmet: Afina in projektivna geometrija (FM-3\, IŠRM-3\, MAT
 -2\, PM-2)\, Predavanja (P)\nLetniki: 3. letnik (FM)\, 3. letnik (IŠRM)\,
  2. letnik (M)\, 2. letnik (PM)\nIzvajalci: Aleš Vavpetič\nProstor: 2.03
LOCATION:2.03
ORGANIZER:Aleš Vavpetič
RELATED-TO:fmf-AFLABS-URNIK:srecanje:3972
X-WR-TIMEZONE:Europe/Ljubljana
END:VEVENT
BEGIN:VEVENT
SUMMARY:Afina in projektivna geometrija (FM-3\, IŠRM-3\, MAT-2\, PM-2)\, 
 Predavanja (P)
DTSTART;TZID=Europe/Ljubljana:20200519T100000
DTEND;TZID=Europe/Ljubljana:20200519T120000
DTSTAMP:20260422T220710Z
UID:fmf-AFLABS-URNIK:premaknjeno-srecanje:525
ATTENDEE:2. letnik (M)
ATTENDEE:2. letnik (PM)
ATTENDEE:3. letnik (FM)
ATTENDEE:3. letnik (IŠRM)
CATEGORIES:Entry,Standard
COLOR:darkgreen
DESCRIPTION:Predmet: Afina in projektivna geometrija (FM-3\, IŠRM-3\, MAT
 -2\, PM-2)\, Predavanja (P)\nLetniki: 3. letnik (FM)\, 3. letnik (IŠRM)\,
  2. letnik (M)\, 2. letnik (PM)\nIzvajalci: Aleš Vavpetič\nProstor: 2.03
LOCATION:2.03
ORGANIZER:Aleš Vavpetič
RELATED-TO:fmf-AFLABS-URNIK:srecanje:3972
X-WR-TIMEZONE:Europe/Ljubljana
END:VEVENT
BEGIN:VEVENT
SUMMARY:Afina in projektivna geometrija (FM-3\, IŠRM-3\, MAT-2\, PM-2)\, 
 Predavanja (P)
DTSTART;TZID=Europe/Ljubljana:20200526T100000
DTEND;TZID=Europe/Ljubljana:20200526T120000
DTSTAMP:20260422T220710Z
UID:fmf-AFLABS-URNIK:premaknjeno-srecanje:526
ATTENDEE:2. letnik (M)
ATTENDEE:2. letnik (PM)
ATTENDEE:3. letnik (FM)
ATTENDEE:3. letnik (IŠRM)
CATEGORIES:Entry,Standard
COLOR:darkgreen
DESCRIPTION:Predmet: Afina in projektivna geometrija (FM-3\, IŠRM-3\, MAT
 -2\, PM-2)\, Predavanja (P)\nLetniki: 3. letnik (FM)\, 3. letnik (IŠRM)\,
  2. letnik (M)\, 2. letnik (PM)\nIzvajalci: Aleš Vavpetič\nProstor: 2.03
LOCATION:2.03
ORGANIZER:Aleš Vavpetič
RELATED-TO:fmf-AFLABS-URNIK:srecanje:3972
X-WR-TIMEZONE:Europe/Ljubljana
END:VEVENT
BEGIN:VEVENT
SUMMARY:Uvod v geometrijsko topologijo (FM-3\, IŠRM-3\, MAT-2\, PM-4)\, V
 aje (V)
DTSTART;TZID=Europe/Ljubljana:20200505T120000
DTEND;TZID=Europe/Ljubljana:20200505T140000
DTSTAMP:20260422T220710Z
UID:fmf-AFLABS-URNIK:premaknjeno-srecanje:116516
ATTENDEE:2. letnik (M)
ATTENDEE:3. letnik (FM)
ATTENDEE:3. letnik (IŠRM)
ATTENDEE:4. letnik (PM)
CATEGORIES:Entry,Standard
COLOR:darkgreen
DESCRIPTION:Predmet: Uvod v geometrijsko topologijo (FM-3\, IŠRM-3\, MAT-
 2\, PM-4)\, Vaje (V)\nLetniki: 3. letnik (FM)\, 3. letnik (IŠRM)\, 2. let
 nik (M)\, 4. letnik (PM)\nIzvajalci: Aleš Vavpetič\nProstor: 3.05
LOCATION:3.05
ORGANIZER:Aleš Vavpetič
RELATED-TO:fmf-AFLABS-URNIK:srecanje:4507
X-WR-TIMEZONE:Europe/Ljubljana
END:VEVENT
BEGIN:VEVENT
SUMMARY:Uvod v geometrijsko topologijo (FM-3\, IŠRM-3\, MAT-2\, PM-4)\, V
 aje (V)
DTSTART;TZID=Europe/Ljubljana:20200512T120000
DTEND;TZID=Europe/Ljubljana:20200512T140000
DTSTAMP:20260422T220710Z
UID:fmf-AFLABS-URNIK:premaknjeno-srecanje:116517
ATTENDEE:2. letnik (M)
ATTENDEE:3. letnik (FM)
ATTENDEE:3. letnik (IŠRM)
ATTENDEE:4. letnik (PM)
CATEGORIES:Entry,Standard
COLOR:darkgreen
DESCRIPTION:Predmet: Uvod v geometrijsko topologijo (FM-3\, IŠRM-3\, MAT-
 2\, PM-4)\, Vaje (V)\nLetniki: 3. letnik (FM)\, 3. letnik (IŠRM)\, 2. let
 nik (M)\, 4. letnik (PM)\nIzvajalci: Aleš Vavpetič\nProstor: 3.05
LOCATION:3.05
ORGANIZER:Aleš Vavpetič
RELATED-TO:fmf-AFLABS-URNIK:srecanje:4507
X-WR-TIMEZONE:Europe/Ljubljana
END:VEVENT
BEGIN:VEVENT
SUMMARY:Uvod v geometrijsko topologijo (FM-3\, IŠRM-3\, MAT-2\, PM-4)\, V
 aje (V)
DTSTART;TZID=Europe/Ljubljana:20200519T120000
DTEND;TZID=Europe/Ljubljana:20200519T140000
DTSTAMP:20260422T220710Z
UID:fmf-AFLABS-URNIK:premaknjeno-srecanje:116518
ATTENDEE:2. letnik (M)
ATTENDEE:3. letnik (FM)
ATTENDEE:3. letnik (IŠRM)
ATTENDEE:4. letnik (PM)
CATEGORIES:Entry,Standard
COLOR:darkgreen
DESCRIPTION:Predmet: Uvod v geometrijsko topologijo (FM-3\, IŠRM-3\, MAT-
 2\, PM-4)\, Vaje (V)\nLetniki: 3. letnik (FM)\, 3. letnik (IŠRM)\, 2. let
 nik (M)\, 4. letnik (PM)\nIzvajalci: Aleš Vavpetič\nProstor: 3.05
LOCATION:3.05
ORGANIZER:Aleš Vavpetič
RELATED-TO:fmf-AFLABS-URNIK:srecanje:4507
X-WR-TIMEZONE:Europe/Ljubljana
END:VEVENT
BEGIN:VEVENT
SUMMARY:Uvod v geometrijsko topologijo (FM-3\, IŠRM-3\, MAT-2\, PM-4)\, V
 aje (V)
DTSTART;TZID=Europe/Ljubljana:20200526T120000
DTEND;TZID=Europe/Ljubljana:20200526T140000
DTSTAMP:20260422T220710Z
UID:fmf-AFLABS-URNIK:premaknjeno-srecanje:116519
ATTENDEE:2. letnik (M)
ATTENDEE:3. letnik (FM)
ATTENDEE:3. letnik (IŠRM)
ATTENDEE:4. letnik (PM)
CATEGORIES:Entry,Standard
COLOR:darkgreen
DESCRIPTION:Predmet: Uvod v geometrijsko topologijo (FM-3\, IŠRM-3\, MAT-
 2\, PM-4)\, Vaje (V)\nLetniki: 3. letnik (FM)\, 3. letnik (IŠRM)\, 2. let
 nik (M)\, 4. letnik (PM)\nIzvajalci: Aleš Vavpetič\nProstor: 3.05
LOCATION:3.05
ORGANIZER:Aleš Vavpetič
RELATED-TO:fmf-AFLABS-URNIK:srecanje:4507
X-WR-TIMEZONE:Europe/Ljubljana
END:VEVENT
BEGIN:VEVENT
SUMMARY:Algebra 1 (FM-1)\, Vaje (V)\, [1]
DTSTART;TZID=Europe/Ljubljana:20200507T100000
DTEND;TZID=Europe/Ljubljana:20200507T120000
DTSTAMP:20260422T220710Z
UID:fmf-AFLABS-URNIK:premaknjeno-srecanje:2103
ATTENDEE:1. letnik (FM)
CATEGORIES:Entry,Standard
COLOR:darkgreen
DESCRIPTION:Predmet: Algebra 1 (FM-1)\, Vaje (V)\, [1]\nLetniki: 1. letnik
  (FM)\nIzvajalci: Aleš Vavpetič\nProstor: P.01
LOCATION:P.01
ORGANIZER:Aleš Vavpetič
RELATED-TO:fmf-AFLABS-URNIK:srecanje:3981
X-WR-TIMEZONE:Europe/Ljubljana
END:VEVENT
BEGIN:VEVENT
SUMMARY:Algebra 1 (FM-1)\, Vaje (V)\, [1]
DTSTART;TZID=Europe/Ljubljana:20200514T100000
DTEND;TZID=Europe/Ljubljana:20200514T120000
DTSTAMP:20260422T220710Z
UID:fmf-AFLABS-URNIK:premaknjeno-srecanje:2104
ATTENDEE:1. letnik (FM)
CATEGORIES:Entry,Standard
COLOR:darkgreen
DESCRIPTION:Predmet: Algebra 1 (FM-1)\, Vaje (V)\, [1]\nLetniki: 1. letnik
  (FM)\nIzvajalci: Aleš Vavpetič\nProstor: P.01
LOCATION:P.01
ORGANIZER:Aleš Vavpetič
RELATED-TO:fmf-AFLABS-URNIK:srecanje:3981
X-WR-TIMEZONE:Europe/Ljubljana
END:VEVENT
BEGIN:VEVENT
SUMMARY:Algebra 1 (FM-1)\, Vaje (V)\, [1]
DTSTART;TZID=Europe/Ljubljana:20200521T100000
DTEND;TZID=Europe/Ljubljana:20200521T120000
DTSTAMP:20260422T220710Z
UID:fmf-AFLABS-URNIK:premaknjeno-srecanje:2105
ATTENDEE:1. letnik (FM)
CATEGORIES:Entry,Standard
COLOR:darkgreen
DESCRIPTION:Predmet: Algebra 1 (FM-1)\, Vaje (V)\, [1]\nLetniki: 1. letnik
  (FM)\nIzvajalci: Aleš Vavpetič\nProstor: P.01
LOCATION:P.01
ORGANIZER:Aleš Vavpetič
RELATED-TO:fmf-AFLABS-URNIK:srecanje:3981
X-WR-TIMEZONE:Europe/Ljubljana
END:VEVENT
BEGIN:VEVENT
SUMMARY:Algebra 1 (FM-1)\, Vaje (V)\, [1]
DTSTART;TZID=Europe/Ljubljana:20200528T100000
DTEND;TZID=Europe/Ljubljana:20200528T120000
DTSTAMP:20260422T220710Z
UID:fmf-AFLABS-URNIK:premaknjeno-srecanje:2106
ATTENDEE:1. letnik (FM)
CATEGORIES:Entry,Standard
COLOR:darkgreen
DESCRIPTION:Predmet: Algebra 1 (FM-1)\, Vaje (V)\, [1]\nLetniki: 1. letnik
  (FM)\nIzvajalci: Aleš Vavpetič\nProstor: P.01
LOCATION:P.01
ORGANIZER:Aleš Vavpetič
RELATED-TO:fmf-AFLABS-URNIK:srecanje:3981
X-WR-TIMEZONE:Europe/Ljubljana
END:VEVENT
BEGIN:VEVENT
SUMMARY:Rezervacija
DTSTART;TZID=Europe/Ljubljana:20200527T160000
DTEND;TZID=Europe/Ljubljana:20200527T180000
DTSTAMP:20260422T220710Z
UID:fmf-AFLABS-URNIK:rezervacija:5370
CATEGORIES:Reservation
COLOR:royalblue
DESCRIPTION:Predmeti: \nLetniki: \nIzvajalci: Primož Moravec\, Aleš Vavp
 etič\nProstori: 2.01\, VFP
LOCATION:2.01\, VFP
ORGANIZER:Primož Moravec, Aleš Vavpetič
X-WR-TIMEZONE:Europe/Ljubljana
END:VEVENT
BEGIN:VEVENT
SUMMARY:Rezervacija
DTSTART;TZID=Europe/Ljubljana:20200615T120000
DTEND;TZID=Europe/Ljubljana:20200615T140000
DTSTAMP:20260422T220710Z
UID:fmf-AFLABS-URNIK:rezervacija:5520
CATEGORIES:Reservation
COLOR:royalblue
DESCRIPTION:Predmeti: \nLetniki: \nIzvajalci: Primož Moravec\, Aleš Vavp
 etič\nProstori: 2.05\, 3.05
LOCATION:2.05\, 3.05
ORGANIZER:Primož Moravec, Aleš Vavpetič
X-WR-TIMEZONE:Europe/Ljubljana
END:VEVENT
BEGIN:VEVENT
SUMMARY:Rezervacija
DTSTART;TZID=Europe/Ljubljana:20200616T090000
DTEND;TZID=Europe/Ljubljana:20200616T110000
DTSTAMP:20260422T220710Z
UID:fmf-AFLABS-URNIK:rezervacija:5528
CATEGORIES:Reservation
COLOR:royalblue
DESCRIPTION:Predmeti: \nLetniki: \nIzvajalci: Janez Mrčun\, Aleš Vavpeti
 č\nProstori: 3.04\, 3.05
LOCATION:3.04\, 3.05
ORGANIZER:Janez Mrčun, Aleš Vavpetič
X-WR-TIMEZONE:Europe/Ljubljana
END:VEVENT
BEGIN:VEVENT
SUMMARY:Rezervacija
DTSTART;TZID=Europe/Ljubljana:20200617T090000
DTEND;TZID=Europe/Ljubljana:20200617T110000
DTSTAMP:20260422T220710Z
UID:fmf-AFLABS-URNIK:rezervacija:5546
CATEGORIES:Reservation
COLOR:royalblue
DESCRIPTION:Predmeti: \nLetniki: \nIzvajalci: Jure Kališnik\, Aleš Vavpe
 tič\nProstori: 2.05
LOCATION:2.05
ORGANIZER:Jure Kališnik, Aleš Vavpetič
X-WR-TIMEZONE:Europe/Ljubljana
END:VEVENT
BEGIN:VEVENT
SUMMARY:Rezervacija
DTSTART;TZID=Europe/Ljubljana:20200617T100000
DTEND;TZID=Europe/Ljubljana:20200617T120000
DTSTAMP:20260422T220710Z
UID:fmf-AFLABS-URNIK:rezervacija:5554
CATEGORIES:Reservation
COLOR:royalblue
DESCRIPTION:Predmeti: \nLetniki: \nIzvajalci: Aleš Vavpetič\nProstori: 2
 .01
LOCATION:2.01
ORGANIZER:Aleš Vavpetič
X-WR-TIMEZONE:Europe/Ljubljana
END:VEVENT
BEGIN:VEVENT
SUMMARY:Rezervacija
DTSTART;TZID=Europe/Ljubljana:20200702T140000
DTEND;TZID=Europe/Ljubljana:20200702T160000
DTSTAMP:20260422T220710Z
UID:fmf-AFLABS-URNIK:rezervacija:5758
CATEGORIES:Reservation
COLOR:royalblue
DESCRIPTION:Predmeti: \nLetniki: \nIzvajalci: Aleš Vavpetič\nProstori: 3
 .04
LOCATION:3.04
ORGANIZER:Aleš Vavpetič
X-WR-TIMEZONE:Europe/Ljubljana
END:VEVENT
BEGIN:VEVENT
SUMMARY:Rezervacija
DTSTART;TZID=Europe/Ljubljana:20200708T090000
DTEND;TZID=Europe/Ljubljana:20200708T110000
DTSTAMP:20260422T220710Z
UID:fmf-AFLABS-URNIK:rezervacija:5817
CATEGORIES:Reservation
COLOR:royalblue
DESCRIPTION:Predmeti: \nLetniki: \nIzvajalci: Aleš Vavpetič\nProstori: 2
 .01
LOCATION:2.01
ORGANIZER:Aleš Vavpetič
X-WR-TIMEZONE:Europe/Ljubljana
END:VEVENT
BEGIN:VEVENT
SUMMARY:Rezervacija
DTSTART;TZID=Europe/Ljubljana:20200713T100000
DTEND;TZID=Europe/Ljubljana:20200713T120000
DTSTAMP:20260422T220710Z
UID:fmf-AFLABS-URNIK:rezervacija:5856
CATEGORIES:Reservation
COLOR:royalblue
DESCRIPTION:Predmeti: \nLetniki: \nIzvajalci: Aleš Vavpetič\nProstori: 3
 .04
LOCATION:3.04
ORGANIZER:Aleš Vavpetič
X-WR-TIMEZONE:Europe/Ljubljana
END:VEVENT
END:VCALENDAR
