BEGIN:VCALENDAR
VERSION:2.0
PRODID:-//AFLabs urnik izvoz - fmf//aflabs.si//SI
DTSTAMP:20260421T045106Z
NAME:UL FMF urnik
REFRESH-INTERVAL:PT1H
SOURCE:https://urnik.fmf.uni-lj.si/teacher/40?day=2021-02-08&export=1
URL:https://urnik.fmf.uni-lj.si/teacher/40?day=2021-02-08&export=1
X-PUBLISHED-TTL:PT1H
X-WR-CALNAME:UL FMF urnik
X-WR-TIMEZONE:Europe/Ljubljana
BEGIN:VTIMEZONE
TZID:Europe/Ljubljana
BEGIN:DAYLIGHT
DTSTART:20260329T020000
RDATE:20260329T020000
RDATE:20270328T020000
TZNAME:CEST
TZOFFSETFROM:+0100
TZOFFSETTO:+0200
END:DAYLIGHT
BEGIN:STANDARD
DTSTART:20261025T030000
RDATE:20261025T030000
RDATE:20271031T030000
TZNAME:CET
TZOFFSETFROM:+0200
TZOFFSETTO:+0100
END:STANDARD
END:VTIMEZONE
BEGIN:VEVENT
SUMMARY:Algebra 1 (FM-1)\, Vaje (V)\, [1]
DTSTART;TZID=Europe/Ljubljana:20210104T080000
DTEND;TZID=Europe/Ljubljana:20210104T100000
DTSTAMP:20260421T045106Z
UID:fmf-AFLABS-URNIK:premaknjeno-srecanje:1664
ATTENDEE:1. letnik (FM)
CATEGORIES:Entry,Standard
COLOR:darkgreen
DESCRIPTION:Predmet: Algebra 1 (FM-1)\, Vaje (V)\, [1]\nLetniki: 1. letnik
  (FM)\nIzvajalci: Aleš Vavpetič\nProstor: 2.01
LOCATION:2.01
ORGANIZER:Aleš Vavpetič
RELATED-TO:fmf-AFLABS-URNIK:srecanje:4655
X-WR-TIMEZONE:Europe/Ljubljana
END:VEVENT
BEGIN:VEVENT
SUMMARY:Algebra 1 (FM-1)\, Vaje (V)\, [1]
DTSTART;TZID=Europe/Ljubljana:20210111T080000
DTEND;TZID=Europe/Ljubljana:20210111T100000
DTSTAMP:20260421T045106Z
UID:fmf-AFLABS-URNIK:premaknjeno-srecanje:1665
ATTENDEE:1. letnik (FM)
CATEGORIES:Entry,Standard
COLOR:darkgreen
DESCRIPTION:Predmet: Algebra 1 (FM-1)\, Vaje (V)\, [1]\nLetniki: 1. letnik
  (FM)\nIzvajalci: Aleš Vavpetič\nProstor: 2.01
LOCATION:2.01
ORGANIZER:Aleš Vavpetič
RELATED-TO:fmf-AFLABS-URNIK:srecanje:4655
X-WR-TIMEZONE:Europe/Ljubljana
END:VEVENT
BEGIN:VEVENT
SUMMARY:Algebra 1 (FM-1)\, Vaje (V)\, [2]
DTSTART;TZID=Europe/Ljubljana:20210104T080000
DTEND;TZID=Europe/Ljubljana:20210104T100000
DTSTAMP:20260421T045106Z
UID:fmf-AFLABS-URNIK:premaknjeno-srecanje:2227
ATTENDEE:1. letnik (FM)
CATEGORIES:Entry,Standard
COLOR:darkgreen
DESCRIPTION:Predmet: Algebra 1 (FM-1)\, Vaje (V)\, [2]\nLetniki: 1. letnik
  (FM)\nIzvajalci: Aleš Vavpetič\nProstor: Na daljavo
LOCATION:Na daljavo
ORGANIZER:Aleš Vavpetič
RELATED-TO:fmf-AFLABS-URNIK:srecanje:4658
X-WR-TIMEZONE:Europe/Ljubljana
END:VEVENT
BEGIN:VEVENT
SUMMARY:Algebra 1 (FM-1)\, Vaje (V)\, [2]
DTSTART;TZID=Europe/Ljubljana:20210111T080000
DTEND;TZID=Europe/Ljubljana:20210111T100000
DTSTAMP:20260421T045106Z
UID:fmf-AFLABS-URNIK:premaknjeno-srecanje:2228
ATTENDEE:1. letnik (FM)
CATEGORIES:Entry,Standard
COLOR:darkgreen
DESCRIPTION:Predmet: Algebra 1 (FM-1)\, Vaje (V)\, [2]\nLetniki: 1. letnik
  (FM)\nIzvajalci: Aleš Vavpetič\nProstor: Na daljavo
LOCATION:Na daljavo
ORGANIZER:Aleš Vavpetič
RELATED-TO:fmf-AFLABS-URNIK:srecanje:4658
X-WR-TIMEZONE:Europe/Ljubljana
END:VEVENT
BEGIN:VEVENT
SUMMARY:Proseminar (FM-1)\, Predavanja (P)
DTSTART;TZID=Europe/Ljubljana:20210105T120000
DTEND;TZID=Europe/Ljubljana:20210105T140000
DTSTAMP:20260421T045106Z
UID:fmf-AFLABS-URNIK:premaknjeno-srecanje:88225
ATTENDEE:1. letnik (FM)
CATEGORIES:Entry,Standard
COLOR:darkgreen
DESCRIPTION:Predmet: Proseminar (FM-1)\, Predavanja (P)\nLetniki: 1. letni
 k (FM)\nIzvajalci: Aleš Vavpetič\nProstor: 2.05
LOCATION:2.05
ORGANIZER:Aleš Vavpetič
RELATED-TO:fmf-AFLABS-URNIK:srecanje:5103
X-WR-TIMEZONE:Europe/Ljubljana
END:VEVENT
BEGIN:VEVENT
SUMMARY:Proseminar (FM-1)\, Predavanja (P)
DTSTART;TZID=Europe/Ljubljana:20210112T120000
DTEND;TZID=Europe/Ljubljana:20210112T140000
DTSTAMP:20260421T045106Z
UID:fmf-AFLABS-URNIK:premaknjeno-srecanje:88226
ATTENDEE:1. letnik (FM)
CATEGORIES:Entry,Standard
COLOR:darkgreen
DESCRIPTION:Predmet: Proseminar (FM-1)\, Predavanja (P)\nLetniki: 1. letni
 k (FM)\nIzvajalci: Aleš Vavpetič\nProstor: 2.05
LOCATION:2.05
ORGANIZER:Aleš Vavpetič
RELATED-TO:fmf-AFLABS-URNIK:srecanje:5103
X-WR-TIMEZONE:Europe/Ljubljana
END:VEVENT
BEGIN:VEVENT
SUMMARY:Algebra 1 (FM-1)\, Vaje (V)\, [1]
DTSTART;TZID=Europe/Ljubljana:20210106T080000
DTEND;TZID=Europe/Ljubljana:20210106T100000
DTSTAMP:20260421T045106Z
UID:fmf-AFLABS-URNIK:premaknjeno-srecanje:1951
ATTENDEE:1. letnik (FM)
CATEGORIES:Entry,Standard
COLOR:darkgreen
DESCRIPTION:Predmet: Algebra 1 (FM-1)\, Vaje (V)\, [1]\nLetniki: 1. letnik
  (FM)\nIzvajalci: Aleš Vavpetič\nProstor: 2.01
LOCATION:2.01
ORGANIZER:Aleš Vavpetič
RELATED-TO:fmf-AFLABS-URNIK:srecanje:4657
X-WR-TIMEZONE:Europe/Ljubljana
END:VEVENT
BEGIN:VEVENT
SUMMARY:Algebra 1 (FM-1)\, Vaje (V)\, [1]
DTSTART;TZID=Europe/Ljubljana:20210113T080000
DTEND;TZID=Europe/Ljubljana:20210113T100000
DTSTAMP:20260421T045106Z
UID:fmf-AFLABS-URNIK:premaknjeno-srecanje:1952
ATTENDEE:1. letnik (FM)
CATEGORIES:Entry,Standard
COLOR:darkgreen
DESCRIPTION:Predmet: Algebra 1 (FM-1)\, Vaje (V)\, [1]\nLetniki: 1. letnik
  (FM)\nIzvajalci: Aleš Vavpetič\nProstor: 2.01
LOCATION:2.01
ORGANIZER:Aleš Vavpetič
RELATED-TO:fmf-AFLABS-URNIK:srecanje:4657
X-WR-TIMEZONE:Europe/Ljubljana
END:VEVENT
BEGIN:VEVENT
SUMMARY:Algebra 1 (FM-1)\, Vaje (V)\, [2]
DTSTART;TZID=Europe/Ljubljana:20210106T080000
DTEND;TZID=Europe/Ljubljana:20210106T100000
DTSTAMP:20260421T045106Z
UID:fmf-AFLABS-URNIK:premaknjeno-srecanje:2528
ATTENDEE:1. letnik (FM)
CATEGORIES:Entry,Standard
COLOR:darkgreen
DESCRIPTION:Predmet: Algebra 1 (FM-1)\, Vaje (V)\, [2]\nLetniki: 1. letnik
  (FM)\nIzvajalci: Aleš Vavpetič\nProstor: Na daljavo
LOCATION:Na daljavo
ORGANIZER:Aleš Vavpetič
RELATED-TO:fmf-AFLABS-URNIK:srecanje:4660
X-WR-TIMEZONE:Europe/Ljubljana
END:VEVENT
BEGIN:VEVENT
SUMMARY:Algebra 1 (FM-1)\, Vaje (V)\, [2]
DTSTART;TZID=Europe/Ljubljana:20210113T080000
DTEND;TZID=Europe/Ljubljana:20210113T100000
DTSTAMP:20260421T045106Z
UID:fmf-AFLABS-URNIK:premaknjeno-srecanje:2529
ATTENDEE:1. letnik (FM)
CATEGORIES:Entry,Standard
COLOR:darkgreen
DESCRIPTION:Predmet: Algebra 1 (FM-1)\, Vaje (V)\, [2]\nLetniki: 1. letnik
  (FM)\nIzvajalci: Aleš Vavpetič\nProstor: Na daljavo
LOCATION:Na daljavo
ORGANIZER:Aleš Vavpetič
RELATED-TO:fmf-AFLABS-URNIK:srecanje:4660
X-WR-TIMEZONE:Europe/Ljubljana
END:VEVENT
BEGIN:VEVENT
SUMMARY:None\, Ostalo (O)
DTSTART;TZID=Europe/Ljubljana:20210108T120000
DTEND;TZID=Europe/Ljubljana:20210108T140000
DTSTAMP:20260421T045106Z
UID:fmf-AFLABS-URNIK:premaknjeno-srecanje:286
CATEGORIES:Entry,Standard
COLOR:darkgreen
DESCRIPTION:Predmet: None\, Ostalo (O)\nLetniki: /\nIzvajalci: Aleš Vavpe
 tič\nProstor: RG
LOCATION:RG
ORGANIZER:Aleš Vavpetič
RELATED-TO:fmf-AFLABS-URNIK:srecanje:4650
X-WR-TIMEZONE:Europe/Ljubljana
END:VEVENT
BEGIN:VEVENT
SUMMARY:None\, Ostalo (O)
DTSTART;TZID=Europe/Ljubljana:20210115T120000
DTEND;TZID=Europe/Ljubljana:20210115T140000
DTSTAMP:20260421T045106Z
UID:fmf-AFLABS-URNIK:premaknjeno-srecanje:287
CATEGORIES:Entry,Standard
COLOR:darkgreen
DESCRIPTION:Predmet: None\, Ostalo (O)\nLetniki: /\nIzvajalci: Aleš Vavpe
 tič\nProstor: RG
LOCATION:RG
ORGANIZER:Aleš Vavpetič
RELATED-TO:fmf-AFLABS-URNIK:srecanje:4650
X-WR-TIMEZONE:Europe/Ljubljana
END:VEVENT
BEGIN:VEVENT
SUMMARY:Uvod v geometrijsko topologijo (FM-3\, IŠRM-3\, MAT-2\, PM-4)\, V
 aje (V)
DTSTART;TZID=Europe/Ljubljana:20210216T120000
DTEND;TZID=Europe/Ljubljana:20210216T140000
DTSTAMP:20260421T045106Z
UID:fmf-AFLABS-URNIK:premaknjeno-srecanje:116520
ATTENDEE:2. letnik (M)
ATTENDEE:3. letnik (FM)
ATTENDEE:3. letnik (IŠRM)
ATTENDEE:4. letnik (PM)
CATEGORIES:Entry,Standard
COLOR:darkgreen
DESCRIPTION:Predmet: Uvod v geometrijsko topologijo (FM-3\, IŠRM-3\, MAT-
 2\, PM-4)\, Vaje (V)\nLetniki: 3. letnik (FM)\, 3. letnik (IŠRM)\, 2. let
 nik (M)\, 4. letnik (PM)\nIzvajalci: Aleš Vavpetič\nProstor: 3.07
LOCATION:3.07
ORGANIZER:Aleš Vavpetič
RELATED-TO:fmf-AFLABS-URNIK:srecanje:5956
X-WR-TIMEZONE:Europe/Ljubljana
END:VEVENT
BEGIN:VEVENT
SUMMARY:Uvod v geometrijsko topologijo (FM-3\, IŠRM-3\, MAT-2\, PM-4)\, V
 aje (V)
DTSTART;TZID=Europe/Ljubljana:20210223T120000
DTEND;TZID=Europe/Ljubljana:20210223T140000
DTSTAMP:20260421T045106Z
UID:fmf-AFLABS-URNIK:premaknjeno-srecanje:116521
ATTENDEE:2. letnik (M)
ATTENDEE:3. letnik (FM)
ATTENDEE:3. letnik (IŠRM)
ATTENDEE:4. letnik (PM)
CATEGORIES:Entry,Standard
COLOR:darkgreen
DESCRIPTION:Predmet: Uvod v geometrijsko topologijo (FM-3\, IŠRM-3\, MAT-
 2\, PM-4)\, Vaje (V)\nLetniki: 3. letnik (FM)\, 3. letnik (IŠRM)\, 2. let
 nik (M)\, 4. letnik (PM)\nIzvajalci: Aleš Vavpetič\nProstor: 3.07
LOCATION:3.07
ORGANIZER:Aleš Vavpetič
RELATED-TO:fmf-AFLABS-URNIK:srecanje:5956
X-WR-TIMEZONE:Europe/Ljubljana
END:VEVENT
BEGIN:VEVENT
SUMMARY:Uvod v geometrijsko topologijo (FM-3\, IŠRM-3\, MAT-2\, PM-4)\, V
 aje (V)
DTSTART;TZID=Europe/Ljubljana:20210302T120000
DTEND;TZID=Europe/Ljubljana:20210302T140000
DTSTAMP:20260421T045106Z
UID:fmf-AFLABS-URNIK:premaknjeno-srecanje:116522
ATTENDEE:2. letnik (M)
ATTENDEE:3. letnik (FM)
ATTENDEE:3. letnik (IŠRM)
ATTENDEE:4. letnik (PM)
CATEGORIES:Entry,Standard
COLOR:darkgreen
DESCRIPTION:Predmet: Uvod v geometrijsko topologijo (FM-3\, IŠRM-3\, MAT-
 2\, PM-4)\, Vaje (V)\nLetniki: 3. letnik (FM)\, 3. letnik (IŠRM)\, 2. let
 nik (M)\, 4. letnik (PM)\nIzvajalci: Aleš Vavpetič\nProstor: 3.07
LOCATION:3.07
ORGANIZER:Aleš Vavpetič
RELATED-TO:fmf-AFLABS-URNIK:srecanje:5956
X-WR-TIMEZONE:Europe/Ljubljana
END:VEVENT
BEGIN:VEVENT
SUMMARY:Uvod v geometrijsko topologijo (FM-3\, IŠRM-3\, MAT-2\, PM-4)\, V
 aje (V)
DTSTART;TZID=Europe/Ljubljana:20210309T120000
DTEND;TZID=Europe/Ljubljana:20210309T140000
DTSTAMP:20260421T045106Z
UID:fmf-AFLABS-URNIK:premaknjeno-srecanje:116523
ATTENDEE:2. letnik (M)
ATTENDEE:3. letnik (FM)
ATTENDEE:3. letnik (IŠRM)
ATTENDEE:4. letnik (PM)
CATEGORIES:Entry,Standard
COLOR:darkgreen
DESCRIPTION:Predmet: Uvod v geometrijsko topologijo (FM-3\, IŠRM-3\, MAT-
 2\, PM-4)\, Vaje (V)\nLetniki: 3. letnik (FM)\, 3. letnik (IŠRM)\, 2. let
 nik (M)\, 4. letnik (PM)\nIzvajalci: Aleš Vavpetič\nProstor: 3.07
LOCATION:3.07
ORGANIZER:Aleš Vavpetič
RELATED-TO:fmf-AFLABS-URNIK:srecanje:5956
X-WR-TIMEZONE:Europe/Ljubljana
END:VEVENT
BEGIN:VEVENT
SUMMARY:Afina in projektivna geometrija (FM-3\, IŠRM-3\, MAT-2\, PM-2)\, 
 Predavanja (P)
DTSTART;TZID=Europe/Ljubljana:20210218T120000
DTEND;TZID=Europe/Ljubljana:20210218T140000
DTSTAMP:20260421T045106Z
UID:fmf-AFLABS-URNIK:premaknjeno-srecanje:574
ATTENDEE:2. letnik (M)
ATTENDEE:2. letnik (PM)
ATTENDEE:3. letnik (FM)
ATTENDEE:3. letnik (IŠRM)
CATEGORIES:Entry,Standard
COLOR:darkgreen
DESCRIPTION:Predmet: Afina in projektivna geometrija (FM-3\, IŠRM-3\, MAT
 -2\, PM-2)\, Predavanja (P)\nLetniki: 3. letnik (FM)\, 3. letnik (IŠRM)\,
  2. letnik (M)\, 2. letnik (PM)\nIzvajalci: Aleš Vavpetič\nProstor: 2.02
LOCATION:2.02
ORGANIZER:Aleš Vavpetič
RELATED-TO:fmf-AFLABS-URNIK:srecanje:5432
X-WR-TIMEZONE:Europe/Ljubljana
END:VEVENT
BEGIN:VEVENT
SUMMARY:Afina in projektivna geometrija (FM-3\, IŠRM-3\, MAT-2\, PM-2)\, 
 Predavanja (P)
DTSTART;TZID=Europe/Ljubljana:20210225T120000
DTEND;TZID=Europe/Ljubljana:20210225T140000
DTSTAMP:20260421T045106Z
UID:fmf-AFLABS-URNIK:premaknjeno-srecanje:575
ATTENDEE:2. letnik (M)
ATTENDEE:2. letnik (PM)
ATTENDEE:3. letnik (FM)
ATTENDEE:3. letnik (IŠRM)
CATEGORIES:Entry,Standard
COLOR:darkgreen
DESCRIPTION:Predmet: Afina in projektivna geometrija (FM-3\, IŠRM-3\, MAT
 -2\, PM-2)\, Predavanja (P)\nLetniki: 3. letnik (FM)\, 3. letnik (IŠRM)\,
  2. letnik (M)\, 2. letnik (PM)\nIzvajalci: Aleš Vavpetič\nProstor: 2.02
LOCATION:2.02
ORGANIZER:Aleš Vavpetič
RELATED-TO:fmf-AFLABS-URNIK:srecanje:5432
X-WR-TIMEZONE:Europe/Ljubljana
END:VEVENT
BEGIN:VEVENT
SUMMARY:Afina in projektivna geometrija (FM-3\, IŠRM-3\, MAT-2\, PM-2)\, 
 Predavanja (P)
DTSTART;TZID=Europe/Ljubljana:20210304T120000
DTEND;TZID=Europe/Ljubljana:20210304T140000
DTSTAMP:20260421T045106Z
UID:fmf-AFLABS-URNIK:premaknjeno-srecanje:576
ATTENDEE:2. letnik (M)
ATTENDEE:2. letnik (PM)
ATTENDEE:3. letnik (FM)
ATTENDEE:3. letnik (IŠRM)
CATEGORIES:Entry,Standard
COLOR:darkgreen
DESCRIPTION:Predmet: Afina in projektivna geometrija (FM-3\, IŠRM-3\, MAT
 -2\, PM-2)\, Predavanja (P)\nLetniki: 3. letnik (FM)\, 3. letnik (IŠRM)\,
  2. letnik (M)\, 2. letnik (PM)\nIzvajalci: Aleš Vavpetič\nProstor: 2.02
LOCATION:2.02
ORGANIZER:Aleš Vavpetič
RELATED-TO:fmf-AFLABS-URNIK:srecanje:5432
X-WR-TIMEZONE:Europe/Ljubljana
END:VEVENT
BEGIN:VEVENT
SUMMARY:Afina in projektivna geometrija (FM-3\, IŠRM-3\, MAT-2\, PM-2)\, 
 Predavanja (P)
DTSTART;TZID=Europe/Ljubljana:20210311T120000
DTEND;TZID=Europe/Ljubljana:20210311T140000
DTSTAMP:20260421T045106Z
UID:fmf-AFLABS-URNIK:premaknjeno-srecanje:577
ATTENDEE:2. letnik (M)
ATTENDEE:2. letnik (PM)
ATTENDEE:3. letnik (FM)
ATTENDEE:3. letnik (IŠRM)
CATEGORIES:Entry,Standard
COLOR:darkgreen
DESCRIPTION:Predmet: Afina in projektivna geometrija (FM-3\, IŠRM-3\, MAT
 -2\, PM-2)\, Predavanja (P)\nLetniki: 3. letnik (FM)\, 3. letnik (IŠRM)\,
  2. letnik (M)\, 2. letnik (PM)\nIzvajalci: Aleš Vavpetič\nProstor: 2.02
LOCATION:2.02
ORGANIZER:Aleš Vavpetič
RELATED-TO:fmf-AFLABS-URNIK:srecanje:5432
X-WR-TIMEZONE:Europe/Ljubljana
END:VEVENT
BEGIN:VEVENT
SUMMARY:Algebra 1 (FM-1)\, Vaje (V)\, [1]
DTSTART;TZID=Europe/Ljubljana:20210218T100000
DTEND;TZID=Europe/Ljubljana:20210218T120000
DTSTAMP:20260421T045106Z
UID:fmf-AFLABS-URNIK:premaknjeno-srecanje:2107
ATTENDEE:1. letnik (FM)
CATEGORIES:Entry,Standard
COLOR:darkgreen
DESCRIPTION:Predmet: Algebra 1 (FM-1)\, Vaje (V)\, [1]\nLetniki: 1. letnik
  (FM)\nIzvajalci: Aleš Vavpetič\nProstor: Na daljavo
LOCATION:Na daljavo
ORGANIZER:Aleš Vavpetič
RELATED-TO:fmf-AFLABS-URNIK:srecanje:5438
X-WR-TIMEZONE:Europe/Ljubljana
END:VEVENT
BEGIN:VEVENT
SUMMARY:Algebra 1 (FM-1)\, Vaje (V)\, [1]
DTSTART;TZID=Europe/Ljubljana:20210225T100000
DTEND;TZID=Europe/Ljubljana:20210225T120000
DTSTAMP:20260421T045106Z
UID:fmf-AFLABS-URNIK:premaknjeno-srecanje:2108
ATTENDEE:1. letnik (FM)
CATEGORIES:Entry,Standard
COLOR:darkgreen
DESCRIPTION:Predmet: Algebra 1 (FM-1)\, Vaje (V)\, [1]\nLetniki: 1. letnik
  (FM)\nIzvajalci: Aleš Vavpetič\nProstor: Na daljavo
LOCATION:Na daljavo
ORGANIZER:Aleš Vavpetič
RELATED-TO:fmf-AFLABS-URNIK:srecanje:5438
X-WR-TIMEZONE:Europe/Ljubljana
END:VEVENT
BEGIN:VEVENT
SUMMARY:Algebra 1 (FM-1)\, Vaje (V)\, [1]
DTSTART;TZID=Europe/Ljubljana:20210304T100000
DTEND;TZID=Europe/Ljubljana:20210304T120000
DTSTAMP:20260421T045106Z
UID:fmf-AFLABS-URNIK:premaknjeno-srecanje:2109
ATTENDEE:1. letnik (FM)
CATEGORIES:Entry,Standard
COLOR:darkgreen
DESCRIPTION:Predmet: Algebra 1 (FM-1)\, Vaje (V)\, [1]\nLetniki: 1. letnik
  (FM)\nIzvajalci: Aleš Vavpetič\nProstor: Na daljavo
LOCATION:Na daljavo
ORGANIZER:Aleš Vavpetič
RELATED-TO:fmf-AFLABS-URNIK:srecanje:5438
X-WR-TIMEZONE:Europe/Ljubljana
END:VEVENT
BEGIN:VEVENT
SUMMARY:Algebra 1 (FM-1)\, Vaje (V)\, [1]
DTSTART;TZID=Europe/Ljubljana:20210311T100000
DTEND;TZID=Europe/Ljubljana:20210311T120000
DTSTAMP:20260421T045106Z
UID:fmf-AFLABS-URNIK:premaknjeno-srecanje:2110
ATTENDEE:1. letnik (FM)
CATEGORIES:Entry,Standard
COLOR:darkgreen
DESCRIPTION:Predmet: Algebra 1 (FM-1)\, Vaje (V)\, [1]\nLetniki: 1. letnik
  (FM)\nIzvajalci: Aleš Vavpetič\nProstor: Na daljavo
LOCATION:Na daljavo
ORGANIZER:Aleš Vavpetič
RELATED-TO:fmf-AFLABS-URNIK:srecanje:5438
X-WR-TIMEZONE:Europe/Ljubljana
END:VEVENT
BEGIN:VEVENT
SUMMARY:RG ()\, Ostalo (O)
DTSTART;TZID=Europe/Ljubljana:20210219T120000
DTEND;TZID=Europe/Ljubljana:20210219T140000
DTSTAMP:20260421T045106Z
UID:fmf-AFLABS-URNIK:premaknjeno-srecanje:90608
CATEGORIES:Entry,Standard
COLOR:darkgreen
DESCRIPTION:Predmet: RG ()\, Ostalo (O)\nLetniki: \nIzvajalci: Marko Kandi
 ć\, Aleš Vavpetič\nProstor: None
ORGANIZER:Marko Kandić, Aleš Vavpetič
RELATED-TO:fmf-AFLABS-URNIK:srecanje:5845
X-WR-TIMEZONE:Europe/Ljubljana
END:VEVENT
BEGIN:VEVENT
SUMMARY:RG ()\, Ostalo (O)
DTSTART;TZID=Europe/Ljubljana:20210226T120000
DTEND;TZID=Europe/Ljubljana:20210226T140000
DTSTAMP:20260421T045106Z
UID:fmf-AFLABS-URNIK:premaknjeno-srecanje:90609
CATEGORIES:Entry,Standard
COLOR:darkgreen
DESCRIPTION:Predmet: RG ()\, Ostalo (O)\nLetniki: \nIzvajalci: Marko Kandi
 ć\, Aleš Vavpetič\nProstor: None
ORGANIZER:Marko Kandić, Aleš Vavpetič
RELATED-TO:fmf-AFLABS-URNIK:srecanje:5845
X-WR-TIMEZONE:Europe/Ljubljana
END:VEVENT
BEGIN:VEVENT
SUMMARY:RG ()\, Ostalo (O)
DTSTART;TZID=Europe/Ljubljana:20210305T120000
DTEND;TZID=Europe/Ljubljana:20210305T140000
DTSTAMP:20260421T045106Z
UID:fmf-AFLABS-URNIK:premaknjeno-srecanje:90610
CATEGORIES:Entry,Standard
COLOR:darkgreen
DESCRIPTION:Predmet: RG ()\, Ostalo (O)\nLetniki: \nIzvajalci: Marko Kandi
 ć\, Aleš Vavpetič\nProstor: None
ORGANIZER:Marko Kandić, Aleš Vavpetič
RELATED-TO:fmf-AFLABS-URNIK:srecanje:5845
X-WR-TIMEZONE:Europe/Ljubljana
END:VEVENT
BEGIN:VEVENT
SUMMARY:RG ()\, Ostalo (O)
DTSTART;TZID=Europe/Ljubljana:20210312T120000
DTEND;TZID=Europe/Ljubljana:20210312T140000
DTSTAMP:20260421T045106Z
UID:fmf-AFLABS-URNIK:premaknjeno-srecanje:90611
CATEGORIES:Entry,Standard
COLOR:darkgreen
DESCRIPTION:Predmet: RG ()\, Ostalo (O)\nLetniki: \nIzvajalci: Marko Kandi
 ć\, Aleš Vavpetič\nProstor: None
ORGANIZER:Marko Kandić, Aleš Vavpetič
RELATED-TO:fmf-AFLABS-URNIK:srecanje:5845
X-WR-TIMEZONE:Europe/Ljubljana
END:VEVENT
BEGIN:VEVENT
SUMMARY:Rezervacija
DTSTART;TZID=Europe/Ljubljana:20210108T090000
DTEND;TZID=Europe/Ljubljana:20210108T110000
DTSTAMP:20260421T045106Z
UID:fmf-AFLABS-URNIK:rezervacija:6561
CATEGORIES:Reservation
COLOR:royalblue
DESCRIPTION:Predmeti: \nLetniki: \nIzvajalci: Aleš Vavpetič\nProstori: V
 FP
LOCATION:VFP
ORGANIZER:Aleš Vavpetič
X-WR-TIMEZONE:Europe/Ljubljana
END:VEVENT
BEGIN:VEVENT
SUMMARY:Rezervacija
DTSTART;TZID=Europe/Ljubljana:20210212T090000
DTEND;TZID=Europe/Ljubljana:20210212T110000
DTSTAMP:20260421T045106Z
UID:fmf-AFLABS-URNIK:rezervacija:6585
CATEGORIES:Reservation
COLOR:royalblue
DESCRIPTION:Predmeti: \nLetniki: \nIzvajalci: Aleš Vavpetič\nProstori: 2
 .05
LOCATION:2.05
ORGANIZER:Aleš Vavpetič
X-WR-TIMEZONE:Europe/Ljubljana
END:VEVENT
END:VCALENDAR
