BEGIN:VCALENDAR
VERSION:2.0
PRODID:-//AFLabs urnik izvoz - fmf//aflabs.si//SI
DTSTAMP:20260424T150006Z
NAME:UL FMF urnik
REFRESH-INTERVAL:PT1H
SOURCE:https://urnik.fmf.uni-lj.si/teacher/422?day=2018-02-05&export=1
URL:https://urnik.fmf.uni-lj.si/teacher/422?day=2018-02-05&export=1
X-PUBLISHED-TTL:PT1H
X-WR-CALNAME:UL FMF urnik
X-WR-TIMEZONE:Europe/Ljubljana
BEGIN:VTIMEZONE
TZID:Europe/Ljubljana
BEGIN:DAYLIGHT
DTSTART:20260329T020000
RDATE:20260329T020000
RDATE:20270328T020000
TZNAME:CEST
TZOFFSETFROM:+0100
TZOFFSETTO:+0200
END:DAYLIGHT
BEGIN:STANDARD
DTSTART:20261025T030000
RDATE:20261025T030000
RDATE:20271031T030000
TZNAME:CET
TZOFFSETFROM:+0200
TZOFFSETTO:+0100
END:STANDARD
END:VTIMEZONE
BEGIN:VEVENT
SUMMARY:Fizika I (APF-1)\, Vaje (V)
DTSTART;TZID=Europe/Ljubljana:20180219T120000
DTEND;TZID=Europe/Ljubljana:20180219T130000
DTSTAMP:20260424T150006Z
UID:fmf-AFLABS-URNIK:premaknjeno-srecanje:29089
ATTENDEE:1. letnik (Aplikativna fizika)
CATEGORIES:Entry,Standard
COLOR:darkgreen
DESCRIPTION:Predmet: Fizika I (APF-1)\, Vaje (V)\nLetniki: 1. letnik (Apli
 kativna fizika)\nIzvajalci: Stanislav Vrtnik\nProstor: F6
LOCATION:F6
ORGANIZER:Stanislav Vrtnik
RELATED-TO:fmf-AFLABS-URNIK:srecanje:1282
X-WR-TIMEZONE:Europe/Ljubljana
END:VEVENT
BEGIN:VEVENT
SUMMARY:Fizika I (APF-1)\, Vaje (V)
DTSTART;TZID=Europe/Ljubljana:20180226T120000
DTEND;TZID=Europe/Ljubljana:20180226T130000
DTSTAMP:20260424T150006Z
UID:fmf-AFLABS-URNIK:premaknjeno-srecanje:29090
ATTENDEE:1. letnik (Aplikativna fizika)
CATEGORIES:Entry,Standard
COLOR:darkgreen
DESCRIPTION:Predmet: Fizika I (APF-1)\, Vaje (V)\nLetniki: 1. letnik (Apli
 kativna fizika)\nIzvajalci: Stanislav Vrtnik\nProstor: F6
LOCATION:F6
ORGANIZER:Stanislav Vrtnik
RELATED-TO:fmf-AFLABS-URNIK:srecanje:1282
X-WR-TIMEZONE:Europe/Ljubljana
END:VEVENT
BEGIN:VEVENT
SUMMARY:Fizika I (APF-1)\, Vaje (V)
DTSTART;TZID=Europe/Ljubljana:20180305T120000
DTEND;TZID=Europe/Ljubljana:20180305T130000
DTSTAMP:20260424T150006Z
UID:fmf-AFLABS-URNIK:premaknjeno-srecanje:29091
ATTENDEE:1. letnik (Aplikativna fizika)
CATEGORIES:Entry,Standard
COLOR:darkgreen
DESCRIPTION:Predmet: Fizika I (APF-1)\, Vaje (V)\nLetniki: 1. letnik (Apli
 kativna fizika)\nIzvajalci: Stanislav Vrtnik\nProstor: F6
LOCATION:F6
ORGANIZER:Stanislav Vrtnik
RELATED-TO:fmf-AFLABS-URNIK:srecanje:1282
X-WR-TIMEZONE:Europe/Ljubljana
END:VEVENT
BEGIN:VEVENT
SUMMARY:Fizika I (APF-1)\, Vaje (V)
DTSTART;TZID=Europe/Ljubljana:20180312T120000
DTEND;TZID=Europe/Ljubljana:20180312T130000
DTSTAMP:20260424T150006Z
UID:fmf-AFLABS-URNIK:premaknjeno-srecanje:29092
ATTENDEE:1. letnik (Aplikativna fizika)
CATEGORIES:Entry,Standard
COLOR:darkgreen
DESCRIPTION:Predmet: Fizika I (APF-1)\, Vaje (V)\nLetniki: 1. letnik (Apli
 kativna fizika)\nIzvajalci: Stanislav Vrtnik\nProstor: F6
LOCATION:F6
ORGANIZER:Stanislav Vrtnik
RELATED-TO:fmf-AFLABS-URNIK:srecanje:1282
X-WR-TIMEZONE:Europe/Ljubljana
END:VEVENT
BEGIN:VEVENT
SUMMARY:Fizika I (APF-1)\, Vaje (V)
DTSTART;TZID=Europe/Ljubljana:20180222T100000
DTEND;TZID=Europe/Ljubljana:20180222T120000
DTSTAMP:20260424T150006Z
UID:fmf-AFLABS-URNIK:premaknjeno-srecanje:29342
ATTENDEE:1. letnik (Aplikativna fizika)
CATEGORIES:Entry,Standard
COLOR:darkgreen
DESCRIPTION:Predmet: Fizika I (APF-1)\, Vaje (V)\nLetniki: 1. letnik (Apli
 kativna fizika)\nIzvajalci: Stanislav Vrtnik\nProstor: F7
LOCATION:F7
ORGANIZER:Stanislav Vrtnik
RELATED-TO:fmf-AFLABS-URNIK:srecanje:1458
X-WR-TIMEZONE:Europe/Ljubljana
END:VEVENT
BEGIN:VEVENT
SUMMARY:Fizika I (APF-1)\, Vaje (V)
DTSTART;TZID=Europe/Ljubljana:20180301T100000
DTEND;TZID=Europe/Ljubljana:20180301T120000
DTSTAMP:20260424T150006Z
UID:fmf-AFLABS-URNIK:premaknjeno-srecanje:29343
ATTENDEE:1. letnik (Aplikativna fizika)
CATEGORIES:Entry,Standard
COLOR:darkgreen
DESCRIPTION:Predmet: Fizika I (APF-1)\, Vaje (V)\nLetniki: 1. letnik (Apli
 kativna fizika)\nIzvajalci: Stanislav Vrtnik\nProstor: F7
LOCATION:F7
ORGANIZER:Stanislav Vrtnik
RELATED-TO:fmf-AFLABS-URNIK:srecanje:1458
X-WR-TIMEZONE:Europe/Ljubljana
END:VEVENT
BEGIN:VEVENT
SUMMARY:Fizika I (APF-1)\, Vaje (V)
DTSTART;TZID=Europe/Ljubljana:20180308T100000
DTEND;TZID=Europe/Ljubljana:20180308T120000
DTSTAMP:20260424T150006Z
UID:fmf-AFLABS-URNIK:premaknjeno-srecanje:29344
ATTENDEE:1. letnik (Aplikativna fizika)
CATEGORIES:Entry,Standard
COLOR:darkgreen
DESCRIPTION:Predmet: Fizika I (APF-1)\, Vaje (V)\nLetniki: 1. letnik (Apli
 kativna fizika)\nIzvajalci: Stanislav Vrtnik\nProstor: F7
LOCATION:F7
ORGANIZER:Stanislav Vrtnik
RELATED-TO:fmf-AFLABS-URNIK:srecanje:1458
X-WR-TIMEZONE:Europe/Ljubljana
END:VEVENT
END:VCALENDAR
