BEGIN:VCALENDAR
VERSION:2.0
PRODID:-//AFLabs urnik izvoz - fmf//aflabs.si//SI
DTSTAMP:20260423T111833Z
NAME:UL FMF urnik
REFRESH-INTERVAL:PT1H
SOURCE:https://urnik.fmf.uni-lj.si/teacher/422?day=2018-06-04&export=1
URL:https://urnik.fmf.uni-lj.si/teacher/422?day=2018-06-04&export=1
X-PUBLISHED-TTL:PT1H
X-WR-CALNAME:UL FMF urnik
X-WR-TIMEZONE:Europe/Ljubljana
BEGIN:VTIMEZONE
TZID:Europe/Ljubljana
BEGIN:DAYLIGHT
DTSTART:20260329T020000
RDATE:20260329T020000
RDATE:20270328T020000
TZNAME:CEST
TZOFFSETFROM:+0100
TZOFFSETTO:+0200
END:DAYLIGHT
BEGIN:STANDARD
DTSTART:20261025T030000
RDATE:20261025T030000
RDATE:20271031T030000
TZNAME:CET
TZOFFSETFROM:+0200
TZOFFSETTO:+0100
END:STANDARD
END:VTIMEZONE
BEGIN:VEVENT
SUMMARY:Fizika I (APF-1)\, Vaje (V)
DTSTART;TZID=Europe/Ljubljana:20180219T120000
DTEND;TZID=Europe/Ljubljana:20180219T130000
DTSTAMP:20260423T111833Z
UID:fmf-AFLABS-URNIK:premaknjeno-srecanje:29089
ATTENDEE:1. letnik (Aplikativna fizika)
CATEGORIES:Entry,Standard
COLOR:darkgreen
DESCRIPTION:Predmet: Fizika I (APF-1)\, Vaje (V)\nLetniki: 1. letnik (Apli
 kativna fizika)\nIzvajalci: Stanislav Vrtnik\nProstor: F6
LOCATION:F6
ORGANIZER:Stanislav Vrtnik
RELATED-TO:fmf-AFLABS-URNIK:srecanje:1282
X-WR-TIMEZONE:Europe/Ljubljana
END:VEVENT
BEGIN:VEVENT
SUMMARY:Fizika I (APF-1)\, Vaje (V)
DTSTART;TZID=Europe/Ljubljana:20180226T120000
DTEND;TZID=Europe/Ljubljana:20180226T130000
DTSTAMP:20260423T111833Z
UID:fmf-AFLABS-URNIK:premaknjeno-srecanje:29090
ATTENDEE:1. letnik (Aplikativna fizika)
CATEGORIES:Entry,Standard
COLOR:darkgreen
DESCRIPTION:Predmet: Fizika I (APF-1)\, Vaje (V)\nLetniki: 1. letnik (Apli
 kativna fizika)\nIzvajalci: Stanislav Vrtnik\nProstor: F6
LOCATION:F6
ORGANIZER:Stanislav Vrtnik
RELATED-TO:fmf-AFLABS-URNIK:srecanje:1282
X-WR-TIMEZONE:Europe/Ljubljana
END:VEVENT
BEGIN:VEVENT
SUMMARY:Fizika I (APF-1)\, Vaje (V)
DTSTART;TZID=Europe/Ljubljana:20180305T120000
DTEND;TZID=Europe/Ljubljana:20180305T130000
DTSTAMP:20260423T111833Z
UID:fmf-AFLABS-URNIK:premaknjeno-srecanje:29091
ATTENDEE:1. letnik (Aplikativna fizika)
CATEGORIES:Entry,Standard
COLOR:darkgreen
DESCRIPTION:Predmet: Fizika I (APF-1)\, Vaje (V)\nLetniki: 1. letnik (Apli
 kativna fizika)\nIzvajalci: Stanislav Vrtnik\nProstor: F6
LOCATION:F6
ORGANIZER:Stanislav Vrtnik
RELATED-TO:fmf-AFLABS-URNIK:srecanje:1282
X-WR-TIMEZONE:Europe/Ljubljana
END:VEVENT
BEGIN:VEVENT
SUMMARY:Fizika I (APF-1)\, Vaje (V)
DTSTART;TZID=Europe/Ljubljana:20180312T120000
DTEND;TZID=Europe/Ljubljana:20180312T130000
DTSTAMP:20260423T111833Z
UID:fmf-AFLABS-URNIK:premaknjeno-srecanje:29092
ATTENDEE:1. letnik (Aplikativna fizika)
CATEGORIES:Entry,Standard
COLOR:darkgreen
DESCRIPTION:Predmet: Fizika I (APF-1)\, Vaje (V)\nLetniki: 1. letnik (Apli
 kativna fizika)\nIzvajalci: Stanislav Vrtnik\nProstor: F6
LOCATION:F6
ORGANIZER:Stanislav Vrtnik
RELATED-TO:fmf-AFLABS-URNIK:srecanje:1282
X-WR-TIMEZONE:Europe/Ljubljana
END:VEVENT
BEGIN:VEVENT
SUMMARY:Fizika I (APF-1)\, Vaje (V)
DTSTART;TZID=Europe/Ljubljana:20180319T120000
DTEND;TZID=Europe/Ljubljana:20180319T130000
DTSTAMP:20260423T111833Z
UID:fmf-AFLABS-URNIK:premaknjeno-srecanje:29093
ATTENDEE:1. letnik (Aplikativna fizika)
CATEGORIES:Entry,Standard
COLOR:darkgreen
DESCRIPTION:Predmet: Fizika I (APF-1)\, Vaje (V)\nLetniki: 1. letnik (Apli
 kativna fizika)\nIzvajalci: Stanislav Vrtnik\nProstor: F6
LOCATION:F6
ORGANIZER:Stanislav Vrtnik
RELATED-TO:fmf-AFLABS-URNIK:srecanje:1282
X-WR-TIMEZONE:Europe/Ljubljana
END:VEVENT
BEGIN:VEVENT
SUMMARY:Fizika I (APF-1)\, Vaje (V)
DTSTART;TZID=Europe/Ljubljana:20180326T120000
DTEND;TZID=Europe/Ljubljana:20180326T130000
DTSTAMP:20260423T111833Z
UID:fmf-AFLABS-URNIK:premaknjeno-srecanje:29094
ATTENDEE:1. letnik (Aplikativna fizika)
CATEGORIES:Entry,Standard
COLOR:darkgreen
DESCRIPTION:Predmet: Fizika I (APF-1)\, Vaje (V)\nLetniki: 1. letnik (Apli
 kativna fizika)\nIzvajalci: Stanislav Vrtnik\nProstor: F6
LOCATION:F6
ORGANIZER:Stanislav Vrtnik
RELATED-TO:fmf-AFLABS-URNIK:srecanje:1282
X-WR-TIMEZONE:Europe/Ljubljana
END:VEVENT
BEGIN:VEVENT
SUMMARY:Fizika I (APF-1)\, Vaje (V)
DTSTART;TZID=Europe/Ljubljana:20180402T120000
DTEND;TZID=Europe/Ljubljana:20180402T130000
DTSTAMP:20260423T111833Z
UID:fmf-AFLABS-URNIK:premaknjeno-srecanje:29095
ATTENDEE:1. letnik (Aplikativna fizika)
CATEGORIES:Entry,Standard
COLOR:darkgreen
DESCRIPTION:Predmet: Fizika I (APF-1)\, Vaje (V)\nLetniki: 1. letnik (Apli
 kativna fizika)\nIzvajalci: Stanislav Vrtnik\nProstor: F6
LOCATION:F6
ORGANIZER:Stanislav Vrtnik
RELATED-TO:fmf-AFLABS-URNIK:srecanje:1282
X-WR-TIMEZONE:Europe/Ljubljana
END:VEVENT
BEGIN:VEVENT
SUMMARY:Fizika I (APF-1)\, Vaje (V)
DTSTART;TZID=Europe/Ljubljana:20180409T120000
DTEND;TZID=Europe/Ljubljana:20180409T130000
DTSTAMP:20260423T111833Z
UID:fmf-AFLABS-URNIK:premaknjeno-srecanje:29096
ATTENDEE:1. letnik (Aplikativna fizika)
CATEGORIES:Entry,Standard
COLOR:darkgreen
DESCRIPTION:Predmet: Fizika I (APF-1)\, Vaje (V)\nLetniki: 1. letnik (Apli
 kativna fizika)\nIzvajalci: Stanislav Vrtnik\nProstor: F6
LOCATION:F6
ORGANIZER:Stanislav Vrtnik
RELATED-TO:fmf-AFLABS-URNIK:srecanje:1282
X-WR-TIMEZONE:Europe/Ljubljana
END:VEVENT
BEGIN:VEVENT
SUMMARY:Fizika I (APF-1)\, Vaje (V)
DTSTART;TZID=Europe/Ljubljana:20180416T120000
DTEND;TZID=Europe/Ljubljana:20180416T130000
DTSTAMP:20260423T111833Z
UID:fmf-AFLABS-URNIK:premaknjeno-srecanje:29097
ATTENDEE:1. letnik (Aplikativna fizika)
CATEGORIES:Entry,Standard
COLOR:darkgreen
DESCRIPTION:Predmet: Fizika I (APF-1)\, Vaje (V)\nLetniki: 1. letnik (Apli
 kativna fizika)\nIzvajalci: Stanislav Vrtnik\nProstor: F6
LOCATION:F6
ORGANIZER:Stanislav Vrtnik
RELATED-TO:fmf-AFLABS-URNIK:srecanje:1282
X-WR-TIMEZONE:Europe/Ljubljana
END:VEVENT
BEGIN:VEVENT
SUMMARY:Fizika I (APF-1)\, Vaje (V)
DTSTART;TZID=Europe/Ljubljana:20180423T120000
DTEND;TZID=Europe/Ljubljana:20180423T130000
DTSTAMP:20260423T111833Z
UID:fmf-AFLABS-URNIK:premaknjeno-srecanje:29098
ATTENDEE:1. letnik (Aplikativna fizika)
CATEGORIES:Entry,Standard
COLOR:darkgreen
DESCRIPTION:Predmet: Fizika I (APF-1)\, Vaje (V)\nLetniki: 1. letnik (Apli
 kativna fizika)\nIzvajalci: Stanislav Vrtnik\nProstor: F6
LOCATION:F6
ORGANIZER:Stanislav Vrtnik
RELATED-TO:fmf-AFLABS-URNIK:srecanje:1282
X-WR-TIMEZONE:Europe/Ljubljana
END:VEVENT
BEGIN:VEVENT
SUMMARY:Fizika I (APF-1)\, Vaje (V)
DTSTART;TZID=Europe/Ljubljana:20180430T120000
DTEND;TZID=Europe/Ljubljana:20180430T130000
DTSTAMP:20260423T111833Z
UID:fmf-AFLABS-URNIK:premaknjeno-srecanje:29099
ATTENDEE:1. letnik (Aplikativna fizika)
CATEGORIES:Entry,Standard
COLOR:darkgreen
DESCRIPTION:Predmet: Fizika I (APF-1)\, Vaje (V)\nLetniki: 1. letnik (Apli
 kativna fizika)\nIzvajalci: Stanislav Vrtnik\nProstor: F6
LOCATION:F6
ORGANIZER:Stanislav Vrtnik
RELATED-TO:fmf-AFLABS-URNIK:srecanje:1282
X-WR-TIMEZONE:Europe/Ljubljana
END:VEVENT
BEGIN:VEVENT
SUMMARY:Fizika I (APF-1)\, Vaje (V)
DTSTART;TZID=Europe/Ljubljana:20180507T120000
DTEND;TZID=Europe/Ljubljana:20180507T130000
DTSTAMP:20260423T111833Z
UID:fmf-AFLABS-URNIK:premaknjeno-srecanje:29100
ATTENDEE:1. letnik (Aplikativna fizika)
CATEGORIES:Entry,Standard
COLOR:darkgreen
DESCRIPTION:Predmet: Fizika I (APF-1)\, Vaje (V)\nLetniki: 1. letnik (Apli
 kativna fizika)\nIzvajalci: Stanislav Vrtnik\nProstor: F6
LOCATION:F6
ORGANIZER:Stanislav Vrtnik
RELATED-TO:fmf-AFLABS-URNIK:srecanje:1282
X-WR-TIMEZONE:Europe/Ljubljana
END:VEVENT
BEGIN:VEVENT
SUMMARY:Fizika I (APF-1)\, Vaje (V)
DTSTART;TZID=Europe/Ljubljana:20180514T120000
DTEND;TZID=Europe/Ljubljana:20180514T130000
DTSTAMP:20260423T111833Z
UID:fmf-AFLABS-URNIK:premaknjeno-srecanje:29101
ATTENDEE:1. letnik (Aplikativna fizika)
CATEGORIES:Entry,Standard
COLOR:darkgreen
DESCRIPTION:Predmet: Fizika I (APF-1)\, Vaje (V)\nLetniki: 1. letnik (Apli
 kativna fizika)\nIzvajalci: Stanislav Vrtnik\nProstor: F6
LOCATION:F6
ORGANIZER:Stanislav Vrtnik
RELATED-TO:fmf-AFLABS-URNIK:srecanje:1282
X-WR-TIMEZONE:Europe/Ljubljana
END:VEVENT
BEGIN:VEVENT
SUMMARY:Fizika I (APF-1)\, Vaje (V)
DTSTART;TZID=Europe/Ljubljana:20180521T120000
DTEND;TZID=Europe/Ljubljana:20180521T130000
DTSTAMP:20260423T111833Z
UID:fmf-AFLABS-URNIK:premaknjeno-srecanje:29102
ATTENDEE:1. letnik (Aplikativna fizika)
CATEGORIES:Entry,Standard
COLOR:darkgreen
DESCRIPTION:Predmet: Fizika I (APF-1)\, Vaje (V)\nLetniki: 1. letnik (Apli
 kativna fizika)\nIzvajalci: Stanislav Vrtnik\nProstor: F6
LOCATION:F6
ORGANIZER:Stanislav Vrtnik
RELATED-TO:fmf-AFLABS-URNIK:srecanje:1282
X-WR-TIMEZONE:Europe/Ljubljana
END:VEVENT
BEGIN:VEVENT
SUMMARY:Fizika I (APF-1)\, Vaje (V)
DTSTART;TZID=Europe/Ljubljana:20180528T120000
DTEND;TZID=Europe/Ljubljana:20180528T130000
DTSTAMP:20260423T111833Z
UID:fmf-AFLABS-URNIK:premaknjeno-srecanje:29103
ATTENDEE:1. letnik (Aplikativna fizika)
CATEGORIES:Entry,Standard
COLOR:darkgreen
DESCRIPTION:Predmet: Fizika I (APF-1)\, Vaje (V)\nLetniki: 1. letnik (Apli
 kativna fizika)\nIzvajalci: Stanislav Vrtnik\nProstor: F6
LOCATION:F6
ORGANIZER:Stanislav Vrtnik
RELATED-TO:fmf-AFLABS-URNIK:srecanje:1282
X-WR-TIMEZONE:Europe/Ljubljana
END:VEVENT
BEGIN:VEVENT
SUMMARY:Fizika I (APF-1)\, Vaje (V)
DTSTART;TZID=Europe/Ljubljana:20180604T120000
DTEND;TZID=Europe/Ljubljana:20180604T130000
DTSTAMP:20260423T111833Z
UID:fmf-AFLABS-URNIK:premaknjeno-srecanje:29104
ATTENDEE:1. letnik (Aplikativna fizika)
CATEGORIES:Entry,Standard
COLOR:darkgreen
DESCRIPTION:Predmet: Fizika I (APF-1)\, Vaje (V)\nLetniki: 1. letnik (Apli
 kativna fizika)\nIzvajalci: Stanislav Vrtnik\nProstor: F6
LOCATION:F6
ORGANIZER:Stanislav Vrtnik
RELATED-TO:fmf-AFLABS-URNIK:srecanje:1282
X-WR-TIMEZONE:Europe/Ljubljana
END:VEVENT
BEGIN:VEVENT
SUMMARY:Fizika I (APF-1)\, Vaje (V)
DTSTART;TZID=Europe/Ljubljana:20180222T100000
DTEND;TZID=Europe/Ljubljana:20180222T120000
DTSTAMP:20260423T111833Z
UID:fmf-AFLABS-URNIK:premaknjeno-srecanje:29342
ATTENDEE:1. letnik (Aplikativna fizika)
CATEGORIES:Entry,Standard
COLOR:darkgreen
DESCRIPTION:Predmet: Fizika I (APF-1)\, Vaje (V)\nLetniki: 1. letnik (Apli
 kativna fizika)\nIzvajalci: Stanislav Vrtnik\nProstor: F7
LOCATION:F7
ORGANIZER:Stanislav Vrtnik
RELATED-TO:fmf-AFLABS-URNIK:srecanje:1458
X-WR-TIMEZONE:Europe/Ljubljana
END:VEVENT
BEGIN:VEVENT
SUMMARY:Fizika I (APF-1)\, Vaje (V)
DTSTART;TZID=Europe/Ljubljana:20180301T100000
DTEND;TZID=Europe/Ljubljana:20180301T120000
DTSTAMP:20260423T111833Z
UID:fmf-AFLABS-URNIK:premaknjeno-srecanje:29343
ATTENDEE:1. letnik (Aplikativna fizika)
CATEGORIES:Entry,Standard
COLOR:darkgreen
DESCRIPTION:Predmet: Fizika I (APF-1)\, Vaje (V)\nLetniki: 1. letnik (Apli
 kativna fizika)\nIzvajalci: Stanislav Vrtnik\nProstor: F7
LOCATION:F7
ORGANIZER:Stanislav Vrtnik
RELATED-TO:fmf-AFLABS-URNIK:srecanje:1458
X-WR-TIMEZONE:Europe/Ljubljana
END:VEVENT
BEGIN:VEVENT
SUMMARY:Fizika I (APF-1)\, Vaje (V)
DTSTART;TZID=Europe/Ljubljana:20180308T100000
DTEND;TZID=Europe/Ljubljana:20180308T120000
DTSTAMP:20260423T111833Z
UID:fmf-AFLABS-URNIK:premaknjeno-srecanje:29344
ATTENDEE:1. letnik (Aplikativna fizika)
CATEGORIES:Entry,Standard
COLOR:darkgreen
DESCRIPTION:Predmet: Fizika I (APF-1)\, Vaje (V)\nLetniki: 1. letnik (Apli
 kativna fizika)\nIzvajalci: Stanislav Vrtnik\nProstor: F7
LOCATION:F7
ORGANIZER:Stanislav Vrtnik
RELATED-TO:fmf-AFLABS-URNIK:srecanje:1458
X-WR-TIMEZONE:Europe/Ljubljana
END:VEVENT
BEGIN:VEVENT
SUMMARY:Fizika I (APF-1)\, Vaje (V)
DTSTART;TZID=Europe/Ljubljana:20180315T100000
DTEND;TZID=Europe/Ljubljana:20180315T120000
DTSTAMP:20260423T111833Z
UID:fmf-AFLABS-URNIK:premaknjeno-srecanje:29345
ATTENDEE:1. letnik (Aplikativna fizika)
CATEGORIES:Entry,Standard
COLOR:darkgreen
DESCRIPTION:Predmet: Fizika I (APF-1)\, Vaje (V)\nLetniki: 1. letnik (Apli
 kativna fizika)\nIzvajalci: Stanislav Vrtnik\nProstor: F7
LOCATION:F7
ORGANIZER:Stanislav Vrtnik
RELATED-TO:fmf-AFLABS-URNIK:srecanje:1458
X-WR-TIMEZONE:Europe/Ljubljana
END:VEVENT
BEGIN:VEVENT
SUMMARY:Fizika I (APF-1)\, Vaje (V)
DTSTART;TZID=Europe/Ljubljana:20180322T100000
DTEND;TZID=Europe/Ljubljana:20180322T120000
DTSTAMP:20260423T111833Z
UID:fmf-AFLABS-URNIK:premaknjeno-srecanje:29346
ATTENDEE:1. letnik (Aplikativna fizika)
CATEGORIES:Entry,Standard
COLOR:darkgreen
DESCRIPTION:Predmet: Fizika I (APF-1)\, Vaje (V)\nLetniki: 1. letnik (Apli
 kativna fizika)\nIzvajalci: Stanislav Vrtnik\nProstor: F7
LOCATION:F7
ORGANIZER:Stanislav Vrtnik
RELATED-TO:fmf-AFLABS-URNIK:srecanje:1458
X-WR-TIMEZONE:Europe/Ljubljana
END:VEVENT
BEGIN:VEVENT
SUMMARY:Fizika I (APF-1)\, Vaje (V)
DTSTART;TZID=Europe/Ljubljana:20180329T100000
DTEND;TZID=Europe/Ljubljana:20180329T120000
DTSTAMP:20260423T111833Z
UID:fmf-AFLABS-URNIK:premaknjeno-srecanje:29347
ATTENDEE:1. letnik (Aplikativna fizika)
CATEGORIES:Entry,Standard
COLOR:darkgreen
DESCRIPTION:Predmet: Fizika I (APF-1)\, Vaje (V)\nLetniki: 1. letnik (Apli
 kativna fizika)\nIzvajalci: Stanislav Vrtnik\nProstor: F7
LOCATION:F7
ORGANIZER:Stanislav Vrtnik
RELATED-TO:fmf-AFLABS-URNIK:srecanje:1458
X-WR-TIMEZONE:Europe/Ljubljana
END:VEVENT
BEGIN:VEVENT
SUMMARY:Fizika I (APF-1)\, Vaje (V)
DTSTART;TZID=Europe/Ljubljana:20180405T100000
DTEND;TZID=Europe/Ljubljana:20180405T120000
DTSTAMP:20260423T111833Z
UID:fmf-AFLABS-URNIK:premaknjeno-srecanje:29348
ATTENDEE:1. letnik (Aplikativna fizika)
CATEGORIES:Entry,Standard
COLOR:darkgreen
DESCRIPTION:Predmet: Fizika I (APF-1)\, Vaje (V)\nLetniki: 1. letnik (Apli
 kativna fizika)\nIzvajalci: Stanislav Vrtnik\nProstor: F7
LOCATION:F7
ORGANIZER:Stanislav Vrtnik
RELATED-TO:fmf-AFLABS-URNIK:srecanje:1458
X-WR-TIMEZONE:Europe/Ljubljana
END:VEVENT
BEGIN:VEVENT
SUMMARY:Fizika I (APF-1)\, Vaje (V)
DTSTART;TZID=Europe/Ljubljana:20180412T100000
DTEND;TZID=Europe/Ljubljana:20180412T120000
DTSTAMP:20260423T111833Z
UID:fmf-AFLABS-URNIK:premaknjeno-srecanje:29349
ATTENDEE:1. letnik (Aplikativna fizika)
CATEGORIES:Entry,Standard
COLOR:darkgreen
DESCRIPTION:Predmet: Fizika I (APF-1)\, Vaje (V)\nLetniki: 1. letnik (Apli
 kativna fizika)\nIzvajalci: Stanislav Vrtnik\nProstor: F7
LOCATION:F7
ORGANIZER:Stanislav Vrtnik
RELATED-TO:fmf-AFLABS-URNIK:srecanje:1458
X-WR-TIMEZONE:Europe/Ljubljana
END:VEVENT
BEGIN:VEVENT
SUMMARY:Fizika I (APF-1)\, Vaje (V)
DTSTART;TZID=Europe/Ljubljana:20180419T100000
DTEND;TZID=Europe/Ljubljana:20180419T120000
DTSTAMP:20260423T111833Z
UID:fmf-AFLABS-URNIK:premaknjeno-srecanje:29350
ATTENDEE:1. letnik (Aplikativna fizika)
CATEGORIES:Entry,Standard
COLOR:darkgreen
DESCRIPTION:Predmet: Fizika I (APF-1)\, Vaje (V)\nLetniki: 1. letnik (Apli
 kativna fizika)\nIzvajalci: Stanislav Vrtnik\nProstor: F7
LOCATION:F7
ORGANIZER:Stanislav Vrtnik
RELATED-TO:fmf-AFLABS-URNIK:srecanje:1458
X-WR-TIMEZONE:Europe/Ljubljana
END:VEVENT
BEGIN:VEVENT
SUMMARY:Fizika I (APF-1)\, Vaje (V)
DTSTART;TZID=Europe/Ljubljana:20180426T100000
DTEND;TZID=Europe/Ljubljana:20180426T120000
DTSTAMP:20260423T111833Z
UID:fmf-AFLABS-URNIK:premaknjeno-srecanje:29351
ATTENDEE:1. letnik (Aplikativna fizika)
CATEGORIES:Entry,Standard
COLOR:darkgreen
DESCRIPTION:Predmet: Fizika I (APF-1)\, Vaje (V)\nLetniki: 1. letnik (Apli
 kativna fizika)\nIzvajalci: Stanislav Vrtnik\nProstor: F7
LOCATION:F7
ORGANIZER:Stanislav Vrtnik
RELATED-TO:fmf-AFLABS-URNIK:srecanje:1458
X-WR-TIMEZONE:Europe/Ljubljana
END:VEVENT
BEGIN:VEVENT
SUMMARY:Fizika I (APF-1)\, Vaje (V)
DTSTART;TZID=Europe/Ljubljana:20180503T100000
DTEND;TZID=Europe/Ljubljana:20180503T120000
DTSTAMP:20260423T111833Z
UID:fmf-AFLABS-URNIK:premaknjeno-srecanje:29352
ATTENDEE:1. letnik (Aplikativna fizika)
CATEGORIES:Entry,Standard
COLOR:darkgreen
DESCRIPTION:Predmet: Fizika I (APF-1)\, Vaje (V)\nLetniki: 1. letnik (Apli
 kativna fizika)\nIzvajalci: Stanislav Vrtnik\nProstor: F7
LOCATION:F7
ORGANIZER:Stanislav Vrtnik
RELATED-TO:fmf-AFLABS-URNIK:srecanje:1458
X-WR-TIMEZONE:Europe/Ljubljana
END:VEVENT
BEGIN:VEVENT
SUMMARY:Fizika I (APF-1)\, Vaje (V)
DTSTART;TZID=Europe/Ljubljana:20180510T100000
DTEND;TZID=Europe/Ljubljana:20180510T120000
DTSTAMP:20260423T111833Z
UID:fmf-AFLABS-URNIK:premaknjeno-srecanje:29353
ATTENDEE:1. letnik (Aplikativna fizika)
CATEGORIES:Entry,Standard
COLOR:darkgreen
DESCRIPTION:Predmet: Fizika I (APF-1)\, Vaje (V)\nLetniki: 1. letnik (Apli
 kativna fizika)\nIzvajalci: Stanislav Vrtnik\nProstor: F7
LOCATION:F7
ORGANIZER:Stanislav Vrtnik
RELATED-TO:fmf-AFLABS-URNIK:srecanje:1458
X-WR-TIMEZONE:Europe/Ljubljana
END:VEVENT
BEGIN:VEVENT
SUMMARY:Fizika I (APF-1)\, Vaje (V)
DTSTART;TZID=Europe/Ljubljana:20180517T100000
DTEND;TZID=Europe/Ljubljana:20180517T120000
DTSTAMP:20260423T111833Z
UID:fmf-AFLABS-URNIK:premaknjeno-srecanje:29354
ATTENDEE:1. letnik (Aplikativna fizika)
CATEGORIES:Entry,Standard
COLOR:darkgreen
DESCRIPTION:Predmet: Fizika I (APF-1)\, Vaje (V)\nLetniki: 1. letnik (Apli
 kativna fizika)\nIzvajalci: Stanislav Vrtnik\nProstor: F7
LOCATION:F7
ORGANIZER:Stanislav Vrtnik
RELATED-TO:fmf-AFLABS-URNIK:srecanje:1458
X-WR-TIMEZONE:Europe/Ljubljana
END:VEVENT
BEGIN:VEVENT
SUMMARY:Fizika I (APF-1)\, Vaje (V)
DTSTART;TZID=Europe/Ljubljana:20180524T100000
DTEND;TZID=Europe/Ljubljana:20180524T120000
DTSTAMP:20260423T111833Z
UID:fmf-AFLABS-URNIK:premaknjeno-srecanje:29355
ATTENDEE:1. letnik (Aplikativna fizika)
CATEGORIES:Entry,Standard
COLOR:darkgreen
DESCRIPTION:Predmet: Fizika I (APF-1)\, Vaje (V)\nLetniki: 1. letnik (Apli
 kativna fizika)\nIzvajalci: Stanislav Vrtnik\nProstor: F7
LOCATION:F7
ORGANIZER:Stanislav Vrtnik
RELATED-TO:fmf-AFLABS-URNIK:srecanje:1458
X-WR-TIMEZONE:Europe/Ljubljana
END:VEVENT
BEGIN:VEVENT
SUMMARY:Fizika I (APF-1)\, Vaje (V)
DTSTART;TZID=Europe/Ljubljana:20180531T100000
DTEND;TZID=Europe/Ljubljana:20180531T120000
DTSTAMP:20260423T111833Z
UID:fmf-AFLABS-URNIK:premaknjeno-srecanje:29356
ATTENDEE:1. letnik (Aplikativna fizika)
CATEGORIES:Entry,Standard
COLOR:darkgreen
DESCRIPTION:Predmet: Fizika I (APF-1)\, Vaje (V)\nLetniki: 1. letnik (Apli
 kativna fizika)\nIzvajalci: Stanislav Vrtnik\nProstor: F7
LOCATION:F7
ORGANIZER:Stanislav Vrtnik
RELATED-TO:fmf-AFLABS-URNIK:srecanje:1458
X-WR-TIMEZONE:Europe/Ljubljana
END:VEVENT
BEGIN:VEVENT
SUMMARY:Fizika I (APF-1)\, Vaje (V)
DTSTART;TZID=Europe/Ljubljana:20180607T100000
DTEND;TZID=Europe/Ljubljana:20180607T120000
DTSTAMP:20260423T111833Z
UID:fmf-AFLABS-URNIK:premaknjeno-srecanje:29357
ATTENDEE:1. letnik (Aplikativna fizika)
CATEGORIES:Entry,Standard
COLOR:darkgreen
DESCRIPTION:Predmet: Fizika I (APF-1)\, Vaje (V)\nLetniki: 1. letnik (Apli
 kativna fizika)\nIzvajalci: Stanislav Vrtnik\nProstor: F7
LOCATION:F7
ORGANIZER:Stanislav Vrtnik
RELATED-TO:fmf-AFLABS-URNIK:srecanje:1458
X-WR-TIMEZONE:Europe/Ljubljana
END:VEVENT
BEGIN:VEVENT
SUMMARY:Rezervacija
DTSTART;TZID=Europe/Ljubljana:20180417T120000
DTEND;TZID=Europe/Ljubljana:20180417T140000
DTSTAMP:20260423T111833Z
UID:fmf-AFLABS-URNIK:rezervacija:819
CATEGORIES:Reservation
COLOR:royalblue
DESCRIPTION:Predmeti: \nLetniki: \nIzvajalci: Stanislav Vrtnik\nProstori: 
 F5
LOCATION:F5
ORGANIZER:Stanislav Vrtnik
X-WR-TIMEZONE:Europe/Ljubljana
END:VEVENT
BEGIN:VEVENT
SUMMARY:Rezervacija
DTSTART;TZID=Europe/Ljubljana:20180611T120000
DTEND;TZID=Europe/Ljubljana:20180611T130000
DTSTAMP:20260423T111833Z
UID:fmf-AFLABS-URNIK:rezervacija:1125
CATEGORIES:Reservation
COLOR:royalblue
DESCRIPTION:Predmeti: \nLetniki: \nIzvajalci: Stanislav Vrtnik\nProstori: 
 F6
LOCATION:F6
ORGANIZER:Stanislav Vrtnik
X-WR-TIMEZONE:Europe/Ljubljana
END:VEVENT
BEGIN:VEVENT
SUMMARY:Rezervacija
DTSTART;TZID=Europe/Ljubljana:20180619T100000
DTEND;TZID=Europe/Ljubljana:20180619T120000
DTSTAMP:20260423T111833Z
UID:fmf-AFLABS-URNIK:rezervacija:1237
CATEGORIES:Reservation
COLOR:royalblue
DESCRIPTION:Predmeti: \nLetniki: \nIzvajalci: Stanislav Vrtnik\nProstori: 
 F7
LOCATION:F7
ORGANIZER:Stanislav Vrtnik
X-WR-TIMEZONE:Europe/Ljubljana
END:VEVENT
BEGIN:VEVENT
SUMMARY:Rezervacija
DTSTART;TZID=Europe/Ljubljana:20180705T100000
DTEND;TZID=Europe/Ljubljana:20180705T120000
DTSTAMP:20260423T111833Z
UID:fmf-AFLABS-URNIK:rezervacija:1491
CATEGORIES:Reservation
COLOR:royalblue
DESCRIPTION:Predmeti: \nLetniki: \nIzvajalci: Stanislav Vrtnik\nProstori: 
 F7
LOCATION:F7
ORGANIZER:Stanislav Vrtnik
X-WR-TIMEZONE:Europe/Ljubljana
END:VEVENT
END:VCALENDAR
