BEGIN:VCALENDAR
VERSION:2.0
PRODID:-//AFLabs urnik izvoz - fmf//aflabs.si//SI
DTSTAMP:20260420T215132Z
NAME:UL FMF urnik
REFRESH-INTERVAL:PT1H
SOURCE:https://urnik.fmf.uni-lj.si/teacher/422?day=2019-04-29&export=1
URL:https://urnik.fmf.uni-lj.si/teacher/422?day=2019-04-29&export=1
X-PUBLISHED-TTL:PT1H
X-WR-CALNAME:UL FMF urnik
X-WR-TIMEZONE:Europe/Ljubljana
BEGIN:VTIMEZONE
TZID:Europe/Ljubljana
BEGIN:DAYLIGHT
DTSTART:20260329T020000
RDATE:20260329T020000
RDATE:20270328T020000
TZNAME:CEST
TZOFFSETFROM:+0100
TZOFFSETTO:+0200
END:DAYLIGHT
BEGIN:STANDARD
DTSTART:20261025T030000
RDATE:20261025T030000
RDATE:20271031T030000
TZNAME:CET
TZOFFSETFROM:+0200
TZOFFSETTO:+0100
END:STANDARD
END:VTIMEZONE
BEGIN:VEVENT
SUMMARY:Fizika II (APF-2)\, Vaje (V)
DTSTART;TZID=Europe/Ljubljana:20190220T100000
DTEND;TZID=Europe/Ljubljana:20190220T110000
DTSTAMP:20260420T215132Z
UID:fmf-AFLABS-URNIK:premaknjeno-srecanje:30056
ATTENDEE:2. letnik (Aplikativna fizika)
CATEGORIES:Entry,Standard
COLOR:darkgreen
DESCRIPTION:Predmet: Fizika II (APF-2)\, Vaje (V)\nLetniki: 2. letnik (Apl
 ikativna fizika)\nIzvajalci: Stanislav Vrtnik\nProstor: F3
LOCATION:F3
ORGANIZER:Stanislav Vrtnik
RELATED-TO:fmf-AFLABS-URNIK:srecanje:2620
X-WR-TIMEZONE:Europe/Ljubljana
END:VEVENT
BEGIN:VEVENT
SUMMARY:Fizika II (APF-2)\, Vaje (V)
DTSTART;TZID=Europe/Ljubljana:20190227T100000
DTEND;TZID=Europe/Ljubljana:20190227T110000
DTSTAMP:20260420T215132Z
UID:fmf-AFLABS-URNIK:premaknjeno-srecanje:30057
ATTENDEE:2. letnik (Aplikativna fizika)
CATEGORIES:Entry,Standard
COLOR:darkgreen
DESCRIPTION:Predmet: Fizika II (APF-2)\, Vaje (V)\nLetniki: 2. letnik (Apl
 ikativna fizika)\nIzvajalci: Stanislav Vrtnik\nProstor: F3
LOCATION:F3
ORGANIZER:Stanislav Vrtnik
RELATED-TO:fmf-AFLABS-URNIK:srecanje:2620
X-WR-TIMEZONE:Europe/Ljubljana
END:VEVENT
BEGIN:VEVENT
SUMMARY:Fizika II (APF-2)\, Vaje (V)
DTSTART;TZID=Europe/Ljubljana:20190306T100000
DTEND;TZID=Europe/Ljubljana:20190306T110000
DTSTAMP:20260420T215132Z
UID:fmf-AFLABS-URNIK:premaknjeno-srecanje:30058
ATTENDEE:2. letnik (Aplikativna fizika)
CATEGORIES:Entry,Standard
COLOR:darkgreen
DESCRIPTION:Predmet: Fizika II (APF-2)\, Vaje (V)\nLetniki: 2. letnik (Apl
 ikativna fizika)\nIzvajalci: Stanislav Vrtnik\nProstor: F3
LOCATION:F3
ORGANIZER:Stanislav Vrtnik
RELATED-TO:fmf-AFLABS-URNIK:srecanje:2620
X-WR-TIMEZONE:Europe/Ljubljana
END:VEVENT
BEGIN:VEVENT
SUMMARY:Fizika II (APF-2)\, Vaje (V)
DTSTART;TZID=Europe/Ljubljana:20190313T100000
DTEND;TZID=Europe/Ljubljana:20190313T110000
DTSTAMP:20260420T215132Z
UID:fmf-AFLABS-URNIK:premaknjeno-srecanje:30059
ATTENDEE:2. letnik (Aplikativna fizika)
CATEGORIES:Entry,Standard
COLOR:darkgreen
DESCRIPTION:Predmet: Fizika II (APF-2)\, Vaje (V)\nLetniki: 2. letnik (Apl
 ikativna fizika)\nIzvajalci: Stanislav Vrtnik\nProstor: F3
LOCATION:F3
ORGANIZER:Stanislav Vrtnik
RELATED-TO:fmf-AFLABS-URNIK:srecanje:2620
X-WR-TIMEZONE:Europe/Ljubljana
END:VEVENT
BEGIN:VEVENT
SUMMARY:Fizika II (APF-2)\, Vaje (V)
DTSTART;TZID=Europe/Ljubljana:20190320T100000
DTEND;TZID=Europe/Ljubljana:20190320T110000
DTSTAMP:20260420T215132Z
UID:fmf-AFLABS-URNIK:premaknjeno-srecanje:30060
ATTENDEE:2. letnik (Aplikativna fizika)
CATEGORIES:Entry,Standard
COLOR:darkgreen
DESCRIPTION:Predmet: Fizika II (APF-2)\, Vaje (V)\nLetniki: 2. letnik (Apl
 ikativna fizika)\nIzvajalci: Stanislav Vrtnik\nProstor: F3
LOCATION:F3
ORGANIZER:Stanislav Vrtnik
RELATED-TO:fmf-AFLABS-URNIK:srecanje:2620
X-WR-TIMEZONE:Europe/Ljubljana
END:VEVENT
BEGIN:VEVENT
SUMMARY:Fizika II (APF-2)\, Vaje (V)
DTSTART;TZID=Europe/Ljubljana:20190327T100000
DTEND;TZID=Europe/Ljubljana:20190327T110000
DTSTAMP:20260420T215132Z
UID:fmf-AFLABS-URNIK:premaknjeno-srecanje:30061
ATTENDEE:2. letnik (Aplikativna fizika)
CATEGORIES:Entry,Standard
COLOR:darkgreen
DESCRIPTION:Predmet: Fizika II (APF-2)\, Vaje (V)\nLetniki: 2. letnik (Apl
 ikativna fizika)\nIzvajalci: Stanislav Vrtnik\nProstor: F3
LOCATION:F3
ORGANIZER:Stanislav Vrtnik
RELATED-TO:fmf-AFLABS-URNIK:srecanje:2620
X-WR-TIMEZONE:Europe/Ljubljana
END:VEVENT
BEGIN:VEVENT
SUMMARY:Fizika II (APF-2)\, Vaje (V)
DTSTART;TZID=Europe/Ljubljana:20190403T100000
DTEND;TZID=Europe/Ljubljana:20190403T110000
DTSTAMP:20260420T215132Z
UID:fmf-AFLABS-URNIK:premaknjeno-srecanje:30062
ATTENDEE:2. letnik (Aplikativna fizika)
CATEGORIES:Entry,Standard
COLOR:darkgreen
DESCRIPTION:Predmet: Fizika II (APF-2)\, Vaje (V)\nLetniki: 2. letnik (Apl
 ikativna fizika)\nIzvajalci: Stanislav Vrtnik\nProstor: F3
LOCATION:F3
ORGANIZER:Stanislav Vrtnik
RELATED-TO:fmf-AFLABS-URNIK:srecanje:2620
X-WR-TIMEZONE:Europe/Ljubljana
END:VEVENT
BEGIN:VEVENT
SUMMARY:Fizika II (APF-2)\, Vaje (V)
DTSTART;TZID=Europe/Ljubljana:20190410T100000
DTEND;TZID=Europe/Ljubljana:20190410T110000
DTSTAMP:20260420T215132Z
UID:fmf-AFLABS-URNIK:premaknjeno-srecanje:30063
ATTENDEE:2. letnik (Aplikativna fizika)
CATEGORIES:Entry,Standard
COLOR:darkgreen
DESCRIPTION:Predmet: Fizika II (APF-2)\, Vaje (V)\nLetniki: 2. letnik (Apl
 ikativna fizika)\nIzvajalci: Stanislav Vrtnik\nProstor: F3
LOCATION:F3
ORGANIZER:Stanislav Vrtnik
RELATED-TO:fmf-AFLABS-URNIK:srecanje:2620
X-WR-TIMEZONE:Europe/Ljubljana
END:VEVENT
BEGIN:VEVENT
SUMMARY:Fizika II (APF-2)\, Vaje (V)
DTSTART;TZID=Europe/Ljubljana:20190417T100000
DTEND;TZID=Europe/Ljubljana:20190417T110000
DTSTAMP:20260420T215132Z
UID:fmf-AFLABS-URNIK:premaknjeno-srecanje:30064
ATTENDEE:2. letnik (Aplikativna fizika)
CATEGORIES:Entry,Standard
COLOR:darkgreen
DESCRIPTION:Predmet: Fizika II (APF-2)\, Vaje (V)\nLetniki: 2. letnik (Apl
 ikativna fizika)\nIzvajalci: Stanislav Vrtnik\nProstor: F3
LOCATION:F3
ORGANIZER:Stanislav Vrtnik
RELATED-TO:fmf-AFLABS-URNIK:srecanje:2620
X-WR-TIMEZONE:Europe/Ljubljana
END:VEVENT
BEGIN:VEVENT
SUMMARY:Fizika II (APF-2)\, Vaje (V)
DTSTART;TZID=Europe/Ljubljana:20190424T100000
DTEND;TZID=Europe/Ljubljana:20190424T110000
DTSTAMP:20260420T215132Z
UID:fmf-AFLABS-URNIK:premaknjeno-srecanje:30065
ATTENDEE:2. letnik (Aplikativna fizika)
CATEGORIES:Entry,Standard
COLOR:darkgreen
DESCRIPTION:Predmet: Fizika II (APF-2)\, Vaje (V)\nLetniki: 2. letnik (Apl
 ikativna fizika)\nIzvajalci: Stanislav Vrtnik\nProstor: F3
LOCATION:F3
ORGANIZER:Stanislav Vrtnik
RELATED-TO:fmf-AFLABS-URNIK:srecanje:2620
X-WR-TIMEZONE:Europe/Ljubljana
END:VEVENT
BEGIN:VEVENT
SUMMARY:Fizika II (APF-2)\, Vaje (V)
DTSTART;TZID=Europe/Ljubljana:20190501T100000
DTEND;TZID=Europe/Ljubljana:20190501T110000
DTSTAMP:20260420T215132Z
UID:fmf-AFLABS-URNIK:premaknjeno-srecanje:30066
ATTENDEE:2. letnik (Aplikativna fizika)
CATEGORIES:Entry,Standard
COLOR:darkgreen
DESCRIPTION:Predmet: Fizika II (APF-2)\, Vaje (V)\nLetniki: 2. letnik (Apl
 ikativna fizika)\nIzvajalci: Stanislav Vrtnik\nProstor: F3
LOCATION:F3
ORGANIZER:Stanislav Vrtnik
RELATED-TO:fmf-AFLABS-URNIK:srecanje:2620
X-WR-TIMEZONE:Europe/Ljubljana
END:VEVENT
BEGIN:VEVENT
SUMMARY:Fizika II (APF-2)\, Vaje (V)
DTSTART;TZID=Europe/Ljubljana:20190508T100000
DTEND;TZID=Europe/Ljubljana:20190508T110000
DTSTAMP:20260420T215132Z
UID:fmf-AFLABS-URNIK:premaknjeno-srecanje:30067
ATTENDEE:2. letnik (Aplikativna fizika)
CATEGORIES:Entry,Standard
COLOR:darkgreen
DESCRIPTION:Predmet: Fizika II (APF-2)\, Vaje (V)\nLetniki: 2. letnik (Apl
 ikativna fizika)\nIzvajalci: Stanislav Vrtnik\nProstor: F3
LOCATION:F3
ORGANIZER:Stanislav Vrtnik
RELATED-TO:fmf-AFLABS-URNIK:srecanje:2620
X-WR-TIMEZONE:Europe/Ljubljana
END:VEVENT
BEGIN:VEVENT
SUMMARY:Fizika II (APF-2)\, Vaje (V)
DTSTART;TZID=Europe/Ljubljana:20190515T100000
DTEND;TZID=Europe/Ljubljana:20190515T110000
DTSTAMP:20260420T215132Z
UID:fmf-AFLABS-URNIK:premaknjeno-srecanje:30068
ATTENDEE:2. letnik (Aplikativna fizika)
CATEGORIES:Entry,Standard
COLOR:darkgreen
DESCRIPTION:Predmet: Fizika II (APF-2)\, Vaje (V)\nLetniki: 2. letnik (Apl
 ikativna fizika)\nIzvajalci: Stanislav Vrtnik\nProstor: F3
LOCATION:F3
ORGANIZER:Stanislav Vrtnik
RELATED-TO:fmf-AFLABS-URNIK:srecanje:2620
X-WR-TIMEZONE:Europe/Ljubljana
END:VEVENT
BEGIN:VEVENT
SUMMARY:Fizika II (APF-2)\, Vaje (V)
DTSTART;TZID=Europe/Ljubljana:20190522T100000
DTEND;TZID=Europe/Ljubljana:20190522T110000
DTSTAMP:20260420T215132Z
UID:fmf-AFLABS-URNIK:premaknjeno-srecanje:30069
ATTENDEE:2. letnik (Aplikativna fizika)
CATEGORIES:Entry,Standard
COLOR:darkgreen
DESCRIPTION:Predmet: Fizika II (APF-2)\, Vaje (V)\nLetniki: 2. letnik (Apl
 ikativna fizika)\nIzvajalci: Stanislav Vrtnik\nProstor: F3
LOCATION:F3
ORGANIZER:Stanislav Vrtnik
RELATED-TO:fmf-AFLABS-URNIK:srecanje:2620
X-WR-TIMEZONE:Europe/Ljubljana
END:VEVENT
BEGIN:VEVENT
SUMMARY:Fizika II (APF-2)\, Vaje (V)
DTSTART;TZID=Europe/Ljubljana:20190529T100000
DTEND;TZID=Europe/Ljubljana:20190529T110000
DTSTAMP:20260420T215132Z
UID:fmf-AFLABS-URNIK:premaknjeno-srecanje:30070
ATTENDEE:2. letnik (Aplikativna fizika)
CATEGORIES:Entry,Standard
COLOR:darkgreen
DESCRIPTION:Predmet: Fizika II (APF-2)\, Vaje (V)\nLetniki: 2. letnik (Apl
 ikativna fizika)\nIzvajalci: Stanislav Vrtnik\nProstor: F3
LOCATION:F3
ORGANIZER:Stanislav Vrtnik
RELATED-TO:fmf-AFLABS-URNIK:srecanje:2620
X-WR-TIMEZONE:Europe/Ljubljana
END:VEVENT
BEGIN:VEVENT
SUMMARY:Fizika II (APF-2)\, Vaje (V)
DTSTART;TZID=Europe/Ljubljana:20190220T110000
DTEND;TZID=Europe/Ljubljana:20190220T130000
DTSTAMP:20260420T215132Z
UID:fmf-AFLABS-URNIK:premaknjeno-srecanje:30210
ATTENDEE:2. letnik (Aplikativna fizika)
CATEGORIES:Entry,Standard
COLOR:darkgreen
DESCRIPTION:Predmet: Fizika II (APF-2)\, Vaje (V)\nLetniki: 2. letnik (Apl
 ikativna fizika)\nIzvajalci: Stanislav Vrtnik\nProstor: F3
LOCATION:F3
ORGANIZER:Stanislav Vrtnik
RELATED-TO:fmf-AFLABS-URNIK:srecanje:2619
X-WR-TIMEZONE:Europe/Ljubljana
END:VEVENT
BEGIN:VEVENT
SUMMARY:Fizika II (APF-2)\, Vaje (V)
DTSTART;TZID=Europe/Ljubljana:20190227T110000
DTEND;TZID=Europe/Ljubljana:20190227T130000
DTSTAMP:20260420T215132Z
UID:fmf-AFLABS-URNIK:premaknjeno-srecanje:30211
ATTENDEE:2. letnik (Aplikativna fizika)
CATEGORIES:Entry,Standard
COLOR:darkgreen
DESCRIPTION:Predmet: Fizika II (APF-2)\, Vaje (V)\nLetniki: 2. letnik (Apl
 ikativna fizika)\nIzvajalci: Stanislav Vrtnik\nProstor: F3
LOCATION:F3
ORGANIZER:Stanislav Vrtnik
RELATED-TO:fmf-AFLABS-URNIK:srecanje:2619
X-WR-TIMEZONE:Europe/Ljubljana
END:VEVENT
BEGIN:VEVENT
SUMMARY:Fizika II (APF-2)\, Vaje (V)
DTSTART;TZID=Europe/Ljubljana:20190306T110000
DTEND;TZID=Europe/Ljubljana:20190306T130000
DTSTAMP:20260420T215132Z
UID:fmf-AFLABS-URNIK:premaknjeno-srecanje:30212
ATTENDEE:2. letnik (Aplikativna fizika)
CATEGORIES:Entry,Standard
COLOR:darkgreen
DESCRIPTION:Predmet: Fizika II (APF-2)\, Vaje (V)\nLetniki: 2. letnik (Apl
 ikativna fizika)\nIzvajalci: Stanislav Vrtnik\nProstor: F3
LOCATION:F3
ORGANIZER:Stanislav Vrtnik
RELATED-TO:fmf-AFLABS-URNIK:srecanje:2619
X-WR-TIMEZONE:Europe/Ljubljana
END:VEVENT
BEGIN:VEVENT
SUMMARY:Fizika II (APF-2)\, Vaje (V)
DTSTART;TZID=Europe/Ljubljana:20190313T110000
DTEND;TZID=Europe/Ljubljana:20190313T130000
DTSTAMP:20260420T215132Z
UID:fmf-AFLABS-URNIK:premaknjeno-srecanje:30213
ATTENDEE:2. letnik (Aplikativna fizika)
CATEGORIES:Entry,Standard
COLOR:darkgreen
DESCRIPTION:Predmet: Fizika II (APF-2)\, Vaje (V)\nLetniki: 2. letnik (Apl
 ikativna fizika)\nIzvajalci: Stanislav Vrtnik\nProstor: F3
LOCATION:F3
ORGANIZER:Stanislav Vrtnik
RELATED-TO:fmf-AFLABS-URNIK:srecanje:2619
X-WR-TIMEZONE:Europe/Ljubljana
END:VEVENT
BEGIN:VEVENT
SUMMARY:Fizika II (APF-2)\, Vaje (V)
DTSTART;TZID=Europe/Ljubljana:20190320T110000
DTEND;TZID=Europe/Ljubljana:20190320T130000
DTSTAMP:20260420T215132Z
UID:fmf-AFLABS-URNIK:premaknjeno-srecanje:30214
ATTENDEE:2. letnik (Aplikativna fizika)
CATEGORIES:Entry,Standard
COLOR:darkgreen
DESCRIPTION:Predmet: Fizika II (APF-2)\, Vaje (V)\nLetniki: 2. letnik (Apl
 ikativna fizika)\nIzvajalci: Stanislav Vrtnik\nProstor: F3
LOCATION:F3
ORGANIZER:Stanislav Vrtnik
RELATED-TO:fmf-AFLABS-URNIK:srecanje:2619
X-WR-TIMEZONE:Europe/Ljubljana
END:VEVENT
BEGIN:VEVENT
SUMMARY:Fizika II (APF-2)\, Vaje (V)
DTSTART;TZID=Europe/Ljubljana:20190327T110000
DTEND;TZID=Europe/Ljubljana:20190327T130000
DTSTAMP:20260420T215132Z
UID:fmf-AFLABS-URNIK:premaknjeno-srecanje:30215
ATTENDEE:2. letnik (Aplikativna fizika)
CATEGORIES:Entry,Standard
COLOR:darkgreen
DESCRIPTION:Predmet: Fizika II (APF-2)\, Vaje (V)\nLetniki: 2. letnik (Apl
 ikativna fizika)\nIzvajalci: Stanislav Vrtnik\nProstor: F3
LOCATION:F3
ORGANIZER:Stanislav Vrtnik
RELATED-TO:fmf-AFLABS-URNIK:srecanje:2619
X-WR-TIMEZONE:Europe/Ljubljana
END:VEVENT
BEGIN:VEVENT
SUMMARY:Fizika II (APF-2)\, Vaje (V)
DTSTART;TZID=Europe/Ljubljana:20190403T110000
DTEND;TZID=Europe/Ljubljana:20190403T130000
DTSTAMP:20260420T215132Z
UID:fmf-AFLABS-URNIK:premaknjeno-srecanje:30216
ATTENDEE:2. letnik (Aplikativna fizika)
CATEGORIES:Entry,Standard
COLOR:darkgreen
DESCRIPTION:Predmet: Fizika II (APF-2)\, Vaje (V)\nLetniki: 2. letnik (Apl
 ikativna fizika)\nIzvajalci: Stanislav Vrtnik\nProstor: F3
LOCATION:F3
ORGANIZER:Stanislav Vrtnik
RELATED-TO:fmf-AFLABS-URNIK:srecanje:2619
X-WR-TIMEZONE:Europe/Ljubljana
END:VEVENT
BEGIN:VEVENT
SUMMARY:Fizika II (APF-2)\, Vaje (V)
DTSTART;TZID=Europe/Ljubljana:20190410T110000
DTEND;TZID=Europe/Ljubljana:20190410T130000
DTSTAMP:20260420T215132Z
UID:fmf-AFLABS-URNIK:premaknjeno-srecanje:30217
ATTENDEE:2. letnik (Aplikativna fizika)
CATEGORIES:Entry,Standard
COLOR:darkgreen
DESCRIPTION:Predmet: Fizika II (APF-2)\, Vaje (V)\nLetniki: 2. letnik (Apl
 ikativna fizika)\nIzvajalci: Stanislav Vrtnik\nProstor: F3
LOCATION:F3
ORGANIZER:Stanislav Vrtnik
RELATED-TO:fmf-AFLABS-URNIK:srecanje:2619
X-WR-TIMEZONE:Europe/Ljubljana
END:VEVENT
BEGIN:VEVENT
SUMMARY:Fizika II (APF-2)\, Vaje (V)
DTSTART;TZID=Europe/Ljubljana:20190417T110000
DTEND;TZID=Europe/Ljubljana:20190417T130000
DTSTAMP:20260420T215132Z
UID:fmf-AFLABS-URNIK:premaknjeno-srecanje:30218
ATTENDEE:2. letnik (Aplikativna fizika)
CATEGORIES:Entry,Standard
COLOR:darkgreen
DESCRIPTION:Predmet: Fizika II (APF-2)\, Vaje (V)\nLetniki: 2. letnik (Apl
 ikativna fizika)\nIzvajalci: Stanislav Vrtnik\nProstor: F3
LOCATION:F3
ORGANIZER:Stanislav Vrtnik
RELATED-TO:fmf-AFLABS-URNIK:srecanje:2619
X-WR-TIMEZONE:Europe/Ljubljana
END:VEVENT
BEGIN:VEVENT
SUMMARY:Fizika II (APF-2)\, Vaje (V)
DTSTART;TZID=Europe/Ljubljana:20190424T110000
DTEND;TZID=Europe/Ljubljana:20190424T130000
DTSTAMP:20260420T215132Z
UID:fmf-AFLABS-URNIK:premaknjeno-srecanje:30219
ATTENDEE:2. letnik (Aplikativna fizika)
CATEGORIES:Entry,Standard
COLOR:darkgreen
DESCRIPTION:Predmet: Fizika II (APF-2)\, Vaje (V)\nLetniki: 2. letnik (Apl
 ikativna fizika)\nIzvajalci: Stanislav Vrtnik\nProstor: F3
LOCATION:F3
ORGANIZER:Stanislav Vrtnik
RELATED-TO:fmf-AFLABS-URNIK:srecanje:2619
X-WR-TIMEZONE:Europe/Ljubljana
END:VEVENT
BEGIN:VEVENT
SUMMARY:Fizika II (APF-2)\, Vaje (V)
DTSTART;TZID=Europe/Ljubljana:20190501T110000
DTEND;TZID=Europe/Ljubljana:20190501T130000
DTSTAMP:20260420T215132Z
UID:fmf-AFLABS-URNIK:premaknjeno-srecanje:30220
ATTENDEE:2. letnik (Aplikativna fizika)
CATEGORIES:Entry,Standard
COLOR:darkgreen
DESCRIPTION:Predmet: Fizika II (APF-2)\, Vaje (V)\nLetniki: 2. letnik (Apl
 ikativna fizika)\nIzvajalci: Stanislav Vrtnik\nProstor: F3
LOCATION:F3
ORGANIZER:Stanislav Vrtnik
RELATED-TO:fmf-AFLABS-URNIK:srecanje:2619
X-WR-TIMEZONE:Europe/Ljubljana
END:VEVENT
BEGIN:VEVENT
SUMMARY:Fizika II (APF-2)\, Vaje (V)
DTSTART;TZID=Europe/Ljubljana:20190508T110000
DTEND;TZID=Europe/Ljubljana:20190508T130000
DTSTAMP:20260420T215132Z
UID:fmf-AFLABS-URNIK:premaknjeno-srecanje:30221
ATTENDEE:2. letnik (Aplikativna fizika)
CATEGORIES:Entry,Standard
COLOR:darkgreen
DESCRIPTION:Predmet: Fizika II (APF-2)\, Vaje (V)\nLetniki: 2. letnik (Apl
 ikativna fizika)\nIzvajalci: Stanislav Vrtnik\nProstor: F3
LOCATION:F3
ORGANIZER:Stanislav Vrtnik
RELATED-TO:fmf-AFLABS-URNIK:srecanje:2619
X-WR-TIMEZONE:Europe/Ljubljana
END:VEVENT
BEGIN:VEVENT
SUMMARY:Fizika II (APF-2)\, Vaje (V)
DTSTART;TZID=Europe/Ljubljana:20190515T110000
DTEND;TZID=Europe/Ljubljana:20190515T130000
DTSTAMP:20260420T215132Z
UID:fmf-AFLABS-URNIK:premaknjeno-srecanje:30222
ATTENDEE:2. letnik (Aplikativna fizika)
CATEGORIES:Entry,Standard
COLOR:darkgreen
DESCRIPTION:Predmet: Fizika II (APF-2)\, Vaje (V)\nLetniki: 2. letnik (Apl
 ikativna fizika)\nIzvajalci: Stanislav Vrtnik\nProstor: F3
LOCATION:F3
ORGANIZER:Stanislav Vrtnik
RELATED-TO:fmf-AFLABS-URNIK:srecanje:2619
X-WR-TIMEZONE:Europe/Ljubljana
END:VEVENT
BEGIN:VEVENT
SUMMARY:Fizika II (APF-2)\, Vaje (V)
DTSTART;TZID=Europe/Ljubljana:20190522T110000
DTEND;TZID=Europe/Ljubljana:20190522T130000
DTSTAMP:20260420T215132Z
UID:fmf-AFLABS-URNIK:premaknjeno-srecanje:30223
ATTENDEE:2. letnik (Aplikativna fizika)
CATEGORIES:Entry,Standard
COLOR:darkgreen
DESCRIPTION:Predmet: Fizika II (APF-2)\, Vaje (V)\nLetniki: 2. letnik (Apl
 ikativna fizika)\nIzvajalci: Stanislav Vrtnik\nProstor: F3
LOCATION:F3
ORGANIZER:Stanislav Vrtnik
RELATED-TO:fmf-AFLABS-URNIK:srecanje:2619
X-WR-TIMEZONE:Europe/Ljubljana
END:VEVENT
BEGIN:VEVENT
SUMMARY:Fizika II (APF-2)\, Vaje (V)
DTSTART;TZID=Europe/Ljubljana:20190529T110000
DTEND;TZID=Europe/Ljubljana:20190529T130000
DTSTAMP:20260420T215132Z
UID:fmf-AFLABS-URNIK:premaknjeno-srecanje:30224
ATTENDEE:2. letnik (Aplikativna fizika)
CATEGORIES:Entry,Standard
COLOR:darkgreen
DESCRIPTION:Predmet: Fizika II (APF-2)\, Vaje (V)\nLetniki: 2. letnik (Apl
 ikativna fizika)\nIzvajalci: Stanislav Vrtnik\nProstor: F3
LOCATION:F3
ORGANIZER:Stanislav Vrtnik
RELATED-TO:fmf-AFLABS-URNIK:srecanje:2619
X-WR-TIMEZONE:Europe/Ljubljana
END:VEVENT
BEGIN:VEVENT
SUMMARY:Rezervacija
DTSTART;TZID=Europe/Ljubljana:20190429T110000
DTEND;TZID=Europe/Ljubljana:20190429T130000
DTSTAMP:20260420T215132Z
UID:fmf-AFLABS-URNIK:rezervacija:3070
CATEGORIES:Reservation
COLOR:royalblue
DESCRIPTION:Predmeti: \nLetniki: \nIzvajalci: Stanislav Vrtnik\nProstori: 
 F5
LOCATION:F5
ORGANIZER:Stanislav Vrtnik
X-WR-TIMEZONE:Europe/Ljubljana
END:VEVENT
END:VCALENDAR
