BEGIN:VCALENDAR
VERSION:2.0
PRODID:-//AFLabs urnik izvoz - fmf//aflabs.si//SI
DTSTAMP:20260425T224432Z
NAME:UL FMF urnik
REFRESH-INTERVAL:PT1H
SOURCE:https://urnik.fmf.uni-lj.si/teacher/422?day=2021-09-13&export=1
URL:https://urnik.fmf.uni-lj.si/teacher/422?day=2021-09-13&export=1
X-PUBLISHED-TTL:PT1H
X-WR-CALNAME:UL FMF urnik
X-WR-TIMEZONE:Europe/Ljubljana
BEGIN:VTIMEZONE
TZID:Europe/Ljubljana
BEGIN:DAYLIGHT
DTSTART:20260329T020000
RDATE:20260329T020000
RDATE:20270328T020000
TZNAME:CEST
TZOFFSETFROM:+0100
TZOFFSETTO:+0200
END:DAYLIGHT
BEGIN:STANDARD
DTSTART:20261025T030000
RDATE:20261025T030000
RDATE:20271031T030000
TZNAME:CET
TZOFFSETFROM:+0200
TZOFFSETTO:+0100
END:STANDARD
END:VTIMEZONE
BEGIN:VEVENT
SUMMARY:Fizika I (APF-1)\, Vaje (V)
DTSTART;TZID=Europe/Ljubljana:20211004T110000
DTEND;TZID=Europe/Ljubljana:20211004T120000
DTSTAMP:20260425T224432Z
UID:fmf-AFLABS-URNIK:premaknjeno-srecanje:29074
ATTENDEE:1. letnik (Aplikativna fizika)
CATEGORIES:Entry,Standard
COLOR:darkgreen
DESCRIPTION:Predmet: Fizika I (APF-1)\, Vaje (V)\nLetniki: 1. letnik (Apli
 kativna fizika)\nIzvajalci: Stanislav Vrtnik\nProstor: F3
LOCATION:F3
ORGANIZER:Stanislav Vrtnik
RELATED-TO:fmf-AFLABS-URNIK:srecanje:6761
X-WR-TIMEZONE:Europe/Ljubljana
END:VEVENT
BEGIN:VEVENT
SUMMARY:Fizika I (APF-1)\, Vaje (V)
DTSTART;TZID=Europe/Ljubljana:20211011T110000
DTEND;TZID=Europe/Ljubljana:20211011T120000
DTSTAMP:20260425T224432Z
UID:fmf-AFLABS-URNIK:premaknjeno-srecanje:29075
ATTENDEE:1. letnik (Aplikativna fizika)
CATEGORIES:Entry,Standard
COLOR:darkgreen
DESCRIPTION:Predmet: Fizika I (APF-1)\, Vaje (V)\nLetniki: 1. letnik (Apli
 kativna fizika)\nIzvajalci: Stanislav Vrtnik\nProstor: F3
LOCATION:F3
ORGANIZER:Stanislav Vrtnik
RELATED-TO:fmf-AFLABS-URNIK:srecanje:6761
X-WR-TIMEZONE:Europe/Ljubljana
END:VEVENT
BEGIN:VEVENT
SUMMARY:Fizika I (APF-1)\, Vaje (V)
DTSTART;TZID=Europe/Ljubljana:20211018T110000
DTEND;TZID=Europe/Ljubljana:20211018T120000
DTSTAMP:20260425T224432Z
UID:fmf-AFLABS-URNIK:premaknjeno-srecanje:29076
ATTENDEE:1. letnik (Aplikativna fizika)
CATEGORIES:Entry,Standard
COLOR:darkgreen
DESCRIPTION:Predmet: Fizika I (APF-1)\, Vaje (V)\nLetniki: 1. letnik (Apli
 kativna fizika)\nIzvajalci: Stanislav Vrtnik\nProstor: F3
LOCATION:F3
ORGANIZER:Stanislav Vrtnik
RELATED-TO:fmf-AFLABS-URNIK:srecanje:6761
X-WR-TIMEZONE:Europe/Ljubljana
END:VEVENT
BEGIN:VEVENT
SUMMARY:Fizika I (APF-1)\, Vaje (V)
DTSTART;TZID=Europe/Ljubljana:20211006T140000
DTEND;TZID=Europe/Ljubljana:20211006T160000
DTSTAMP:20260425T224432Z
UID:fmf-AFLABS-URNIK:premaknjeno-srecanje:29264
ATTENDEE:1. letnik (Aplikativna fizika)
CATEGORIES:Entry,Standard
COLOR:darkgreen
DESCRIPTION:Predmet: Fizika I (APF-1)\, Vaje (V)\nLetniki: 1. letnik (Apli
 kativna fizika)\nIzvajalci: Stanislav Vrtnik\nProstor: F6
LOCATION:F6
ORGANIZER:Stanislav Vrtnik
RELATED-TO:fmf-AFLABS-URNIK:srecanje:6248
X-WR-TIMEZONE:Europe/Ljubljana
END:VEVENT
BEGIN:VEVENT
SUMMARY:Fizika I (APF-1)\, Vaje (V)
DTSTART;TZID=Europe/Ljubljana:20211013T140000
DTEND;TZID=Europe/Ljubljana:20211013T160000
DTSTAMP:20260425T224432Z
UID:fmf-AFLABS-URNIK:premaknjeno-srecanje:29265
ATTENDEE:1. letnik (Aplikativna fizika)
CATEGORIES:Entry,Standard
COLOR:darkgreen
DESCRIPTION:Predmet: Fizika I (APF-1)\, Vaje (V)\nLetniki: 1. letnik (Apli
 kativna fizika)\nIzvajalci: Stanislav Vrtnik\nProstor: F6
LOCATION:F6
ORGANIZER:Stanislav Vrtnik
RELATED-TO:fmf-AFLABS-URNIK:srecanje:6248
X-WR-TIMEZONE:Europe/Ljubljana
END:VEVENT
END:VCALENDAR
