BEGIN:VCALENDAR
VERSION:2.0
PRODID:-//AFLabs urnik izvoz - fmf//aflabs.si//SI
DTSTAMP:20260423T223343Z
NAME:UL FMF urnik
REFRESH-INTERVAL:PT1H
SOURCE:https://urnik.fmf.uni-lj.si/teacher/449?day=2021-06-21&export=1
URL:https://urnik.fmf.uni-lj.si/teacher/449?day=2021-06-21&export=1
X-PUBLISHED-TTL:PT1H
X-WR-CALNAME:UL FMF urnik
X-WR-TIMEZONE:Europe/Ljubljana
BEGIN:VTIMEZONE
TZID:Europe/Ljubljana
BEGIN:DAYLIGHT
DTSTART:20260329T020000
RDATE:20260329T020000
RDATE:20270328T020000
TZNAME:CEST
TZOFFSETFROM:+0100
TZOFFSETTO:+0200
END:DAYLIGHT
BEGIN:STANDARD
DTSTART:20261025T030000
RDATE:20261025T030000
RDATE:20271031T030000
TZNAME:CET
TZOFFSETFROM:+0200
TZOFFSETTO:+0100
END:STANDARD
END:VTIMEZONE
BEGIN:VEVENT
SUMMARY:Praksa pouka 1 (PEF-1\, PEF-2)\, Predavanja (P)
DTSTART;TZID=Europe/Ljubljana:20210518T140000
DTEND;TZID=Europe/Ljubljana:20210518T160000
DTSTAMP:20260423T223343Z
UID:fmf-AFLABS-URNIK:premaknjeno-srecanje:83898
ATTENDEE:1. letnik (Pedagoška fizika, 2. stopnja)
ATTENDEE:2. letnik (Pedagoška fizika, 2. stopnja)
CATEGORIES:Entry,Standard
COLOR:darkgreen
DESCRIPTION:Predmet: Praksa pouka 1 (PEF-1\, PEF-2)\, Predavanja (P)\nLetn
 iki: 1. letnik (Pedagoška fizika\, 2. stopnja)\, 2. letnik (Pedagoška fi
 zika\, 2. stopnja)\nIzvajalci: Gorazd Planinšič\nProstor: S206
LOCATION:S206
ORGANIZER:Gorazd Planinšič
RELATED-TO:fmf-AFLABS-URNIK:srecanje:6015
X-WR-TIMEZONE:Europe/Ljubljana
END:VEVENT
BEGIN:VEVENT
SUMMARY:Praksa pouka 1 (PEF-1\, PEF-2)\, Predavanja (P)
DTSTART;TZID=Europe/Ljubljana:20210525T140000
DTEND;TZID=Europe/Ljubljana:20210525T160000
DTSTAMP:20260423T223343Z
UID:fmf-AFLABS-URNIK:premaknjeno-srecanje:83899
ATTENDEE:1. letnik (Pedagoška fizika, 2. stopnja)
ATTENDEE:2. letnik (Pedagoška fizika, 2. stopnja)
CATEGORIES:Entry,Standard
COLOR:darkgreen
DESCRIPTION:Predmet: Praksa pouka 1 (PEF-1\, PEF-2)\, Predavanja (P)\nLetn
 iki: 1. letnik (Pedagoška fizika\, 2. stopnja)\, 2. letnik (Pedagoška fi
 zika\, 2. stopnja)\nIzvajalci: Gorazd Planinšič\nProstor: S206
LOCATION:S206
ORGANIZER:Gorazd Planinšič
RELATED-TO:fmf-AFLABS-URNIK:srecanje:6015
X-WR-TIMEZONE:Europe/Ljubljana
END:VEVENT
BEGIN:VEVENT
SUMMARY:Didaktika fizike I (FIZ-3)\, Predavanja (P)
DTSTART;TZID=Europe/Ljubljana:20210519T110000
DTEND;TZID=Europe/Ljubljana:20210519T130000
DTSTAMP:20260423T223343Z
UID:fmf-AFLABS-URNIK:premaknjeno-srecanje:13467
ATTENDEE:3. letnik (Fizika, 1. stopnja)
CATEGORIES:Entry,Standard
COLOR:darkgreen
DESCRIPTION:Predmet: Didaktika fizike I (FIZ-3)\, Predavanja (P)\nLetniki:
  3. letnik (Fizika\, 1. stopnja)\nIzvajalci: Gorazd Planinšič\nProstor: 
 S206
LOCATION:S206
ORGANIZER:Gorazd Planinšič
RELATED-TO:fmf-AFLABS-URNIK:srecanje:5482
X-WR-TIMEZONE:Europe/Ljubljana
END:VEVENT
BEGIN:VEVENT
SUMMARY:Didaktika fizike I (FIZ-3)\, Predavanja (P)
DTSTART;TZID=Europe/Ljubljana:20210526T110000
DTEND;TZID=Europe/Ljubljana:20210526T130000
DTSTAMP:20260423T223343Z
UID:fmf-AFLABS-URNIK:premaknjeno-srecanje:13468
ATTENDEE:3. letnik (Fizika, 1. stopnja)
CATEGORIES:Entry,Standard
COLOR:darkgreen
DESCRIPTION:Predmet: Didaktika fizike I (FIZ-3)\, Predavanja (P)\nLetniki:
  3. letnik (Fizika\, 1. stopnja)\nIzvajalci: Gorazd Planinšič\nProstor: 
 S206
LOCATION:S206
ORGANIZER:Gorazd Planinšič
RELATED-TO:fmf-AFLABS-URNIK:srecanje:5482
X-WR-TIMEZONE:Europe/Ljubljana
END:VEVENT
BEGIN:VEVENT
SUMMARY:Didaktika fizike I (FIZ-3)\, Seminar (S)
DTSTART;TZID=Europe/Ljubljana:20210519T130000
DTEND;TZID=Europe/Ljubljana:20210519T140000
DTSTAMP:20260423T223343Z
UID:fmf-AFLABS-URNIK:premaknjeno-srecanje:13559
ATTENDEE:3. letnik (Fizika, 1. stopnja)
CATEGORIES:Entry,Standard
COLOR:darkgreen
DESCRIPTION:Predmet: Didaktika fizike I (FIZ-3)\, Seminar (S)\nLetniki: 3.
  letnik (Fizika\, 1. stopnja)\nIzvajalci: Gorazd Planinšič\nProstor: S20
 6
LOCATION:S206
ORGANIZER:Gorazd Planinšič
RELATED-TO:fmf-AFLABS-URNIK:srecanje:5483
X-WR-TIMEZONE:Europe/Ljubljana
END:VEVENT
BEGIN:VEVENT
SUMMARY:Didaktika fizike I (FIZ-3)\, Seminar (S)
DTSTART;TZID=Europe/Ljubljana:20210526T130000
DTEND;TZID=Europe/Ljubljana:20210526T140000
DTSTAMP:20260423T223343Z
UID:fmf-AFLABS-URNIK:premaknjeno-srecanje:13560
ATTENDEE:3. letnik (Fizika, 1. stopnja)
CATEGORIES:Entry,Standard
COLOR:darkgreen
DESCRIPTION:Predmet: Didaktika fizike I (FIZ-3)\, Seminar (S)\nLetniki: 3.
  letnik (Fizika\, 1. stopnja)\nIzvajalci: Gorazd Planinšič\nProstor: S20
 6
LOCATION:S206
ORGANIZER:Gorazd Planinšič
RELATED-TO:fmf-AFLABS-URNIK:srecanje:5483
X-WR-TIMEZONE:Europe/Ljubljana
END:VEVENT
BEGIN:VEVENT
SUMMARY:Naravoslovna obzorja (PM-3\, PM-4)\, Predavanja (P)\, [(do 9. 4.)]
DTSTART;TZID=Europe/Ljubljana:20210519T110000
DTEND;TZID=Europe/Ljubljana:20210519T140000
DTSTAMP:20260423T223343Z
UID:fmf-AFLABS-URNIK:premaknjeno-srecanje:75907
ATTENDEE:3. letnik (PM)
ATTENDEE:4. letnik (PM)
CATEGORIES:Entry,Standard
COLOR:darkgreen
DESCRIPTION:Predmet: Naravoslovna obzorja (PM-3\, PM-4)\, Predavanja (P)\,
  [(do 9. 4.)]\nLetniki: 3. letnik (PM)\, 4. letnik (PM)\nIzvajalci: Gorazd
  Planinšič\nProstor: S206
LOCATION:S206
ORGANIZER:Gorazd Planinšič
RELATED-TO:fmf-AFLABS-URNIK:srecanje:5769
X-WR-TIMEZONE:Europe/Ljubljana
END:VEVENT
BEGIN:VEVENT
SUMMARY:Naravoslovna obzorja (PM-3\, PM-4)\, Predavanja (P)\, [(do 9. 4.)]
DTSTART;TZID=Europe/Ljubljana:20210526T110000
DTEND;TZID=Europe/Ljubljana:20210526T140000
DTSTAMP:20260423T223343Z
UID:fmf-AFLABS-URNIK:premaknjeno-srecanje:75908
ATTENDEE:3. letnik (PM)
ATTENDEE:4. letnik (PM)
CATEGORIES:Entry,Standard
COLOR:darkgreen
DESCRIPTION:Predmet: Naravoslovna obzorja (PM-3\, PM-4)\, Predavanja (P)\,
  [(do 9. 4.)]\nLetniki: 3. letnik (PM)\, 4. letnik (PM)\nIzvajalci: Gorazd
  Planinšič\nProstor: S206
LOCATION:S206
ORGANIZER:Gorazd Planinšič
RELATED-TO:fmf-AFLABS-URNIK:srecanje:5769
X-WR-TIMEZONE:Europe/Ljubljana
END:VEVENT
BEGIN:VEVENT
SUMMARY:Poučevanje matematike in fizike v angleškem jeziku (PEF-1\, PEF-
 2\, PM-4\, PM-5)\, Predavanja (P)
DTSTART;TZID=Europe/Ljubljana:20210519T170000
DTEND;TZID=Europe/Ljubljana:20210519T190000
DTSTAMP:20260423T223343Z
UID:fmf-AFLABS-URNIK:premaknjeno-srecanje:83804
ATTENDEE:1. letnik (Pedagoška fizika, 2. stopnja)
ATTENDEE:2. letnik (Pedagoška fizika, 2. stopnja)
ATTENDEE:4. letnik (PM)
ATTENDEE:5. letnik (PM)
CATEGORIES:Entry,Standard
COLOR:darkgreen
DESCRIPTION:Predmet: Poučevanje matematike in fizike v angleškem jeziku 
 (PEF-1\, PEF-2\, PM-4\, PM-5)\, Predavanja (P)\nLetniki: 1. letnik (Pedago
 ška fizika\, 2. stopnja)\, 2. letnik (Pedagoška fizika\, 2. stopnja)\, 4
 . letnik (PM)\, 5. letnik (PM)\nIzvajalci: Eugenia Etkina\, Gorazd Planin
 šič\, Alexander Keith Simpson\nProstor: 3.06
LOCATION:3.06
ORGANIZER:Eugenia Etkina, Gorazd Planinšič, Alexander Keith Simpson
RELATED-TO:fmf-AFLABS-URNIK:srecanje:5992
X-WR-TIMEZONE:Europe/Ljubljana
END:VEVENT
BEGIN:VEVENT
SUMMARY:Poučevanje matematike in fizike v angleškem jeziku (PEF-1\, PEF-
 2\, PM-4\, PM-5)\, Predavanja (P)
DTSTART;TZID=Europe/Ljubljana:20210526T170000
DTEND;TZID=Europe/Ljubljana:20210526T190000
DTSTAMP:20260423T223343Z
UID:fmf-AFLABS-URNIK:premaknjeno-srecanje:83805
ATTENDEE:1. letnik (Pedagoška fizika, 2. stopnja)
ATTENDEE:2. letnik (Pedagoška fizika, 2. stopnja)
ATTENDEE:4. letnik (PM)
ATTENDEE:5. letnik (PM)
CATEGORIES:Entry,Standard
COLOR:darkgreen
DESCRIPTION:Predmet: Poučevanje matematike in fizike v angleškem jeziku 
 (PEF-1\, PEF-2\, PM-4\, PM-5)\, Predavanja (P)\nLetniki: 1. letnik (Pedago
 ška fizika\, 2. stopnja)\, 2. letnik (Pedagoška fizika\, 2. stopnja)\, 4
 . letnik (PM)\, 5. letnik (PM)\nIzvajalci: Eugenia Etkina\, Gorazd Planin
 šič\, Alexander Keith Simpson\nProstor: 3.06
LOCATION:3.06
ORGANIZER:Eugenia Etkina, Gorazd Planinšič, Alexander Keith Simpson
RELATED-TO:fmf-AFLABS-URNIK:srecanje:5992
X-WR-TIMEZONE:Europe/Ljubljana
END:VEVENT
BEGIN:VEVENT
SUMMARY:Naravoslovna obzorja (PM-3\, PM-4)\, Predavanja (P)\, [(od 9. 4. d
 alje)]
DTSTART;TZID=Europe/Ljubljana:20210520T150000
DTEND;TZID=Europe/Ljubljana:20210520T180000
DTSTAMP:20260423T223343Z
UID:fmf-AFLABS-URNIK:premaknjeno-srecanje:75937
ATTENDEE:3. letnik (PM)
ATTENDEE:4. letnik (PM)
CATEGORIES:Entry,Standard
COLOR:darkgreen
DESCRIPTION:Predmet: Naravoslovna obzorja (PM-3\, PM-4)\, Predavanja (P)\,
  [(od 9. 4. dalje)]\nLetniki: 3. letnik (PM)\, 4. letnik (PM)\nIzvajalci: 
 Gorazd Planinšič\nProstor: S206
LOCATION:S206
ORGANIZER:Gorazd Planinšič
RELATED-TO:fmf-AFLABS-URNIK:srecanje:5993
X-WR-TIMEZONE:Europe/Ljubljana
END:VEVENT
BEGIN:VEVENT
SUMMARY:Naravoslovna obzorja (PM-3\, PM-4)\, Predavanja (P)\, [(od 9. 4. d
 alje)]
DTSTART;TZID=Europe/Ljubljana:20210527T150000
DTEND;TZID=Europe/Ljubljana:20210527T180000
DTSTAMP:20260423T223343Z
UID:fmf-AFLABS-URNIK:premaknjeno-srecanje:75938
ATTENDEE:3. letnik (PM)
ATTENDEE:4. letnik (PM)
CATEGORIES:Entry,Standard
COLOR:darkgreen
DESCRIPTION:Predmet: Naravoslovna obzorja (PM-3\, PM-4)\, Predavanja (P)\,
  [(od 9. 4. dalje)]\nLetniki: 3. letnik (PM)\, 4. letnik (PM)\nIzvajalci: 
 Gorazd Planinšič\nProstor: S206
LOCATION:S206
ORGANIZER:Gorazd Planinšič
RELATED-TO:fmf-AFLABS-URNIK:srecanje:5993
X-WR-TIMEZONE:Europe/Ljubljana
END:VEVENT
BEGIN:VEVENT
SUMMARY:Projektno delo v znanosti (PEF-1\, PEF-2)\, Seminar (S)
DTSTART;TZID=Europe/Ljubljana:20210520T090000
DTEND;TZID=Europe/Ljubljana:20210520T100000
DTSTAMP:20260423T223343Z
UID:fmf-AFLABS-URNIK:premaknjeno-srecanje:88051
ATTENDEE:1. letnik (Pedagoška fizika, 2. stopnja)
ATTENDEE:2. letnik (Pedagoška fizika, 2. stopnja)
CATEGORIES:Entry,Standard
COLOR:darkgreen
DESCRIPTION:Predmet: Projektno delo v znanosti (PEF-1\, PEF-2)\, Seminar (
 S)\nLetniki: 1. letnik (Pedagoška fizika\, 2. stopnja)\, 2. letnik (Pedag
 oška fizika\, 2. stopnja)\nIzvajalci: Gorazd Planinšič\nProstor: S206
LOCATION:S206
ORGANIZER:Gorazd Planinšič
RELATED-TO:fmf-AFLABS-URNIK:srecanje:6016
X-WR-TIMEZONE:Europe/Ljubljana
END:VEVENT
BEGIN:VEVENT
SUMMARY:Projektno delo v znanosti (PEF-1\, PEF-2)\, Seminar (S)
DTSTART;TZID=Europe/Ljubljana:20210527T090000
DTEND;TZID=Europe/Ljubljana:20210527T100000
DTSTAMP:20260423T223343Z
UID:fmf-AFLABS-URNIK:premaknjeno-srecanje:88052
ATTENDEE:1. letnik (Pedagoška fizika, 2. stopnja)
ATTENDEE:2. letnik (Pedagoška fizika, 2. stopnja)
CATEGORIES:Entry,Standard
COLOR:darkgreen
DESCRIPTION:Predmet: Projektno delo v znanosti (PEF-1\, PEF-2)\, Seminar (
 S)\nLetniki: 1. letnik (Pedagoška fizika\, 2. stopnja)\, 2. letnik (Pedag
 oška fizika\, 2. stopnja)\nIzvajalci: Gorazd Planinšič\nProstor: S206
LOCATION:S206
ORGANIZER:Gorazd Planinšič
RELATED-TO:fmf-AFLABS-URNIK:srecanje:6016
X-WR-TIMEZONE:Europe/Ljubljana
END:VEVENT
BEGIN:VEVENT
SUMMARY:Naravoslovna obzorja (PM-3\, PM-4)\, Predavanja (P)\, [(do 9. 4.)]
DTSTART;TZID=Europe/Ljubljana:20210521T080000
DTEND;TZID=Europe/Ljubljana:20210521T100000
DTSTAMP:20260423T223343Z
UID:fmf-AFLABS-URNIK:premaknjeno-srecanje:75922
ATTENDEE:3. letnik (PM)
ATTENDEE:4. letnik (PM)
CATEGORIES:Entry,Standard
COLOR:darkgreen
DESCRIPTION:Predmet: Naravoslovna obzorja (PM-3\, PM-4)\, Predavanja (P)\,
  [(do 9. 4.)]\nLetniki: 3. letnik (PM)\, 4. letnik (PM)\nIzvajalci: Gorazd
  Planinšič\nProstor: S206
LOCATION:S206
ORGANIZER:Gorazd Planinšič
RELATED-TO:fmf-AFLABS-URNIK:srecanje:6070
X-WR-TIMEZONE:Europe/Ljubljana
END:VEVENT
BEGIN:VEVENT
SUMMARY:Naravoslovna obzorja (PM-3\, PM-4)\, Predavanja (P)\, [(do 9. 4.)]
DTSTART;TZID=Europe/Ljubljana:20210528T080000
DTEND;TZID=Europe/Ljubljana:20210528T100000
DTSTAMP:20260423T223343Z
UID:fmf-AFLABS-URNIK:premaknjeno-srecanje:75923
ATTENDEE:3. letnik (PM)
ATTENDEE:4. letnik (PM)
CATEGORIES:Entry,Standard
COLOR:darkgreen
DESCRIPTION:Predmet: Naravoslovna obzorja (PM-3\, PM-4)\, Predavanja (P)\,
  [(do 9. 4.)]\nLetniki: 3. letnik (PM)\, 4. letnik (PM)\nIzvajalci: Gorazd
  Planinšič\nProstor: S206
LOCATION:S206
ORGANIZER:Gorazd Planinšič
RELATED-TO:fmf-AFLABS-URNIK:srecanje:6070
X-WR-TIMEZONE:Europe/Ljubljana
END:VEVENT
END:VCALENDAR
