BEGIN:VCALENDAR
VERSION:2.0
PRODID:-//AFLabs urnik izvoz - fmf//aflabs.si//SI
DTSTAMP:20260422T231133Z
NAME:UL FMF urnik
REFRESH-INTERVAL:PT1H
SOURCE:https://urnik.fmf.uni-lj.si/teacher/449?day=2021-09-27&export=1
URL:https://urnik.fmf.uni-lj.si/teacher/449?day=2021-09-27&export=1
X-PUBLISHED-TTL:PT1H
X-WR-CALNAME:UL FMF urnik
X-WR-TIMEZONE:Europe/Ljubljana
BEGIN:VTIMEZONE
TZID:Europe/Ljubljana
BEGIN:DAYLIGHT
DTSTART:20260329T020000
RDATE:20260329T020000
RDATE:20270328T020000
TZNAME:CEST
TZOFFSETFROM:+0100
TZOFFSETTO:+0200
END:DAYLIGHT
BEGIN:STANDARD
DTSTART:20261025T030000
RDATE:20261025T030000
RDATE:20271031T030000
TZNAME:CET
TZOFFSETFROM:+0200
TZOFFSETTO:+0100
END:STANDARD
END:VTIMEZONE
BEGIN:VEVENT
SUMMARY:Praksa pouka 2 (PEF-1\, PEF-2)\, Predavanja (P)
DTSTART;TZID=Europe/Ljubljana:20211001T080000
DTEND;TZID=Europe/Ljubljana:20211001T100000
DTSTAMP:20260422T231133Z
UID:fmf-AFLABS-URNIK:premaknjeno-srecanje:83916
ATTENDEE:1. letnik (Pedagoška fizika, 2. stopnja)
ATTENDEE:2. letnik (Pedagoška fizika, 2. stopnja)
CATEGORIES:Entry,Standard
COLOR:darkgreen
DESCRIPTION:Predmet: Praksa pouka 2 (PEF-1\, PEF-2)\, Predavanja (P)\nLetn
 iki: 1. letnik (Pedagoška fizika\, 2. stopnja)\, 2. letnik (Pedagoška fi
 zika\, 2. stopnja)\nIzvajalci: Gorazd Planinšič\nProstor: None
ORGANIZER:Gorazd Planinšič
RELATED-TO:fmf-AFLABS-URNIK:srecanje:6492
X-WR-TIMEZONE:Europe/Ljubljana
END:VEVENT
BEGIN:VEVENT
SUMMARY:Praksa pouka 2 (PEF-1\, PEF-2)\, Predavanja (P)
DTSTART;TZID=Europe/Ljubljana:20211008T080000
DTEND;TZID=Europe/Ljubljana:20211008T100000
DTSTAMP:20260422T231133Z
UID:fmf-AFLABS-URNIK:premaknjeno-srecanje:83917
ATTENDEE:1. letnik (Pedagoška fizika, 2. stopnja)
ATTENDEE:2. letnik (Pedagoška fizika, 2. stopnja)
CATEGORIES:Entry,Standard
COLOR:darkgreen
DESCRIPTION:Predmet: Praksa pouka 2 (PEF-1\, PEF-2)\, Predavanja (P)\nLetn
 iki: 1. letnik (Pedagoška fizika\, 2. stopnja)\, 2. letnik (Pedagoška fi
 zika\, 2. stopnja)\nIzvajalci: Gorazd Planinšič\nProstor: None
ORGANIZER:Gorazd Planinšič
RELATED-TO:fmf-AFLABS-URNIK:srecanje:6492
X-WR-TIMEZONE:Europe/Ljubljana
END:VEVENT
BEGIN:VEVENT
SUMMARY:Praksa pouka 2 (PEF-1\, PEF-2)\, Predavanja (P)
DTSTART;TZID=Europe/Ljubljana:20211015T080000
DTEND;TZID=Europe/Ljubljana:20211015T100000
DTSTAMP:20260422T231133Z
UID:fmf-AFLABS-URNIK:premaknjeno-srecanje:83918
ATTENDEE:1. letnik (Pedagoška fizika, 2. stopnja)
ATTENDEE:2. letnik (Pedagoška fizika, 2. stopnja)
CATEGORIES:Entry,Standard
COLOR:darkgreen
DESCRIPTION:Predmet: Praksa pouka 2 (PEF-1\, PEF-2)\, Predavanja (P)\nLetn
 iki: 1. letnik (Pedagoška fizika\, 2. stopnja)\, 2. letnik (Pedagoška fi
 zika\, 2. stopnja)\nIzvajalci: Gorazd Planinšič\nProstor: None
ORGANIZER:Gorazd Planinšič
RELATED-TO:fmf-AFLABS-URNIK:srecanje:6492
X-WR-TIMEZONE:Europe/Ljubljana
END:VEVENT
BEGIN:VEVENT
SUMMARY:Praksa pouka 2 (PEF-1\, PEF-2)\, Predavanja (P)
DTSTART;TZID=Europe/Ljubljana:20211022T080000
DTEND;TZID=Europe/Ljubljana:20211022T100000
DTSTAMP:20260422T231133Z
UID:fmf-AFLABS-URNIK:premaknjeno-srecanje:83919
ATTENDEE:1. letnik (Pedagoška fizika, 2. stopnja)
ATTENDEE:2. letnik (Pedagoška fizika, 2. stopnja)
CATEGORIES:Entry,Standard
COLOR:darkgreen
DESCRIPTION:Predmet: Praksa pouka 2 (PEF-1\, PEF-2)\, Predavanja (P)\nLetn
 iki: 1. letnik (Pedagoška fizika\, 2. stopnja)\, 2. letnik (Pedagoška fi
 zika\, 2. stopnja)\nIzvajalci: Gorazd Planinšič\nProstor: None
ORGANIZER:Gorazd Planinšič
RELATED-TO:fmf-AFLABS-URNIK:srecanje:6492
X-WR-TIMEZONE:Europe/Ljubljana
END:VEVENT
BEGIN:VEVENT
SUMMARY:Praksa pouka 2 (PEF-1\, PEF-2)\, Predavanja (P)
DTSTART;TZID=Europe/Ljubljana:20211029T080000
DTEND;TZID=Europe/Ljubljana:20211029T100000
DTSTAMP:20260422T231133Z
UID:fmf-AFLABS-URNIK:premaknjeno-srecanje:83920
ATTENDEE:1. letnik (Pedagoška fizika, 2. stopnja)
ATTENDEE:2. letnik (Pedagoška fizika, 2. stopnja)
CATEGORIES:Entry,Standard
COLOR:darkgreen
DESCRIPTION:Predmet: Praksa pouka 2 (PEF-1\, PEF-2)\, Predavanja (P)\nLetn
 iki: 1. letnik (Pedagoška fizika\, 2. stopnja)\, 2. letnik (Pedagoška fi
 zika\, 2. stopnja)\nIzvajalci: Gorazd Planinšič\nProstor: None
ORGANIZER:Gorazd Planinšič
RELATED-TO:fmf-AFLABS-URNIK:srecanje:6492
X-WR-TIMEZONE:Europe/Ljubljana
END:VEVENT
BEGIN:VEVENT
SUMMARY:Didaktika fizike II (PEF-1\, PEF-2)\, Predavanja (P)
DTSTART;TZID=Europe/Ljubljana:20211006T160000
DTEND;TZID=Europe/Ljubljana:20211006T180000
DTSTAMP:20260422T231133Z
UID:fmf-AFLABS-URNIK:premaknjeno-srecanje:13730
ATTENDEE:1. letnik (Pedagoška fizika, 2. stopnja)
ATTENDEE:2. letnik (Pedagoška fizika, 2. stopnja)
CATEGORIES:Entry,Standard
COLOR:darkgreen
DESCRIPTION:Predmet: Didaktika fizike II (PEF-1\, PEF-2)\, Predavanja (P)\
 nLetniki: 1. letnik (Pedagoška fizika\, 2. stopnja)\, 2. letnik (Pedagoš
 ka fizika\, 2. stopnja)\nIzvajalci: Gorazd Planinšič\nProstor: S206
LOCATION:S206
ORGANIZER:Gorazd Planinšič
RELATED-TO:fmf-AFLABS-URNIK:srecanje:6157
X-WR-TIMEZONE:Europe/Ljubljana
END:VEVENT
BEGIN:VEVENT
SUMMARY:Didaktika fizike II (PEF-1\, PEF-2)\, Predavanja (P)
DTSTART;TZID=Europe/Ljubljana:20211013T160000
DTEND;TZID=Europe/Ljubljana:20211013T180000
DTSTAMP:20260422T231133Z
UID:fmf-AFLABS-URNIK:premaknjeno-srecanje:13731
ATTENDEE:1. letnik (Pedagoška fizika, 2. stopnja)
ATTENDEE:2. letnik (Pedagoška fizika, 2. stopnja)
CATEGORIES:Entry,Standard
COLOR:darkgreen
DESCRIPTION:Predmet: Didaktika fizike II (PEF-1\, PEF-2)\, Predavanja (P)\
 nLetniki: 1. letnik (Pedagoška fizika\, 2. stopnja)\, 2. letnik (Pedagoš
 ka fizika\, 2. stopnja)\nIzvajalci: Gorazd Planinšič\nProstor: S206
LOCATION:S206
ORGANIZER:Gorazd Planinšič
RELATED-TO:fmf-AFLABS-URNIK:srecanje:6157
X-WR-TIMEZONE:Europe/Ljubljana
END:VEVENT
BEGIN:VEVENT
SUMMARY:Didaktika fizike II (PEF-1\, PEF-2)\, Predavanja (P)
DTSTART;TZID=Europe/Ljubljana:20211020T160000
DTEND;TZID=Europe/Ljubljana:20211020T180000
DTSTAMP:20260422T231133Z
UID:fmf-AFLABS-URNIK:premaknjeno-srecanje:13732
ATTENDEE:1. letnik (Pedagoška fizika, 2. stopnja)
ATTENDEE:2. letnik (Pedagoška fizika, 2. stopnja)
CATEGORIES:Entry,Standard
COLOR:darkgreen
DESCRIPTION:Predmet: Didaktika fizike II (PEF-1\, PEF-2)\, Predavanja (P)\
 nLetniki: 1. letnik (Pedagoška fizika\, 2. stopnja)\, 2. letnik (Pedagoš
 ka fizika\, 2. stopnja)\nIzvajalci: Gorazd Planinšič\nProstor: S206
LOCATION:S206
ORGANIZER:Gorazd Planinšič
RELATED-TO:fmf-AFLABS-URNIK:srecanje:6157
X-WR-TIMEZONE:Europe/Ljubljana
END:VEVENT
BEGIN:VEVENT
SUMMARY:Didaktika fizike II (PEF-1\, PEF-2)\, Predavanja (P)
DTSTART;TZID=Europe/Ljubljana:20211027T160000
DTEND;TZID=Europe/Ljubljana:20211027T180000
DTSTAMP:20260422T231133Z
UID:fmf-AFLABS-URNIK:premaknjeno-srecanje:13733
ATTENDEE:1. letnik (Pedagoška fizika, 2. stopnja)
ATTENDEE:2. letnik (Pedagoška fizika, 2. stopnja)
CATEGORIES:Entry,Standard
COLOR:darkgreen
DESCRIPTION:Predmet: Didaktika fizike II (PEF-1\, PEF-2)\, Predavanja (P)\
 nLetniki: 1. letnik (Pedagoška fizika\, 2. stopnja)\, 2. letnik (Pedagoš
 ka fizika\, 2. stopnja)\nIzvajalci: Gorazd Planinšič\nProstor: S206
LOCATION:S206
ORGANIZER:Gorazd Planinšič
RELATED-TO:fmf-AFLABS-URNIK:srecanje:6157
X-WR-TIMEZONE:Europe/Ljubljana
END:VEVENT
BEGIN:VEVENT
SUMMARY:Didaktika fizike II (PEF-1\, PEF-2)\, Seminar (S)
DTSTART;TZID=Europe/Ljubljana:20211006T180000
DTEND;TZID=Europe/Ljubljana:20211006T190000
DTSTAMP:20260422T231133Z
UID:fmf-AFLABS-URNIK:premaknjeno-srecanje:13793
ATTENDEE:1. letnik (Pedagoška fizika, 2. stopnja)
ATTENDEE:2. letnik (Pedagoška fizika, 2. stopnja)
CATEGORIES:Entry,Standard
COLOR:darkgreen
DESCRIPTION:Predmet: Didaktika fizike II (PEF-1\, PEF-2)\, Seminar (S)\nLe
 tniki: 1. letnik (Pedagoška fizika\, 2. stopnja)\, 2. letnik (Pedagoška 
 fizika\, 2. stopnja)\nIzvajalci: Gorazd Planinšič\nProstor: S206
LOCATION:S206
ORGANIZER:Gorazd Planinšič
RELATED-TO:fmf-AFLABS-URNIK:srecanje:6158
X-WR-TIMEZONE:Europe/Ljubljana
END:VEVENT
BEGIN:VEVENT
SUMMARY:Didaktika fizike II (PEF-1\, PEF-2)\, Seminar (S)
DTSTART;TZID=Europe/Ljubljana:20211013T180000
DTEND;TZID=Europe/Ljubljana:20211013T190000
DTSTAMP:20260422T231133Z
UID:fmf-AFLABS-URNIK:premaknjeno-srecanje:13794
ATTENDEE:1. letnik (Pedagoška fizika, 2. stopnja)
ATTENDEE:2. letnik (Pedagoška fizika, 2. stopnja)
CATEGORIES:Entry,Standard
COLOR:darkgreen
DESCRIPTION:Predmet: Didaktika fizike II (PEF-1\, PEF-2)\, Seminar (S)\nLe
 tniki: 1. letnik (Pedagoška fizika\, 2. stopnja)\, 2. letnik (Pedagoška 
 fizika\, 2. stopnja)\nIzvajalci: Gorazd Planinšič\nProstor: S206
LOCATION:S206
ORGANIZER:Gorazd Planinšič
RELATED-TO:fmf-AFLABS-URNIK:srecanje:6158
X-WR-TIMEZONE:Europe/Ljubljana
END:VEVENT
BEGIN:VEVENT
SUMMARY:Didaktika fizike II (PEF-1\, PEF-2)\, Seminar (S)
DTSTART;TZID=Europe/Ljubljana:20211020T180000
DTEND;TZID=Europe/Ljubljana:20211020T190000
DTSTAMP:20260422T231133Z
UID:fmf-AFLABS-URNIK:premaknjeno-srecanje:13795
ATTENDEE:1. letnik (Pedagoška fizika, 2. stopnja)
ATTENDEE:2. letnik (Pedagoška fizika, 2. stopnja)
CATEGORIES:Entry,Standard
COLOR:darkgreen
DESCRIPTION:Predmet: Didaktika fizike II (PEF-1\, PEF-2)\, Seminar (S)\nLe
 tniki: 1. letnik (Pedagoška fizika\, 2. stopnja)\, 2. letnik (Pedagoška 
 fizika\, 2. stopnja)\nIzvajalci: Gorazd Planinšič\nProstor: S206
LOCATION:S206
ORGANIZER:Gorazd Planinšič
RELATED-TO:fmf-AFLABS-URNIK:srecanje:6158
X-WR-TIMEZONE:Europe/Ljubljana
END:VEVENT
BEGIN:VEVENT
SUMMARY:Didaktika fizike II (PEF-1\, PEF-2)\, Seminar (S)
DTSTART;TZID=Europe/Ljubljana:20211027T180000
DTEND;TZID=Europe/Ljubljana:20211027T190000
DTSTAMP:20260422T231133Z
UID:fmf-AFLABS-URNIK:premaknjeno-srecanje:13796
ATTENDEE:1. letnik (Pedagoška fizika, 2. stopnja)
ATTENDEE:2. letnik (Pedagoška fizika, 2. stopnja)
CATEGORIES:Entry,Standard
COLOR:darkgreen
DESCRIPTION:Predmet: Didaktika fizike II (PEF-1\, PEF-2)\, Seminar (S)\nLe
 tniki: 1. letnik (Pedagoška fizika\, 2. stopnja)\, 2. letnik (Pedagoška 
 fizika\, 2. stopnja)\nIzvajalci: Gorazd Planinšič\nProstor: S206
LOCATION:S206
ORGANIZER:Gorazd Planinšič
RELATED-TO:fmf-AFLABS-URNIK:srecanje:6158
X-WR-TIMEZONE:Europe/Ljubljana
END:VEVENT
END:VCALENDAR
