BEGIN:VCALENDAR
VERSION:2.0
PRODID:-//AFLabs urnik izvoz - fmf//aflabs.si//SI
DTSTAMP:20260421T005559Z
NAME:UL FMF urnik
REFRESH-INTERVAL:PT1H
SOURCE:https://urnik.fmf.uni-lj.si/teacher/449?day=2022-07-04&export=1
URL:https://urnik.fmf.uni-lj.si/teacher/449?day=2022-07-04&export=1
X-PUBLISHED-TTL:PT1H
X-WR-CALNAME:UL FMF urnik
X-WR-TIMEZONE:Europe/Ljubljana
BEGIN:VTIMEZONE
TZID:Europe/Ljubljana
BEGIN:DAYLIGHT
DTSTART:20260329T020000
RDATE:20260329T020000
RDATE:20270328T020000
TZNAME:CEST
TZOFFSETFROM:+0100
TZOFFSETTO:+0200
END:DAYLIGHT
BEGIN:STANDARD
DTSTART:20261025T030000
RDATE:20261025T030000
RDATE:20271031T030000
TZNAME:CET
TZOFFSETFROM:+0200
TZOFFSETTO:+0100
END:STANDARD
END:VTIMEZONE
BEGIN:VEVENT
SUMMARY:Praksa pouka 1 (PEF-1\, PEF-2)\, Predavanja (P)
DTSTART;TZID=Europe/Ljubljana:20220531T130000
DTEND;TZID=Europe/Ljubljana:20220531T150000
DTSTAMP:20260421T005559Z
UID:fmf-AFLABS-URNIK:premaknjeno-srecanje:83884
ATTENDEE:1. letnik (Pedagoška fizika, 2. stopnja)
ATTENDEE:2. letnik (Pedagoška fizika, 2. stopnja)
CATEGORIES:Entry,Standard
COLOR:darkgreen
DESCRIPTION:Predmet: Praksa pouka 1 (PEF-1\, PEF-2)\, Predavanja (P)\nLetn
 iki: 1. letnik (Pedagoška fizika\, 2. stopnja)\, 2. letnik (Pedagoška fi
 zika\, 2. stopnja)\nIzvajalci: Gorazd Planinšič\nProstor: S206
LOCATION:S206
ORGANIZER:Gorazd Planinšič
RELATED-TO:fmf-AFLABS-URNIK:srecanje:7408
X-WR-TIMEZONE:Europe/Ljubljana
END:VEVENT
BEGIN:VEVENT
SUMMARY:Projektno delo v znanosti (PEF-1\, PEF-2)\, Seminar (S)
DTSTART;TZID=Europe/Ljubljana:20220531T150000
DTEND;TZID=Europe/Ljubljana:20220531T160000
DTSTAMP:20260421T005559Z
UID:fmf-AFLABS-URNIK:premaknjeno-srecanje:88005
ATTENDEE:1. letnik (Pedagoška fizika, 2. stopnja)
ATTENDEE:2. letnik (Pedagoška fizika, 2. stopnja)
CATEGORIES:Entry,Standard
COLOR:darkgreen
DESCRIPTION:Predmet: Projektno delo v znanosti (PEF-1\, PEF-2)\, Seminar (
 S)\nLetniki: 1. letnik (Pedagoška fizika\, 2. stopnja)\, 2. letnik (Pedag
 oška fizika\, 2. stopnja)\nIzvajalci: Gorazd Planinšič\nProstor: S206
LOCATION:S206
ORGANIZER:Gorazd Planinšič
RELATED-TO:fmf-AFLABS-URNIK:srecanje:7214
X-WR-TIMEZONE:Europe/Ljubljana
END:VEVENT
END:VCALENDAR
