BEGIN:VCALENDAR
VERSION:2.0
PRODID:-//AFLabs urnik izvoz - fmf//aflabs.si//SI
DTSTAMP:20260423T083221Z
NAME:UL FMF urnik
REFRESH-INTERVAL:PT1H
SOURCE:https://urnik.fmf.uni-lj.si/teacher/44?day=2020-06-29&export=1
URL:https://urnik.fmf.uni-lj.si/teacher/44?day=2020-06-29&export=1
X-PUBLISHED-TTL:PT1H
X-WR-CALNAME:UL FMF urnik
X-WR-TIMEZONE:Europe/Ljubljana
BEGIN:VTIMEZONE
TZID:Europe/Ljubljana
BEGIN:DAYLIGHT
DTSTART:20260329T020000
RDATE:20260329T020000
RDATE:20270328T020000
TZNAME:CEST
TZOFFSETFROM:+0100
TZOFFSETTO:+0200
END:DAYLIGHT
BEGIN:STANDARD
DTSTART:20261025T030000
RDATE:20261025T030000
RDATE:20271031T030000
TZNAME:CET
TZOFFSETFROM:+0200
TZOFFSETTO:+0100
END:STANDARD
END:VTIMEZONE
BEGIN:VEVENT
SUMMARY:Izbrana poglavja iz računalniške matematike (MAT-D)\, Predavanja
  (P)
DTSTART;TZID=Europe/Ljubljana:20200528T130000
DTEND;TZID=Europe/Ljubljana:20200528T160000
DTSTAMP:20260423T083221Z
UID:fmf-AFLABS-URNIK:premaknjeno-srecanje:44110
ATTENDEE:doktorski študij (M)
CATEGORIES:Entry,Standard
COLOR:darkgreen
DESCRIPTION:Predmet: Izbrana poglavja iz računalniške matematike (MAT-D)
 \, Predavanja (P)\nLetniki: doktorski študij (M)\nIzvajalci: Sergio Cabel
 lo\nProstor: 3.07
LOCATION:3.07
ORGANIZER:Sergio Cabello
RELATED-TO:fmf-AFLABS-URNIK:srecanje:4560
X-WR-TIMEZONE:Europe/Ljubljana
END:VEVENT
BEGIN:VEVENT
SUMMARY:Podatkovne strukture in algoritmi 1 (FM-3\, MAT-3)\, Predavanja (P
 )
DTSTART;TZID=Europe/Ljubljana:20200528T080000
DTEND;TZID=Europe/Ljubljana:20200528T100000
DTSTAMP:20260423T083221Z
UID:fmf-AFLABS-URNIK:premaknjeno-srecanje:83038
ATTENDEE:3. letnik (FM)
ATTENDEE:3. letnik (M)
CATEGORIES:Entry,Standard
COLOR:darkgreen
DESCRIPTION:Predmet: Podatkovne strukture in algoritmi 1 (FM-3\, MAT-3)\, 
 Predavanja (P)\nLetniki: 3. letnik (FM)\, 3. letnik (M)\nIzvajalci: Sergio
  Cabello\nProstor: P.02
LOCATION:P.02
ORGANIZER:Sergio Cabello
RELATED-TO:fmf-AFLABS-URNIK:srecanje:4502
X-WR-TIMEZONE:Europe/Ljubljana
END:VEVENT
BEGIN:VEVENT
SUMMARY:Izbrana poglavja iz topologije (MAT-D)\, Predavanja (P)
DTSTART;TZID=Europe/Ljubljana:20200529T080000
DTEND;TZID=Europe/Ljubljana:20200529T100000
DTSTAMP:20260423T083221Z
UID:fmf-AFLABS-URNIK:premaknjeno-srecanje:44715
ATTENDEE:doktorski študij (M)
CATEGORIES:Entry,Standard
COLOR:darkgreen
DESCRIPTION:Predmet: Izbrana poglavja iz topologije (MAT-D)\, Predavanja (
 P)\nLetniki: doktorski študij (M)\nIzvajalci: Sergio Cabello\, Petar Pave
 šić\, Žiga Virk\nProstor: 2.04
LOCATION:2.04
ORGANIZER:Sergio Cabello, Petar Pavešić, Žiga Virk
RELATED-TO:fmf-AFLABS-URNIK:srecanje:4559
X-WR-TIMEZONE:Europe/Ljubljana
END:VEVENT
BEGIN:VEVENT
SUMMARY:Rezervacija
DTSTART;TZID=Europe/Ljubljana:20200604T090000
DTEND;TZID=Europe/Ljubljana:20200604T110000
DTSTAMP:20260423T083221Z
UID:fmf-AFLABS-URNIK:rezervacija:5404
CATEGORIES:Reservation
COLOR:royalblue
DESCRIPTION:Predmeti: \nLetniki: \nIzvajalci: Sergio Cabello\, Jure Slak\n
 Prostori: 3.04\, 3.05
LOCATION:3.04\, 3.05
ORGANIZER:Sergio Cabello, Jure Slak
X-WR-TIMEZONE:Europe/Ljubljana
END:VEVENT
BEGIN:VEVENT
SUMMARY:Rezervacija
DTSTART;TZID=Europe/Ljubljana:20200626T100000
DTEND;TZID=Europe/Ljubljana:20200626T120000
DTSTAMP:20260423T083221Z
UID:fmf-AFLABS-URNIK:rezervacija:5670
CATEGORIES:Reservation
COLOR:royalblue
DESCRIPTION:Predmeti: \nLetniki: \nIzvajalci: Sergio Cabello\, Jure Slak\n
 Prostori: 2.04
LOCATION:2.04
ORGANIZER:Sergio Cabello, Jure Slak
X-WR-TIMEZONE:Europe/Ljubljana
END:VEVENT
BEGIN:VEVENT
SUMMARY:Rezervacija
DTSTART;TZID=Europe/Ljubljana:20200701T140000
DTEND;TZID=Europe/Ljubljana:20200701T190000
DTSTAMP:20260423T083221Z
UID:fmf-AFLABS-URNIK:rezervacija:5742
CATEGORIES:Reservation
COLOR:royalblue
DESCRIPTION:Predmeti: \nLetniki: \nIzvajalci: Sergio Cabello\nProstori: VF
 P
LOCATION:VFP
ORGANIZER:Sergio Cabello
X-WR-TIMEZONE:Europe/Ljubljana
END:VEVENT
END:VCALENDAR
