BEGIN:VCALENDAR
VERSION:2.0
PRODID:-//AFLabs urnik izvoz - fmf//aflabs.si//SI
DTSTAMP:20260419T185654Z
NAME:UL FMF urnik
REFRESH-INTERVAL:PT1H
SOURCE:https://urnik.fmf.uni-lj.si/teacher/453?day=2020-04-06&export=1
URL:https://urnik.fmf.uni-lj.si/teacher/453?day=2020-04-06&export=1
X-PUBLISHED-TTL:PT1H
X-WR-CALNAME:UL FMF urnik
X-WR-TIMEZONE:Europe/Ljubljana
BEGIN:VTIMEZONE
TZID:Europe/Ljubljana
BEGIN:DAYLIGHT
DTSTART:20260329T020000
RDATE:20260329T020000
RDATE:20270328T020000
TZNAME:CEST
TZOFFSETFROM:+0100
TZOFFSETTO:+0200
END:DAYLIGHT
BEGIN:STANDARD
DTSTART:20261025T030000
RDATE:20261025T030000
RDATE:20271031T030000
TZNAME:CET
TZOFFSETFROM:+0200
TZOFFSETTO:+0100
END:STANDARD
END:VTIMEZONE
BEGIN:VEVENT
SUMMARY:Pedagogika z andragogiko (PEF-1\, PEF-2\, PM-3\, PM-4)\, Predavanj
 a (P)
DTSTART;TZID=Europe/Ljubljana:20200220T080000
DTEND;TZID=Europe/Ljubljana:20200220T100000
DTSTAMP:20260419T185654Z
UID:fmf-AFLABS-URNIK:premaknjeno-srecanje:82397
ATTENDEE:1. letnik (Pedagoška fizika, 2. stopnja)
ATTENDEE:2. letnik (Pedagoška fizika, 2. stopnja)
ATTENDEE:3. letnik (PM)
ATTENDEE:4. letnik (PM)
CATEGORIES:Entry,Standard
COLOR:darkgreen
DESCRIPTION:Predmet: Pedagogika z andragogiko (PEF-1\, PEF-2\, PM-3\, PM-4
 )\, Predavanja (P)\nLetniki: 1. letnik (Pedagoška fizika\, 2. stopnja)\, 
 2. letnik (Pedagoška fizika\, 2. stopnja)\, 3. letnik (PM)\, 4. letnik (P
 M)\nIzvajalci:  Govekar-Okoliš\nProstor: 2.04
LOCATION:2.04
ORGANIZER: Govekar-Okoliš
RELATED-TO:fmf-AFLABS-URNIK:srecanje:4358
X-WR-TIMEZONE:Europe/Ljubljana
END:VEVENT
BEGIN:VEVENT
SUMMARY:Pedagogika z andragogiko (PEF-1\, PEF-2\, PM-3\, PM-4)\, Predavanj
 a (P)
DTSTART;TZID=Europe/Ljubljana:20200227T080000
DTEND;TZID=Europe/Ljubljana:20200227T100000
DTSTAMP:20260419T185654Z
UID:fmf-AFLABS-URNIK:premaknjeno-srecanje:82398
ATTENDEE:1. letnik (Pedagoška fizika, 2. stopnja)
ATTENDEE:2. letnik (Pedagoška fizika, 2. stopnja)
ATTENDEE:3. letnik (PM)
ATTENDEE:4. letnik (PM)
CATEGORIES:Entry,Standard
COLOR:darkgreen
DESCRIPTION:Predmet: Pedagogika z andragogiko (PEF-1\, PEF-2\, PM-3\, PM-4
 )\, Predavanja (P)\nLetniki: 1. letnik (Pedagoška fizika\, 2. stopnja)\, 
 2. letnik (Pedagoška fizika\, 2. stopnja)\, 3. letnik (PM)\, 4. letnik (P
 M)\nIzvajalci:  Govekar-Okoliš\nProstor: 2.04
LOCATION:2.04
ORGANIZER: Govekar-Okoliš
RELATED-TO:fmf-AFLABS-URNIK:srecanje:4358
X-WR-TIMEZONE:Europe/Ljubljana
END:VEVENT
BEGIN:VEVENT
SUMMARY:Pedagogika z andragogiko (PEF-1\, PEF-2\, PM-3\, PM-4)\, Predavanj
 a (P)
DTSTART;TZID=Europe/Ljubljana:20200305T080000
DTEND;TZID=Europe/Ljubljana:20200305T100000
DTSTAMP:20260419T185654Z
UID:fmf-AFLABS-URNIK:premaknjeno-srecanje:82399
ATTENDEE:1. letnik (Pedagoška fizika, 2. stopnja)
ATTENDEE:2. letnik (Pedagoška fizika, 2. stopnja)
ATTENDEE:3. letnik (PM)
ATTENDEE:4. letnik (PM)
CATEGORIES:Entry,Standard
COLOR:darkgreen
DESCRIPTION:Predmet: Pedagogika z andragogiko (PEF-1\, PEF-2\, PM-3\, PM-4
 )\, Predavanja (P)\nLetniki: 1. letnik (Pedagoška fizika\, 2. stopnja)\, 
 2. letnik (Pedagoška fizika\, 2. stopnja)\, 3. letnik (PM)\, 4. letnik (P
 M)\nIzvajalci:  Govekar-Okoliš\nProstor: 2.04
LOCATION:2.04
ORGANIZER: Govekar-Okoliš
RELATED-TO:fmf-AFLABS-URNIK:srecanje:4358
X-WR-TIMEZONE:Europe/Ljubljana
END:VEVENT
BEGIN:VEVENT
SUMMARY:Pedagogika z andragogiko (PEF-1\, PEF-2\, PM-3\, PM-4)\, Predavanj
 a (P)
DTSTART;TZID=Europe/Ljubljana:20200312T080000
DTEND;TZID=Europe/Ljubljana:20200312T100000
DTSTAMP:20260419T185654Z
UID:fmf-AFLABS-URNIK:premaknjeno-srecanje:82400
ATTENDEE:1. letnik (Pedagoška fizika, 2. stopnja)
ATTENDEE:2. letnik (Pedagoška fizika, 2. stopnja)
ATTENDEE:3. letnik (PM)
ATTENDEE:4. letnik (PM)
CATEGORIES:Entry,Standard
COLOR:darkgreen
DESCRIPTION:Predmet: Pedagogika z andragogiko (PEF-1\, PEF-2\, PM-3\, PM-4
 )\, Predavanja (P)\nLetniki: 1. letnik (Pedagoška fizika\, 2. stopnja)\, 
 2. letnik (Pedagoška fizika\, 2. stopnja)\, 3. letnik (PM)\, 4. letnik (P
 M)\nIzvajalci:  Govekar-Okoliš\nProstor: 2.04
LOCATION:2.04
ORGANIZER: Govekar-Okoliš
RELATED-TO:fmf-AFLABS-URNIK:srecanje:4358
X-WR-TIMEZONE:Europe/Ljubljana
END:VEVENT
BEGIN:VEVENT
SUMMARY:Pedagogika z andragogiko (PEF-1\, PEF-2\, PM-3\, PM-4)\, Predavanj
 a (P)
DTSTART;TZID=Europe/Ljubljana:20200319T080000
DTEND;TZID=Europe/Ljubljana:20200319T100000
DTSTAMP:20260419T185654Z
UID:fmf-AFLABS-URNIK:premaknjeno-srecanje:82401
ATTENDEE:1. letnik (Pedagoška fizika, 2. stopnja)
ATTENDEE:2. letnik (Pedagoška fizika, 2. stopnja)
ATTENDEE:3. letnik (PM)
ATTENDEE:4. letnik (PM)
CATEGORIES:Entry,Standard
COLOR:darkgreen
DESCRIPTION:Predmet: Pedagogika z andragogiko (PEF-1\, PEF-2\, PM-3\, PM-4
 )\, Predavanja (P)\nLetniki: 1. letnik (Pedagoška fizika\, 2. stopnja)\, 
 2. letnik (Pedagoška fizika\, 2. stopnja)\, 3. letnik (PM)\, 4. letnik (P
 M)\nIzvajalci:  Govekar-Okoliš\nProstor: 2.04
LOCATION:2.04
ORGANIZER: Govekar-Okoliš
RELATED-TO:fmf-AFLABS-URNIK:srecanje:4358
X-WR-TIMEZONE:Europe/Ljubljana
END:VEVENT
BEGIN:VEVENT
SUMMARY:Pedagogika z andragogiko (PEF-1\, PEF-2\, PM-3\, PM-4)\, Predavanj
 a (P)
DTSTART;TZID=Europe/Ljubljana:20200326T080000
DTEND;TZID=Europe/Ljubljana:20200326T100000
DTSTAMP:20260419T185654Z
UID:fmf-AFLABS-URNIK:premaknjeno-srecanje:82402
ATTENDEE:1. letnik (Pedagoška fizika, 2. stopnja)
ATTENDEE:2. letnik (Pedagoška fizika, 2. stopnja)
ATTENDEE:3. letnik (PM)
ATTENDEE:4. letnik (PM)
CATEGORIES:Entry,Standard
COLOR:darkgreen
DESCRIPTION:Predmet: Pedagogika z andragogiko (PEF-1\, PEF-2\, PM-3\, PM-4
 )\, Predavanja (P)\nLetniki: 1. letnik (Pedagoška fizika\, 2. stopnja)\, 
 2. letnik (Pedagoška fizika\, 2. stopnja)\, 3. letnik (PM)\, 4. letnik (P
 M)\nIzvajalci:  Govekar-Okoliš\nProstor: 2.04
LOCATION:2.04
ORGANIZER: Govekar-Okoliš
RELATED-TO:fmf-AFLABS-URNIK:srecanje:4358
X-WR-TIMEZONE:Europe/Ljubljana
END:VEVENT
BEGIN:VEVENT
SUMMARY:Pedagogika z andragogiko (PEF-1\, PEF-2\, PM-3\, PM-4)\, Predavanj
 a (P)
DTSTART;TZID=Europe/Ljubljana:20200402T080000
DTEND;TZID=Europe/Ljubljana:20200402T100000
DTSTAMP:20260419T185654Z
UID:fmf-AFLABS-URNIK:premaknjeno-srecanje:82403
ATTENDEE:1. letnik (Pedagoška fizika, 2. stopnja)
ATTENDEE:2. letnik (Pedagoška fizika, 2. stopnja)
ATTENDEE:3. letnik (PM)
ATTENDEE:4. letnik (PM)
CATEGORIES:Entry,Standard
COLOR:darkgreen
DESCRIPTION:Predmet: Pedagogika z andragogiko (PEF-1\, PEF-2\, PM-3\, PM-4
 )\, Predavanja (P)\nLetniki: 1. letnik (Pedagoška fizika\, 2. stopnja)\, 
 2. letnik (Pedagoška fizika\, 2. stopnja)\, 3. letnik (PM)\, 4. letnik (P
 M)\nIzvajalci:  Govekar-Okoliš\nProstor: 2.04
LOCATION:2.04
ORGANIZER: Govekar-Okoliš
RELATED-TO:fmf-AFLABS-URNIK:srecanje:4358
X-WR-TIMEZONE:Europe/Ljubljana
END:VEVENT
BEGIN:VEVENT
SUMMARY:Pedagogika z andragogiko (PEF-1\, PEF-2\, PM-3\, PM-4)\, Predavanj
 a (P)
DTSTART;TZID=Europe/Ljubljana:20200409T080000
DTEND;TZID=Europe/Ljubljana:20200409T100000
DTSTAMP:20260419T185654Z
UID:fmf-AFLABS-URNIK:premaknjeno-srecanje:82404
ATTENDEE:1. letnik (Pedagoška fizika, 2. stopnja)
ATTENDEE:2. letnik (Pedagoška fizika, 2. stopnja)
ATTENDEE:3. letnik (PM)
ATTENDEE:4. letnik (PM)
CATEGORIES:Entry,Standard
COLOR:darkgreen
DESCRIPTION:Predmet: Pedagogika z andragogiko (PEF-1\, PEF-2\, PM-3\, PM-4
 )\, Predavanja (P)\nLetniki: 1. letnik (Pedagoška fizika\, 2. stopnja)\, 
 2. letnik (Pedagoška fizika\, 2. stopnja)\, 3. letnik (PM)\, 4. letnik (P
 M)\nIzvajalci:  Govekar-Okoliš\nProstor: 2.04
LOCATION:2.04
ORGANIZER: Govekar-Okoliš
RELATED-TO:fmf-AFLABS-URNIK:srecanje:4358
X-WR-TIMEZONE:Europe/Ljubljana
END:VEVENT
BEGIN:VEVENT
SUMMARY:Pedagogika z andragogiko (PEF-1\, PEF-2\, PM-3\, PM-4)\, Predavanj
 a (P)
DTSTART;TZID=Europe/Ljubljana:20200416T080000
DTEND;TZID=Europe/Ljubljana:20200416T100000
DTSTAMP:20260419T185654Z
UID:fmf-AFLABS-URNIK:premaknjeno-srecanje:82405
ATTENDEE:1. letnik (Pedagoška fizika, 2. stopnja)
ATTENDEE:2. letnik (Pedagoška fizika, 2. stopnja)
ATTENDEE:3. letnik (PM)
ATTENDEE:4. letnik (PM)
CATEGORIES:Entry,Standard
COLOR:darkgreen
DESCRIPTION:Predmet: Pedagogika z andragogiko (PEF-1\, PEF-2\, PM-3\, PM-4
 )\, Predavanja (P)\nLetniki: 1. letnik (Pedagoška fizika\, 2. stopnja)\, 
 2. letnik (Pedagoška fizika\, 2. stopnja)\, 3. letnik (PM)\, 4. letnik (P
 M)\nIzvajalci:  Govekar-Okoliš\nProstor: 2.04
LOCATION:2.04
ORGANIZER: Govekar-Okoliš
RELATED-TO:fmf-AFLABS-URNIK:srecanje:4358
X-WR-TIMEZONE:Europe/Ljubljana
END:VEVENT
BEGIN:VEVENT
SUMMARY:Pedagogika z andragogiko (PEF-1\, PEF-2\, PM-3\, PM-4)\, Predavanj
 a (P)
DTSTART;TZID=Europe/Ljubljana:20200423T080000
DTEND;TZID=Europe/Ljubljana:20200423T100000
DTSTAMP:20260419T185654Z
UID:fmf-AFLABS-URNIK:premaknjeno-srecanje:82406
ATTENDEE:1. letnik (Pedagoška fizika, 2. stopnja)
ATTENDEE:2. letnik (Pedagoška fizika, 2. stopnja)
ATTENDEE:3. letnik (PM)
ATTENDEE:4. letnik (PM)
CATEGORIES:Entry,Standard
COLOR:darkgreen
DESCRIPTION:Predmet: Pedagogika z andragogiko (PEF-1\, PEF-2\, PM-3\, PM-4
 )\, Predavanja (P)\nLetniki: 1. letnik (Pedagoška fizika\, 2. stopnja)\, 
 2. letnik (Pedagoška fizika\, 2. stopnja)\, 3. letnik (PM)\, 4. letnik (P
 M)\nIzvajalci:  Govekar-Okoliš\nProstor: 2.04
LOCATION:2.04
ORGANIZER: Govekar-Okoliš
RELATED-TO:fmf-AFLABS-URNIK:srecanje:4358
X-WR-TIMEZONE:Europe/Ljubljana
END:VEVENT
BEGIN:VEVENT
SUMMARY:Pedagogika z andragogiko (PEF-1\, PEF-2\, PM-3\, PM-4)\, Predavanj
 a (P)
DTSTART;TZID=Europe/Ljubljana:20200430T080000
DTEND;TZID=Europe/Ljubljana:20200430T100000
DTSTAMP:20260419T185654Z
UID:fmf-AFLABS-URNIK:premaknjeno-srecanje:82407
ATTENDEE:1. letnik (Pedagoška fizika, 2. stopnja)
ATTENDEE:2. letnik (Pedagoška fizika, 2. stopnja)
ATTENDEE:3. letnik (PM)
ATTENDEE:4. letnik (PM)
CATEGORIES:Entry,Standard
COLOR:darkgreen
DESCRIPTION:Predmet: Pedagogika z andragogiko (PEF-1\, PEF-2\, PM-3\, PM-4
 )\, Predavanja (P)\nLetniki: 1. letnik (Pedagoška fizika\, 2. stopnja)\, 
 2. letnik (Pedagoška fizika\, 2. stopnja)\, 3. letnik (PM)\, 4. letnik (P
 M)\nIzvajalci:  Govekar-Okoliš\nProstor: 2.04
LOCATION:2.04
ORGANIZER: Govekar-Okoliš
RELATED-TO:fmf-AFLABS-URNIK:srecanje:4358
X-WR-TIMEZONE:Europe/Ljubljana
END:VEVENT
BEGIN:VEVENT
SUMMARY:Pedagogika z andragogiko (PEF-1\, PEF-2\, PM-3\, PM-4)\, Predavanj
 a (P)
DTSTART;TZID=Europe/Ljubljana:20200507T080000
DTEND;TZID=Europe/Ljubljana:20200507T100000
DTSTAMP:20260419T185654Z
UID:fmf-AFLABS-URNIK:premaknjeno-srecanje:82408
ATTENDEE:1. letnik (Pedagoška fizika, 2. stopnja)
ATTENDEE:2. letnik (Pedagoška fizika, 2. stopnja)
ATTENDEE:3. letnik (PM)
ATTENDEE:4. letnik (PM)
CATEGORIES:Entry,Standard
COLOR:darkgreen
DESCRIPTION:Predmet: Pedagogika z andragogiko (PEF-1\, PEF-2\, PM-3\, PM-4
 )\, Predavanja (P)\nLetniki: 1. letnik (Pedagoška fizika\, 2. stopnja)\, 
 2. letnik (Pedagoška fizika\, 2. stopnja)\, 3. letnik (PM)\, 4. letnik (P
 M)\nIzvajalci:  Govekar-Okoliš\nProstor: 2.04
LOCATION:2.04
ORGANIZER: Govekar-Okoliš
RELATED-TO:fmf-AFLABS-URNIK:srecanje:4358
X-WR-TIMEZONE:Europe/Ljubljana
END:VEVENT
BEGIN:VEVENT
SUMMARY:Pedagogika z andragogiko (PEF-1\, PEF-2\, PM-3\, PM-4)\, Predavanj
 a (P)
DTSTART;TZID=Europe/Ljubljana:20200514T080000
DTEND;TZID=Europe/Ljubljana:20200514T100000
DTSTAMP:20260419T185654Z
UID:fmf-AFLABS-URNIK:premaknjeno-srecanje:82409
ATTENDEE:1. letnik (Pedagoška fizika, 2. stopnja)
ATTENDEE:2. letnik (Pedagoška fizika, 2. stopnja)
ATTENDEE:3. letnik (PM)
ATTENDEE:4. letnik (PM)
CATEGORIES:Entry,Standard
COLOR:darkgreen
DESCRIPTION:Predmet: Pedagogika z andragogiko (PEF-1\, PEF-2\, PM-3\, PM-4
 )\, Predavanja (P)\nLetniki: 1. letnik (Pedagoška fizika\, 2. stopnja)\, 
 2. letnik (Pedagoška fizika\, 2. stopnja)\, 3. letnik (PM)\, 4. letnik (P
 M)\nIzvajalci:  Govekar-Okoliš\nProstor: 2.04
LOCATION:2.04
ORGANIZER: Govekar-Okoliš
RELATED-TO:fmf-AFLABS-URNIK:srecanje:4358
X-WR-TIMEZONE:Europe/Ljubljana
END:VEVENT
BEGIN:VEVENT
SUMMARY:Pedagogika z andragogiko (PEF-1\, PEF-2\, PM-3\, PM-4)\, Predavanj
 a (P)
DTSTART;TZID=Europe/Ljubljana:20200521T080000
DTEND;TZID=Europe/Ljubljana:20200521T100000
DTSTAMP:20260419T185654Z
UID:fmf-AFLABS-URNIK:premaknjeno-srecanje:82410
ATTENDEE:1. letnik (Pedagoška fizika, 2. stopnja)
ATTENDEE:2. letnik (Pedagoška fizika, 2. stopnja)
ATTENDEE:3. letnik (PM)
ATTENDEE:4. letnik (PM)
CATEGORIES:Entry,Standard
COLOR:darkgreen
DESCRIPTION:Predmet: Pedagogika z andragogiko (PEF-1\, PEF-2\, PM-3\, PM-4
 )\, Predavanja (P)\nLetniki: 1. letnik (Pedagoška fizika\, 2. stopnja)\, 
 2. letnik (Pedagoška fizika\, 2. stopnja)\, 3. letnik (PM)\, 4. letnik (P
 M)\nIzvajalci:  Govekar-Okoliš\nProstor: 2.04
LOCATION:2.04
ORGANIZER: Govekar-Okoliš
RELATED-TO:fmf-AFLABS-URNIK:srecanje:4358
X-WR-TIMEZONE:Europe/Ljubljana
END:VEVENT
BEGIN:VEVENT
SUMMARY:Pedagogika z andragogiko (PEF-1\, PEF-2\, PM-3\, PM-4)\, Predavanj
 a (P)
DTSTART;TZID=Europe/Ljubljana:20200528T080000
DTEND;TZID=Europe/Ljubljana:20200528T100000
DTSTAMP:20260419T185654Z
UID:fmf-AFLABS-URNIK:premaknjeno-srecanje:82411
ATTENDEE:1. letnik (Pedagoška fizika, 2. stopnja)
ATTENDEE:2. letnik (Pedagoška fizika, 2. stopnja)
ATTENDEE:3. letnik (PM)
ATTENDEE:4. letnik (PM)
CATEGORIES:Entry,Standard
COLOR:darkgreen
DESCRIPTION:Predmet: Pedagogika z andragogiko (PEF-1\, PEF-2\, PM-3\, PM-4
 )\, Predavanja (P)\nLetniki: 1. letnik (Pedagoška fizika\, 2. stopnja)\, 
 2. letnik (Pedagoška fizika\, 2. stopnja)\, 3. letnik (PM)\, 4. letnik (P
 M)\nIzvajalci:  Govekar-Okoliš\nProstor: 2.04
LOCATION:2.04
ORGANIZER: Govekar-Okoliš
RELATED-TO:fmf-AFLABS-URNIK:srecanje:4358
X-WR-TIMEZONE:Europe/Ljubljana
END:VEVENT
END:VCALENDAR
