BEGIN:VCALENDAR
VERSION:2.0
PRODID:-//AFLabs urnik izvoz - fmf//aflabs.si//SI
DTSTAMP:20260425T135018Z
NAME:UL FMF urnik
REFRESH-INTERVAL:PT1H
SOURCE:https://urnik.fmf.uni-lj.si/teacher/455?day=2020-10-12&export=1
URL:https://urnik.fmf.uni-lj.si/teacher/455?day=2020-10-12&export=1
X-PUBLISHED-TTL:PT1H
X-WR-CALNAME:UL FMF urnik
X-WR-TIMEZONE:Europe/Ljubljana
BEGIN:VTIMEZONE
TZID:Europe/Ljubljana
BEGIN:DAYLIGHT
DTSTART:20260329T020000
RDATE:20260329T020000
RDATE:20270328T020000
TZNAME:CEST
TZOFFSETFROM:+0100
TZOFFSETTO:+0200
END:DAYLIGHT
BEGIN:STANDARD
DTSTART:20261025T030000
RDATE:20261025T030000
RDATE:20271031T030000
TZNAME:CET
TZOFFSETFROM:+0200
TZOFFSETTO:+0100
END:STANDARD
END:VTIMEZONE
BEGIN:VEVENT
SUMMARY:Fizika (FKKT Kemija) ()\, Vaje (V)\, [1]
DTSTART;TZID=Europe/Ljubljana:20201005T110000
DTEND;TZID=Europe/Ljubljana:20201005T130000
DTSTAMP:20260425T135018Z
UID:fmf-AFLABS-URNIK:premaknjeno-srecanje:25465
CATEGORIES:Entry,Standard
COLOR:darkgreen
DESCRIPTION:Predmet: Fizika (FKKT Kemija) ()\, Vaje (V)\, [1]\nLetniki: \n
 Izvajalci: Matevž Marinčič\nProstor: 3067 (3B FKKT)
LOCATION:3067 (3B FKKT)
ORGANIZER:Matevž Marinčič
RELATED-TO:fmf-AFLABS-URNIK:srecanje:4773
X-WR-TIMEZONE:Europe/Ljubljana
END:VEVENT
BEGIN:VEVENT
SUMMARY:Fizika (FKKT Kemija) ()\, Vaje (V)\, [1]
DTSTART;TZID=Europe/Ljubljana:20201012T110000
DTEND;TZID=Europe/Ljubljana:20201012T130000
DTSTAMP:20260425T135018Z
UID:fmf-AFLABS-URNIK:premaknjeno-srecanje:25466
CATEGORIES:Entry,Standard
COLOR:darkgreen
DESCRIPTION:Predmet: Fizika (FKKT Kemija) ()\, Vaje (V)\, [1]\nLetniki: \n
 Izvajalci: Matevž Marinčič\nProstor: 3067 (3B FKKT)
LOCATION:3067 (3B FKKT)
ORGANIZER:Matevž Marinčič
RELATED-TO:fmf-AFLABS-URNIK:srecanje:4773
X-WR-TIMEZONE:Europe/Ljubljana
END:VEVENT
BEGIN:VEVENT
SUMMARY:Fizika (FKKT Kemija) ()\, Vaje (V)\, [1]
DTSTART;TZID=Europe/Ljubljana:20201019T110000
DTEND;TZID=Europe/Ljubljana:20201019T130000
DTSTAMP:20260425T135018Z
UID:fmf-AFLABS-URNIK:premaknjeno-srecanje:25467
CATEGORIES:Entry,Standard
COLOR:darkgreen
DESCRIPTION:Predmet: Fizika (FKKT Kemija) ()\, Vaje (V)\, [1]\nLetniki: \n
 Izvajalci: Matevž Marinčič\nProstor: 3067 (3B FKKT)
LOCATION:3067 (3B FKKT)
ORGANIZER:Matevž Marinčič
RELATED-TO:fmf-AFLABS-URNIK:srecanje:4773
X-WR-TIMEZONE:Europe/Ljubljana
END:VEVENT
BEGIN:VEVENT
SUMMARY:Fizika (FKKT Kemija) ()\, Vaje (V)\, [1]
DTSTART;TZID=Europe/Ljubljana:20201026T110000
DTEND;TZID=Europe/Ljubljana:20201026T130000
DTSTAMP:20260425T135018Z
UID:fmf-AFLABS-URNIK:premaknjeno-srecanje:25468
CATEGORIES:Entry,Standard
COLOR:darkgreen
DESCRIPTION:Predmet: Fizika (FKKT Kemija) ()\, Vaje (V)\, [1]\nLetniki: \n
 Izvajalci: Matevž Marinčič\nProstor: 3067 (3B FKKT)
LOCATION:3067 (3B FKKT)
ORGANIZER:Matevž Marinčič
RELATED-TO:fmf-AFLABS-URNIK:srecanje:4773
X-WR-TIMEZONE:Europe/Ljubljana
END:VEVENT
BEGIN:VEVENT
SUMMARY:Fizika (FKKT Kemija) ()\, Vaje (V)\, [1]
DTSTART;TZID=Europe/Ljubljana:20201102T110000
DTEND;TZID=Europe/Ljubljana:20201102T130000
DTSTAMP:20260425T135018Z
UID:fmf-AFLABS-URNIK:premaknjeno-srecanje:25469
CATEGORIES:Entry,Standard
COLOR:darkgreen
DESCRIPTION:Predmet: Fizika (FKKT Kemija) ()\, Vaje (V)\, [1]\nLetniki: \n
 Izvajalci: Matevž Marinčič\nProstor: 3067 (3B FKKT)
LOCATION:3067 (3B FKKT)
ORGANIZER:Matevž Marinčič
RELATED-TO:fmf-AFLABS-URNIK:srecanje:4773
X-WR-TIMEZONE:Europe/Ljubljana
END:VEVENT
BEGIN:VEVENT
SUMMARY:Fizika (FKKT Kemija) ()\, Vaje (V)\, [1]
DTSTART;TZID=Europe/Ljubljana:20201109T110000
DTEND;TZID=Europe/Ljubljana:20201109T130000
DTSTAMP:20260425T135018Z
UID:fmf-AFLABS-URNIK:premaknjeno-srecanje:25470
CATEGORIES:Entry,Standard
COLOR:darkgreen
DESCRIPTION:Predmet: Fizika (FKKT Kemija) ()\, Vaje (V)\, [1]\nLetniki: \n
 Izvajalci: Matevž Marinčič\nProstor: 3067 (3B FKKT)
LOCATION:3067 (3B FKKT)
ORGANIZER:Matevž Marinčič
RELATED-TO:fmf-AFLABS-URNIK:srecanje:4773
X-WR-TIMEZONE:Europe/Ljubljana
END:VEVENT
BEGIN:VEVENT
SUMMARY:Fizika (FKKT Kemija) ()\, Vaje (V)\, [1]
DTSTART;TZID=Europe/Ljubljana:20201116T110000
DTEND;TZID=Europe/Ljubljana:20201116T130000
DTSTAMP:20260425T135018Z
UID:fmf-AFLABS-URNIK:premaknjeno-srecanje:25471
CATEGORIES:Entry,Standard
COLOR:darkgreen
DESCRIPTION:Predmet: Fizika (FKKT Kemija) ()\, Vaje (V)\, [1]\nLetniki: \n
 Izvajalci: Matevž Marinčič\nProstor: 3067 (3B FKKT)
LOCATION:3067 (3B FKKT)
ORGANIZER:Matevž Marinčič
RELATED-TO:fmf-AFLABS-URNIK:srecanje:4773
X-WR-TIMEZONE:Europe/Ljubljana
END:VEVENT
BEGIN:VEVENT
SUMMARY:Fizika (FKKT Kemija) ()\, Vaje (V)\, [1]
DTSTART;TZID=Europe/Ljubljana:20201123T110000
DTEND;TZID=Europe/Ljubljana:20201123T130000
DTSTAMP:20260425T135018Z
UID:fmf-AFLABS-URNIK:premaknjeno-srecanje:25472
CATEGORIES:Entry,Standard
COLOR:darkgreen
DESCRIPTION:Predmet: Fizika (FKKT Kemija) ()\, Vaje (V)\, [1]\nLetniki: \n
 Izvajalci: Matevž Marinčič\nProstor: 3067 (3B FKKT)
LOCATION:3067 (3B FKKT)
ORGANIZER:Matevž Marinčič
RELATED-TO:fmf-AFLABS-URNIK:srecanje:4773
X-WR-TIMEZONE:Europe/Ljubljana
END:VEVENT
BEGIN:VEVENT
SUMMARY:Fizika (FKKT Kemija) ()\, Vaje (V)\, [1]
DTSTART;TZID=Europe/Ljubljana:20201130T110000
DTEND;TZID=Europe/Ljubljana:20201130T130000
DTSTAMP:20260425T135018Z
UID:fmf-AFLABS-URNIK:premaknjeno-srecanje:25473
CATEGORIES:Entry,Standard
COLOR:darkgreen
DESCRIPTION:Predmet: Fizika (FKKT Kemija) ()\, Vaje (V)\, [1]\nLetniki: \n
 Izvajalci: Matevž Marinčič\nProstor: 3067 (3B FKKT)
LOCATION:3067 (3B FKKT)
ORGANIZER:Matevž Marinčič
RELATED-TO:fmf-AFLABS-URNIK:srecanje:4773
X-WR-TIMEZONE:Europe/Ljubljana
END:VEVENT
BEGIN:VEVENT
SUMMARY:Fizika (FKKT Kemija) ()\, Vaje (V)\, [1]
DTSTART;TZID=Europe/Ljubljana:20201207T110000
DTEND;TZID=Europe/Ljubljana:20201207T130000
DTSTAMP:20260425T135018Z
UID:fmf-AFLABS-URNIK:premaknjeno-srecanje:25474
CATEGORIES:Entry,Standard
COLOR:darkgreen
DESCRIPTION:Predmet: Fizika (FKKT Kemija) ()\, Vaje (V)\, [1]\nLetniki: \n
 Izvajalci: Matevž Marinčič\nProstor: 3067 (3B FKKT)
LOCATION:3067 (3B FKKT)
ORGANIZER:Matevž Marinčič
RELATED-TO:fmf-AFLABS-URNIK:srecanje:4773
X-WR-TIMEZONE:Europe/Ljubljana
END:VEVENT
BEGIN:VEVENT
SUMMARY:Fizika (FKKT Kemija) ()\, Vaje (V)\, [1]
DTSTART;TZID=Europe/Ljubljana:20201214T110000
DTEND;TZID=Europe/Ljubljana:20201214T130000
DTSTAMP:20260425T135018Z
UID:fmf-AFLABS-URNIK:premaknjeno-srecanje:25475
CATEGORIES:Entry,Standard
COLOR:darkgreen
DESCRIPTION:Predmet: Fizika (FKKT Kemija) ()\, Vaje (V)\, [1]\nLetniki: \n
 Izvajalci: Matevž Marinčič\nProstor: 3067 (3B FKKT)
LOCATION:3067 (3B FKKT)
ORGANIZER:Matevž Marinčič
RELATED-TO:fmf-AFLABS-URNIK:srecanje:4773
X-WR-TIMEZONE:Europe/Ljubljana
END:VEVENT
BEGIN:VEVENT
SUMMARY:Fizika (FKKT Kemija) ()\, Vaje (V)\, [1]
DTSTART;TZID=Europe/Ljubljana:20201221T110000
DTEND;TZID=Europe/Ljubljana:20201221T130000
DTSTAMP:20260425T135018Z
UID:fmf-AFLABS-URNIK:premaknjeno-srecanje:25476
CATEGORIES:Entry,Standard
COLOR:darkgreen
DESCRIPTION:Predmet: Fizika (FKKT Kemija) ()\, Vaje (V)\, [1]\nLetniki: \n
 Izvajalci: Matevž Marinčič\nProstor: 3067 (3B FKKT)
LOCATION:3067 (3B FKKT)
ORGANIZER:Matevž Marinčič
RELATED-TO:fmf-AFLABS-URNIK:srecanje:4773
X-WR-TIMEZONE:Europe/Ljubljana
END:VEVENT
BEGIN:VEVENT
SUMMARY:Fizika (FKKT Kemija) ()\, Vaje (V)\, [1]
DTSTART;TZID=Europe/Ljubljana:20201228T110000
DTEND;TZID=Europe/Ljubljana:20201228T130000
DTSTAMP:20260425T135018Z
UID:fmf-AFLABS-URNIK:premaknjeno-srecanje:25477
CATEGORIES:Entry,Standard
COLOR:darkgreen
DESCRIPTION:Predmet: Fizika (FKKT Kemija) ()\, Vaje (V)\, [1]\nLetniki: \n
 Izvajalci: Matevž Marinčič\nProstor: 3067 (3B FKKT)
LOCATION:3067 (3B FKKT)
ORGANIZER:Matevž Marinčič
RELATED-TO:fmf-AFLABS-URNIK:srecanje:4773
X-WR-TIMEZONE:Europe/Ljubljana
END:VEVENT
BEGIN:VEVENT
SUMMARY:Fizika (FKKT Kemija) ()\, Vaje (V)\, [1]
DTSTART;TZID=Europe/Ljubljana:20210104T110000
DTEND;TZID=Europe/Ljubljana:20210104T130000
DTSTAMP:20260425T135018Z
UID:fmf-AFLABS-URNIK:premaknjeno-srecanje:25478
CATEGORIES:Entry,Standard
COLOR:darkgreen
DESCRIPTION:Predmet: Fizika (FKKT Kemija) ()\, Vaje (V)\, [1]\nLetniki: \n
 Izvajalci: Matevž Marinčič\nProstor: 3067 (3B FKKT)
LOCATION:3067 (3B FKKT)
ORGANIZER:Matevž Marinčič
RELATED-TO:fmf-AFLABS-URNIK:srecanje:4773
X-WR-TIMEZONE:Europe/Ljubljana
END:VEVENT
BEGIN:VEVENT
SUMMARY:Fizika (FKKT Kemija) ()\, Vaje (V)\, [1]
DTSTART;TZID=Europe/Ljubljana:20210111T110000
DTEND;TZID=Europe/Ljubljana:20210111T130000
DTSTAMP:20260425T135018Z
UID:fmf-AFLABS-URNIK:premaknjeno-srecanje:25479
CATEGORIES:Entry,Standard
COLOR:darkgreen
DESCRIPTION:Predmet: Fizika (FKKT Kemija) ()\, Vaje (V)\, [1]\nLetniki: \n
 Izvajalci: Matevž Marinčič\nProstor: 3067 (3B FKKT)
LOCATION:3067 (3B FKKT)
ORGANIZER:Matevž Marinčič
RELATED-TO:fmf-AFLABS-URNIK:srecanje:4773
X-WR-TIMEZONE:Europe/Ljubljana
END:VEVENT
END:VCALENDAR
