BEGIN:VCALENDAR
VERSION:2.0
PRODID:-//AFLabs urnik izvoz - fmf//aflabs.si//SI
DTSTAMP:20260423T111108Z
NAME:UL FMF urnik
REFRESH-INTERVAL:PT1H
SOURCE:https://urnik.fmf.uni-lj.si/teacher/457?day=2024-06-24&export=1
URL:https://urnik.fmf.uni-lj.si/teacher/457?day=2024-06-24&export=1
X-PUBLISHED-TTL:PT1H
X-WR-CALNAME:UL FMF urnik
X-WR-TIMEZONE:Europe/Ljubljana
BEGIN:VTIMEZONE
TZID:Europe/Ljubljana
BEGIN:DAYLIGHT
DTSTART:20260329T020000
RDATE:20260329T020000
RDATE:20270328T020000
TZNAME:CEST
TZOFFSETFROM:+0100
TZOFFSETTO:+0200
END:DAYLIGHT
BEGIN:STANDARD
DTSTART:20261025T030000
RDATE:20261025T030000
RDATE:20271031T030000
TZNAME:CET
TZOFFSETFROM:+0200
TZOFFSETTO:+0100
END:STANDARD
END:VTIMEZONE
BEGIN:VEVENT
SUMMARY:Zdravstvena fizika (MEF-1\, MEF-2)\, Predavanja (P)
DTSTART;TZID=Europe/Ljubljana:20240520T120000
DTEND;TZID=Europe/Ljubljana:20240520T150000
DTSTAMP:20260423T111108Z
UID:fmf-AFLABS-URNIK:premaknjeno-srecanje:134007
ATTENDEE:1. letnik (Medicinska fizika, 2. stopnja)
ATTENDEE:2. letnik (Medicinska fizika, 2. stopnja)
CATEGORIES:Entry,Standard
COLOR:darkgreen
DESCRIPTION:Predmet: Zdravstvena fizika (MEF-1\, MEF-2)\, Predavanja (P)\n
 Letniki: 1. letnik (Medicinska fizika\, 2. stopnja)\, 2. letnik (Medicinsk
 a fizika\, 2. stopnja)\nIzvajalci: Damijan Škrk\, Andrej Studen\nProstor:
  F7
LOCATION:F7
ORGANIZER:Damijan Škrk, Andrej Studen
RELATED-TO:fmf-AFLABS-URNIK:srecanje:10296
X-WR-TIMEZONE:Europe/Ljubljana
END:VEVENT
BEGIN:VEVENT
SUMMARY:Zdravstvena fizika (MEF-1\, MEF-2)\, Predavanja (P)
DTSTART;TZID=Europe/Ljubljana:20240527T120000
DTEND;TZID=Europe/Ljubljana:20240527T150000
DTSTAMP:20260423T111108Z
UID:fmf-AFLABS-URNIK:premaknjeno-srecanje:134008
ATTENDEE:1. letnik (Medicinska fizika, 2. stopnja)
ATTENDEE:2. letnik (Medicinska fizika, 2. stopnja)
CATEGORIES:Entry,Standard
COLOR:darkgreen
DESCRIPTION:Predmet: Zdravstvena fizika (MEF-1\, MEF-2)\, Predavanja (P)\n
 Letniki: 1. letnik (Medicinska fizika\, 2. stopnja)\, 2. letnik (Medicinsk
 a fizika\, 2. stopnja)\nIzvajalci: Damijan Škrk\, Andrej Studen\nProstor:
  F7
LOCATION:F7
ORGANIZER:Damijan Škrk, Andrej Studen
RELATED-TO:fmf-AFLABS-URNIK:srecanje:10296
X-WR-TIMEZONE:Europe/Ljubljana
END:VEVENT
END:VCALENDAR
