BEGIN:VCALENDAR
VERSION:2.0
PRODID:-//AFLabs urnik izvoz - fmf//aflabs.si//SI
DTSTAMP:20260425T192130Z
NAME:UL FMF urnik
REFRESH-INTERVAL:PT1H
SOURCE:https://urnik.fmf.uni-lj.si/teacher/458?day=2021-06-07&export=1
URL:https://urnik.fmf.uni-lj.si/teacher/458?day=2021-06-07&export=1
X-PUBLISHED-TTL:PT1H
X-WR-CALNAME:UL FMF urnik
X-WR-TIMEZONE:Europe/Ljubljana
BEGIN:VTIMEZONE
TZID:Europe/Ljubljana
BEGIN:DAYLIGHT
DTSTART:20260329T020000
RDATE:20260329T020000
RDATE:20270328T020000
TZNAME:CEST
TZOFFSETFROM:+0100
TZOFFSETTO:+0200
END:DAYLIGHT
BEGIN:STANDARD
DTSTART:20261025T030000
RDATE:20261025T030000
RDATE:20271031T030000
TZNAME:CET
TZOFFSETFROM:+0200
TZOFFSETTO:+0100
END:STANDARD
END:VTIMEZONE
BEGIN:VEVENT
SUMMARY:Jedrska\, reaktorska in radiološka fizika (JET-1\, JET-2)\, Preda
 vanja (P)
DTSTART;TZID=Europe/Ljubljana:20210506T080000
DTEND;TZID=Europe/Ljubljana:20210506T100000
DTSTAMP:20260425T192130Z
UID:fmf-AFLABS-URNIK:premaknjeno-srecanje:45709
ATTENDEE:1. letnik (Jedrska tehnika, 2. stopnja)
ATTENDEE:2. letnik (Jedrska tehnika, 2. stopnja)
CATEGORIES:Entry,Standard
COLOR:darkgreen
DESCRIPTION:Predmet: Jedrska\, reaktorska in radiološka fizika (JET-1\, J
 ET-2)\, Predavanja (P)\nLetniki: 1. letnik (Jedrska tehnika\, 2. stopnja)\
 , 2. letnik (Jedrska tehnika\, 2. stopnja)\nIzvajalci: Luka Snoj\nProstor:
  Reaktor
LOCATION:Reaktor
ORGANIZER:Luka Snoj
RELATED-TO:fmf-AFLABS-URNIK:srecanje:6019
X-WR-TIMEZONE:Europe/Ljubljana
END:VEVENT
BEGIN:VEVENT
SUMMARY:Jedrska\, reaktorska in radiološka fizika (JET-1\, JET-2)\, Preda
 vanja (P)
DTSTART;TZID=Europe/Ljubljana:20210513T080000
DTEND;TZID=Europe/Ljubljana:20210513T100000
DTSTAMP:20260425T192130Z
UID:fmf-AFLABS-URNIK:premaknjeno-srecanje:45710
ATTENDEE:1. letnik (Jedrska tehnika, 2. stopnja)
ATTENDEE:2. letnik (Jedrska tehnika, 2. stopnja)
CATEGORIES:Entry,Standard
COLOR:darkgreen
DESCRIPTION:Predmet: Jedrska\, reaktorska in radiološka fizika (JET-1\, J
 ET-2)\, Predavanja (P)\nLetniki: 1. letnik (Jedrska tehnika\, 2. stopnja)\
 , 2. letnik (Jedrska tehnika\, 2. stopnja)\nIzvajalci: Luka Snoj\nProstor:
  Reaktor
LOCATION:Reaktor
ORGANIZER:Luka Snoj
RELATED-TO:fmf-AFLABS-URNIK:srecanje:6019
X-WR-TIMEZONE:Europe/Ljubljana
END:VEVENT
BEGIN:VEVENT
SUMMARY:Jedrska\, reaktorska in radiološka fizika (JET-1\, JET-2)\, Preda
 vanja (P)
DTSTART;TZID=Europe/Ljubljana:20210520T080000
DTEND;TZID=Europe/Ljubljana:20210520T100000
DTSTAMP:20260425T192130Z
UID:fmf-AFLABS-URNIK:premaknjeno-srecanje:45711
ATTENDEE:1. letnik (Jedrska tehnika, 2. stopnja)
ATTENDEE:2. letnik (Jedrska tehnika, 2. stopnja)
CATEGORIES:Entry,Standard
COLOR:darkgreen
DESCRIPTION:Predmet: Jedrska\, reaktorska in radiološka fizika (JET-1\, J
 ET-2)\, Predavanja (P)\nLetniki: 1. letnik (Jedrska tehnika\, 2. stopnja)\
 , 2. letnik (Jedrska tehnika\, 2. stopnja)\nIzvajalci: Luka Snoj\nProstor:
  Reaktor
LOCATION:Reaktor
ORGANIZER:Luka Snoj
RELATED-TO:fmf-AFLABS-URNIK:srecanje:6019
X-WR-TIMEZONE:Europe/Ljubljana
END:VEVENT
BEGIN:VEVENT
SUMMARY:Jedrska\, reaktorska in radiološka fizika (JET-1\, JET-2)\, Preda
 vanja (P)
DTSTART;TZID=Europe/Ljubljana:20210527T080000
DTEND;TZID=Europe/Ljubljana:20210527T100000
DTSTAMP:20260425T192130Z
UID:fmf-AFLABS-URNIK:premaknjeno-srecanje:45712
ATTENDEE:1. letnik (Jedrska tehnika, 2. stopnja)
ATTENDEE:2. letnik (Jedrska tehnika, 2. stopnja)
CATEGORIES:Entry,Standard
COLOR:darkgreen
DESCRIPTION:Predmet: Jedrska\, reaktorska in radiološka fizika (JET-1\, J
 ET-2)\, Predavanja (P)\nLetniki: 1. letnik (Jedrska tehnika\, 2. stopnja)\
 , 2. letnik (Jedrska tehnika\, 2. stopnja)\nIzvajalci: Luka Snoj\nProstor:
  Reaktor
LOCATION:Reaktor
ORGANIZER:Luka Snoj
RELATED-TO:fmf-AFLABS-URNIK:srecanje:6019
X-WR-TIMEZONE:Europe/Ljubljana
END:VEVENT
BEGIN:VEVENT
SUMMARY:Radiacijska in reaktorska fizika (FIZ-3)\, Predavanja (P)
DTSTART;TZID=Europe/Ljubljana:20210506T130000
DTEND;TZID=Europe/Ljubljana:20210506T150000
DTSTAMP:20260425T192130Z
UID:fmf-AFLABS-URNIK:premaknjeno-srecanje:90791
ATTENDEE:3. letnik (Fizika, 1. stopnja)
CATEGORIES:Entry,Standard
COLOR:darkgreen
DESCRIPTION:Predmet: Radiacijska in reaktorska fizika (FIZ-3)\, Predavanja
  (P)\nLetniki: 3. letnik (Fizika\, 1. stopnja)\nIzvajalci: Luka Snoj\nPros
 tor: F7
LOCATION:F7
ORGANIZER:Luka Snoj
RELATED-TO:fmf-AFLABS-URNIK:srecanje:5846
X-WR-TIMEZONE:Europe/Ljubljana
END:VEVENT
BEGIN:VEVENT
SUMMARY:Radiacijska in reaktorska fizika (FIZ-3)\, Predavanja (P)
DTSTART;TZID=Europe/Ljubljana:20210513T130000
DTEND;TZID=Europe/Ljubljana:20210513T150000
DTSTAMP:20260425T192130Z
UID:fmf-AFLABS-URNIK:premaknjeno-srecanje:90792
ATTENDEE:3. letnik (Fizika, 1. stopnja)
CATEGORIES:Entry,Standard
COLOR:darkgreen
DESCRIPTION:Predmet: Radiacijska in reaktorska fizika (FIZ-3)\, Predavanja
  (P)\nLetniki: 3. letnik (Fizika\, 1. stopnja)\nIzvajalci: Luka Snoj\nPros
 tor: F7
LOCATION:F7
ORGANIZER:Luka Snoj
RELATED-TO:fmf-AFLABS-URNIK:srecanje:5846
X-WR-TIMEZONE:Europe/Ljubljana
END:VEVENT
BEGIN:VEVENT
SUMMARY:Radiacijska in reaktorska fizika (FIZ-3)\, Predavanja (P)
DTSTART;TZID=Europe/Ljubljana:20210520T130000
DTEND;TZID=Europe/Ljubljana:20210520T150000
DTSTAMP:20260425T192130Z
UID:fmf-AFLABS-URNIK:premaknjeno-srecanje:90793
ATTENDEE:3. letnik (Fizika, 1. stopnja)
CATEGORIES:Entry,Standard
COLOR:darkgreen
DESCRIPTION:Predmet: Radiacijska in reaktorska fizika (FIZ-3)\, Predavanja
  (P)\nLetniki: 3. letnik (Fizika\, 1. stopnja)\nIzvajalci: Luka Snoj\nPros
 tor: F7
LOCATION:F7
ORGANIZER:Luka Snoj
RELATED-TO:fmf-AFLABS-URNIK:srecanje:5846
X-WR-TIMEZONE:Europe/Ljubljana
END:VEVENT
BEGIN:VEVENT
SUMMARY:Radiacijska in reaktorska fizika (FIZ-3)\, Predavanja (P)
DTSTART;TZID=Europe/Ljubljana:20210527T130000
DTEND;TZID=Europe/Ljubljana:20210527T150000
DTSTAMP:20260425T192130Z
UID:fmf-AFLABS-URNIK:premaknjeno-srecanje:90794
ATTENDEE:3. letnik (Fizika, 1. stopnja)
CATEGORIES:Entry,Standard
COLOR:darkgreen
DESCRIPTION:Predmet: Radiacijska in reaktorska fizika (FIZ-3)\, Predavanja
  (P)\nLetniki: 3. letnik (Fizika\, 1. stopnja)\nIzvajalci: Luka Snoj\nPros
 tor: F7
LOCATION:F7
ORGANIZER:Luka Snoj
RELATED-TO:fmf-AFLABS-URNIK:srecanje:5846
X-WR-TIMEZONE:Europe/Ljubljana
END:VEVENT
BEGIN:VEVENT
SUMMARY:Radiacijska in reaktorska fizika (FIZ-3)\, Vaje (V)
DTSTART;TZID=Europe/Ljubljana:20210506T150000
DTEND;TZID=Europe/Ljubljana:20210506T160000
DTSTAMP:20260425T192130Z
UID:fmf-AFLABS-URNIK:premaknjeno-srecanje:90883
ATTENDEE:3. letnik (Fizika, 1. stopnja)
CATEGORIES:Entry,Standard
COLOR:darkgreen
DESCRIPTION:Predmet: Radiacijska in reaktorska fizika (FIZ-3)\, Vaje (V)\n
 Letniki: 3. letnik (Fizika\, 1. stopnja)\nIzvajalci: Luka Snoj\nProstor: F
 7
LOCATION:F7
ORGANIZER:Luka Snoj
RELATED-TO:fmf-AFLABS-URNIK:srecanje:5847
X-WR-TIMEZONE:Europe/Ljubljana
END:VEVENT
BEGIN:VEVENT
SUMMARY:Radiacijska in reaktorska fizika (FIZ-3)\, Vaje (V)
DTSTART;TZID=Europe/Ljubljana:20210513T150000
DTEND;TZID=Europe/Ljubljana:20210513T160000
DTSTAMP:20260425T192130Z
UID:fmf-AFLABS-URNIK:premaknjeno-srecanje:90884
ATTENDEE:3. letnik (Fizika, 1. stopnja)
CATEGORIES:Entry,Standard
COLOR:darkgreen
DESCRIPTION:Predmet: Radiacijska in reaktorska fizika (FIZ-3)\, Vaje (V)\n
 Letniki: 3. letnik (Fizika\, 1. stopnja)\nIzvajalci: Luka Snoj\nProstor: F
 7
LOCATION:F7
ORGANIZER:Luka Snoj
RELATED-TO:fmf-AFLABS-URNIK:srecanje:5847
X-WR-TIMEZONE:Europe/Ljubljana
END:VEVENT
BEGIN:VEVENT
SUMMARY:Radiacijska in reaktorska fizika (FIZ-3)\, Vaje (V)
DTSTART;TZID=Europe/Ljubljana:20210520T150000
DTEND;TZID=Europe/Ljubljana:20210520T160000
DTSTAMP:20260425T192130Z
UID:fmf-AFLABS-URNIK:premaknjeno-srecanje:90885
ATTENDEE:3. letnik (Fizika, 1. stopnja)
CATEGORIES:Entry,Standard
COLOR:darkgreen
DESCRIPTION:Predmet: Radiacijska in reaktorska fizika (FIZ-3)\, Vaje (V)\n
 Letniki: 3. letnik (Fizika\, 1. stopnja)\nIzvajalci: Luka Snoj\nProstor: F
 7
LOCATION:F7
ORGANIZER:Luka Snoj
RELATED-TO:fmf-AFLABS-URNIK:srecanje:5847
X-WR-TIMEZONE:Europe/Ljubljana
END:VEVENT
BEGIN:VEVENT
SUMMARY:Radiacijska in reaktorska fizika (FIZ-3)\, Vaje (V)
DTSTART;TZID=Europe/Ljubljana:20210527T150000
DTEND;TZID=Europe/Ljubljana:20210527T160000
DTSTAMP:20260425T192130Z
UID:fmf-AFLABS-URNIK:premaknjeno-srecanje:90886
ATTENDEE:3. letnik (Fizika, 1. stopnja)
CATEGORIES:Entry,Standard
COLOR:darkgreen
DESCRIPTION:Predmet: Radiacijska in reaktorska fizika (FIZ-3)\, Vaje (V)\n
 Letniki: 3. letnik (Fizika\, 1. stopnja)\nIzvajalci: Luka Snoj\nProstor: F
 7
LOCATION:F7
ORGANIZER:Luka Snoj
RELATED-TO:fmf-AFLABS-URNIK:srecanje:5847
X-WR-TIMEZONE:Europe/Ljubljana
END:VEVENT
BEGIN:VEVENT
SUMMARY:Rezervacija
DTSTART;TZID=Europe/Ljubljana:20210614T110000
DTEND;TZID=Europe/Ljubljana:20210614T130000
DTSTAMP:20260425T192130Z
UID:fmf-AFLABS-URNIK:rezervacija:6865
CATEGORIES:Reservation
COLOR:royalblue
DESCRIPTION:Predmeti: \nLetniki: \nIzvajalci: Luka Snoj\nProstori: VFP
LOCATION:VFP
ORGANIZER:Luka Snoj
X-WR-TIMEZONE:Europe/Ljubljana
END:VEVENT
END:VCALENDAR
