BEGIN:VCALENDAR
VERSION:2.0
PRODID:-//AFLabs urnik izvoz - fmf//aflabs.si//SI
DTSTAMP:20260423T003448Z
NAME:UL FMF urnik
REFRESH-INTERVAL:PT1H
SOURCE:https://urnik.fmf.uni-lj.si/teacher/465?day=2021-04-19&export=1
URL:https://urnik.fmf.uni-lj.si/teacher/465?day=2021-04-19&export=1
X-PUBLISHED-TTL:PT1H
X-WR-CALNAME:UL FMF urnik
X-WR-TIMEZONE:Europe/Ljubljana
BEGIN:VTIMEZONE
TZID:Europe/Ljubljana
BEGIN:DAYLIGHT
DTSTART:20260329T020000
RDATE:20260329T020000
RDATE:20270328T020000
TZNAME:CEST
TZOFFSETFROM:+0100
TZOFFSETTO:+0200
END:DAYLIGHT
BEGIN:STANDARD
DTSTART:20261025T030000
RDATE:20261025T030000
RDATE:20271031T030000
TZNAME:CET
TZOFFSETFROM:+0200
TZOFFSETTO:+0100
END:STANDARD
END:VTIMEZONE
BEGIN:VEVENT
SUMMARY:Matematično modeliranje (FM-3\, IŠRM-3\, MAT-3\, PM-4)\, Vaje (V
 )\, [1]
DTSTART;TZID=Europe/Ljubljana:20210217T120000
DTEND;TZID=Europe/Ljubljana:20210217T140000
DTSTAMP:20260423T003448Z
UID:fmf-AFLABS-URNIK:premaknjeno-srecanje:69915
ATTENDEE:3. letnik (FM)
ATTENDEE:3. letnik (IŠRM)
ATTENDEE:3. letnik (M)
ATTENDEE:4. letnik (PM)
CATEGORIES:Entry,Standard
COLOR:darkgreen
DESCRIPTION:Predmet: Matematično modeliranje (FM-3\, IŠRM-3\, MAT-3\, PM
 -4)\, Vaje (V)\, [1]\nLetniki: 3. letnik (FM)\, 3. letnik (IŠRM)\, 3. let
 nik (M)\, 4. letnik (PM)\nIzvajalci: Timotej Hrga\nProstor: 3.11
LOCATION:3.11
ORGANIZER:Timotej Hrga
RELATED-TO:fmf-AFLABS-URNIK:srecanje:5736
X-WR-TIMEZONE:Europe/Ljubljana
END:VEVENT
BEGIN:VEVENT
SUMMARY:Matematično modeliranje (FM-3\, IŠRM-3\, MAT-3\, PM-4)\, Vaje (V
 )\, [1]
DTSTART;TZID=Europe/Ljubljana:20210224T120000
DTEND;TZID=Europe/Ljubljana:20210224T140000
DTSTAMP:20260423T003448Z
UID:fmf-AFLABS-URNIK:premaknjeno-srecanje:69916
ATTENDEE:3. letnik (FM)
ATTENDEE:3. letnik (IŠRM)
ATTENDEE:3. letnik (M)
ATTENDEE:4. letnik (PM)
CATEGORIES:Entry,Standard
COLOR:darkgreen
DESCRIPTION:Predmet: Matematično modeliranje (FM-3\, IŠRM-3\, MAT-3\, PM
 -4)\, Vaje (V)\, [1]\nLetniki: 3. letnik (FM)\, 3. letnik (IŠRM)\, 3. let
 nik (M)\, 4. letnik (PM)\nIzvajalci: Timotej Hrga\nProstor: 3.11
LOCATION:3.11
ORGANIZER:Timotej Hrga
RELATED-TO:fmf-AFLABS-URNIK:srecanje:5736
X-WR-TIMEZONE:Europe/Ljubljana
END:VEVENT
BEGIN:VEVENT
SUMMARY:Matematično modeliranje (FM-3\, IŠRM-3\, MAT-3\, PM-4)\, Vaje (V
 )\, [1]
DTSTART;TZID=Europe/Ljubljana:20210303T120000
DTEND;TZID=Europe/Ljubljana:20210303T140000
DTSTAMP:20260423T003448Z
UID:fmf-AFLABS-URNIK:premaknjeno-srecanje:69917
ATTENDEE:3. letnik (FM)
ATTENDEE:3. letnik (IŠRM)
ATTENDEE:3. letnik (M)
ATTENDEE:4. letnik (PM)
CATEGORIES:Entry,Standard
COLOR:darkgreen
DESCRIPTION:Predmet: Matematično modeliranje (FM-3\, IŠRM-3\, MAT-3\, PM
 -4)\, Vaje (V)\, [1]\nLetniki: 3. letnik (FM)\, 3. letnik (IŠRM)\, 3. let
 nik (M)\, 4. letnik (PM)\nIzvajalci: Timotej Hrga\nProstor: 3.11
LOCATION:3.11
ORGANIZER:Timotej Hrga
RELATED-TO:fmf-AFLABS-URNIK:srecanje:5736
X-WR-TIMEZONE:Europe/Ljubljana
END:VEVENT
BEGIN:VEVENT
SUMMARY:Matematično modeliranje (FM-3\, IŠRM-3\, MAT-3\, PM-4)\, Vaje (V
 )\, [1]
DTSTART;TZID=Europe/Ljubljana:20210310T120000
DTEND;TZID=Europe/Ljubljana:20210310T140000
DTSTAMP:20260423T003448Z
UID:fmf-AFLABS-URNIK:premaknjeno-srecanje:69918
ATTENDEE:3. letnik (FM)
ATTENDEE:3. letnik (IŠRM)
ATTENDEE:3. letnik (M)
ATTENDEE:4. letnik (PM)
CATEGORIES:Entry,Standard
COLOR:darkgreen
DESCRIPTION:Predmet: Matematično modeliranje (FM-3\, IŠRM-3\, MAT-3\, PM
 -4)\, Vaje (V)\, [1]\nLetniki: 3. letnik (FM)\, 3. letnik (IŠRM)\, 3. let
 nik (M)\, 4. letnik (PM)\nIzvajalci: Timotej Hrga\nProstor: 3.11
LOCATION:3.11
ORGANIZER:Timotej Hrga
RELATED-TO:fmf-AFLABS-URNIK:srecanje:5736
X-WR-TIMEZONE:Europe/Ljubljana
END:VEVENT
BEGIN:VEVENT
SUMMARY:Matematično modeliranje (FM-3\, IŠRM-3\, MAT-3\, PM-4)\, Vaje (V
 )\, [1]
DTSTART;TZID=Europe/Ljubljana:20210317T120000
DTEND;TZID=Europe/Ljubljana:20210317T140000
DTSTAMP:20260423T003448Z
UID:fmf-AFLABS-URNIK:premaknjeno-srecanje:69919
ATTENDEE:3. letnik (FM)
ATTENDEE:3. letnik (IŠRM)
ATTENDEE:3. letnik (M)
ATTENDEE:4. letnik (PM)
CATEGORIES:Entry,Standard
COLOR:darkgreen
DESCRIPTION:Predmet: Matematično modeliranje (FM-3\, IŠRM-3\, MAT-3\, PM
 -4)\, Vaje (V)\, [1]\nLetniki: 3. letnik (FM)\, 3. letnik (IŠRM)\, 3. let
 nik (M)\, 4. letnik (PM)\nIzvajalci: Timotej Hrga\nProstor: 3.11
LOCATION:3.11
ORGANIZER:Timotej Hrga
RELATED-TO:fmf-AFLABS-URNIK:srecanje:5736
X-WR-TIMEZONE:Europe/Ljubljana
END:VEVENT
BEGIN:VEVENT
SUMMARY:Matematično modeliranje (FM-3\, IŠRM-3\, MAT-3\, PM-4)\, Vaje (V
 )\, [1]
DTSTART;TZID=Europe/Ljubljana:20210324T120000
DTEND;TZID=Europe/Ljubljana:20210324T140000
DTSTAMP:20260423T003448Z
UID:fmf-AFLABS-URNIK:premaknjeno-srecanje:69920
ATTENDEE:3. letnik (FM)
ATTENDEE:3. letnik (IŠRM)
ATTENDEE:3. letnik (M)
ATTENDEE:4. letnik (PM)
CATEGORIES:Entry,Standard
COLOR:darkgreen
DESCRIPTION:Predmet: Matematično modeliranje (FM-3\, IŠRM-3\, MAT-3\, PM
 -4)\, Vaje (V)\, [1]\nLetniki: 3. letnik (FM)\, 3. letnik (IŠRM)\, 3. let
 nik (M)\, 4. letnik (PM)\nIzvajalci: Timotej Hrga\nProstor: 3.11
LOCATION:3.11
ORGANIZER:Timotej Hrga
RELATED-TO:fmf-AFLABS-URNIK:srecanje:5736
X-WR-TIMEZONE:Europe/Ljubljana
END:VEVENT
BEGIN:VEVENT
SUMMARY:Matematično modeliranje (FM-3\, IŠRM-3\, MAT-3\, PM-4)\, Vaje (V
 )\, [1]
DTSTART;TZID=Europe/Ljubljana:20210331T120000
DTEND;TZID=Europe/Ljubljana:20210331T140000
DTSTAMP:20260423T003448Z
UID:fmf-AFLABS-URNIK:premaknjeno-srecanje:69921
ATTENDEE:3. letnik (FM)
ATTENDEE:3. letnik (IŠRM)
ATTENDEE:3. letnik (M)
ATTENDEE:4. letnik (PM)
CATEGORIES:Entry,Standard
COLOR:darkgreen
DESCRIPTION:Predmet: Matematično modeliranje (FM-3\, IŠRM-3\, MAT-3\, PM
 -4)\, Vaje (V)\, [1]\nLetniki: 3. letnik (FM)\, 3. letnik (IŠRM)\, 3. let
 nik (M)\, 4. letnik (PM)\nIzvajalci: Timotej Hrga\nProstor: 3.11
LOCATION:3.11
ORGANIZER:Timotej Hrga
RELATED-TO:fmf-AFLABS-URNIK:srecanje:5736
X-WR-TIMEZONE:Europe/Ljubljana
END:VEVENT
BEGIN:VEVENT
SUMMARY:Matematično modeliranje (FM-3\, IŠRM-3\, MAT-3\, PM-4)\, Vaje (V
 )\, [1]
DTSTART;TZID=Europe/Ljubljana:20210407T120000
DTEND;TZID=Europe/Ljubljana:20210407T140000
DTSTAMP:20260423T003448Z
UID:fmf-AFLABS-URNIK:premaknjeno-srecanje:69922
ATTENDEE:3. letnik (FM)
ATTENDEE:3. letnik (IŠRM)
ATTENDEE:3. letnik (M)
ATTENDEE:4. letnik (PM)
CATEGORIES:Entry,Standard
COLOR:darkgreen
DESCRIPTION:Predmet: Matematično modeliranje (FM-3\, IŠRM-3\, MAT-3\, PM
 -4)\, Vaje (V)\, [1]\nLetniki: 3. letnik (FM)\, 3. letnik (IŠRM)\, 3. let
 nik (M)\, 4. letnik (PM)\nIzvajalci: Timotej Hrga\nProstor: 3.11
LOCATION:3.11
ORGANIZER:Timotej Hrga
RELATED-TO:fmf-AFLABS-URNIK:srecanje:5736
X-WR-TIMEZONE:Europe/Ljubljana
END:VEVENT
BEGIN:VEVENT
SUMMARY:Matematično modeliranje (FM-3\, IŠRM-3\, MAT-3\, PM-4)\, Vaje (V
 )\, [1]
DTSTART;TZID=Europe/Ljubljana:20210414T120000
DTEND;TZID=Europe/Ljubljana:20210414T140000
DTSTAMP:20260423T003448Z
UID:fmf-AFLABS-URNIK:premaknjeno-srecanje:69923
ATTENDEE:3. letnik (FM)
ATTENDEE:3. letnik (IŠRM)
ATTENDEE:3. letnik (M)
ATTENDEE:4. letnik (PM)
CATEGORIES:Entry,Standard
COLOR:darkgreen
DESCRIPTION:Predmet: Matematično modeliranje (FM-3\, IŠRM-3\, MAT-3\, PM
 -4)\, Vaje (V)\, [1]\nLetniki: 3. letnik (FM)\, 3. letnik (IŠRM)\, 3. let
 nik (M)\, 4. letnik (PM)\nIzvajalci: Timotej Hrga\nProstor: 3.11
LOCATION:3.11
ORGANIZER:Timotej Hrga
RELATED-TO:fmf-AFLABS-URNIK:srecanje:5736
X-WR-TIMEZONE:Europe/Ljubljana
END:VEVENT
BEGIN:VEVENT
SUMMARY:Matematično modeliranje (FM-3\, IŠRM-3\, MAT-3\, PM-4)\, Vaje (V
 )\, [1]
DTSTART;TZID=Europe/Ljubljana:20210421T120000
DTEND;TZID=Europe/Ljubljana:20210421T140000
DTSTAMP:20260423T003448Z
UID:fmf-AFLABS-URNIK:premaknjeno-srecanje:69924
ATTENDEE:3. letnik (FM)
ATTENDEE:3. letnik (IŠRM)
ATTENDEE:3. letnik (M)
ATTENDEE:4. letnik (PM)
CATEGORIES:Entry,Standard
COLOR:darkgreen
DESCRIPTION:Predmet: Matematično modeliranje (FM-3\, IŠRM-3\, MAT-3\, PM
 -4)\, Vaje (V)\, [1]\nLetniki: 3. letnik (FM)\, 3. letnik (IŠRM)\, 3. let
 nik (M)\, 4. letnik (PM)\nIzvajalci: Timotej Hrga\nProstor: 3.11
LOCATION:3.11
ORGANIZER:Timotej Hrga
RELATED-TO:fmf-AFLABS-URNIK:srecanje:5736
X-WR-TIMEZONE:Europe/Ljubljana
END:VEVENT
BEGIN:VEVENT
SUMMARY:Matematično modeliranje (FM-3\, IŠRM-3\, MAT-3\, PM-4)\, Vaje (V
 )\, [1]
DTSTART;TZID=Europe/Ljubljana:20210428T120000
DTEND;TZID=Europe/Ljubljana:20210428T140000
DTSTAMP:20260423T003448Z
UID:fmf-AFLABS-URNIK:premaknjeno-srecanje:69925
ATTENDEE:3. letnik (FM)
ATTENDEE:3. letnik (IŠRM)
ATTENDEE:3. letnik (M)
ATTENDEE:4. letnik (PM)
CATEGORIES:Entry,Standard
COLOR:darkgreen
DESCRIPTION:Predmet: Matematično modeliranje (FM-3\, IŠRM-3\, MAT-3\, PM
 -4)\, Vaje (V)\, [1]\nLetniki: 3. letnik (FM)\, 3. letnik (IŠRM)\, 3. let
 nik (M)\, 4. letnik (PM)\nIzvajalci: Timotej Hrga\nProstor: 3.11
LOCATION:3.11
ORGANIZER:Timotej Hrga
RELATED-TO:fmf-AFLABS-URNIK:srecanje:5736
X-WR-TIMEZONE:Europe/Ljubljana
END:VEVENT
BEGIN:VEVENT
SUMMARY:Matematično modeliranje (FM-3\, IŠRM-3\, MAT-3\, PM-4)\, Vaje (V
 )\, [1]
DTSTART;TZID=Europe/Ljubljana:20210505T120000
DTEND;TZID=Europe/Ljubljana:20210505T140000
DTSTAMP:20260423T003448Z
UID:fmf-AFLABS-URNIK:premaknjeno-srecanje:69926
ATTENDEE:3. letnik (FM)
ATTENDEE:3. letnik (IŠRM)
ATTENDEE:3. letnik (M)
ATTENDEE:4. letnik (PM)
CATEGORIES:Entry,Standard
COLOR:darkgreen
DESCRIPTION:Predmet: Matematično modeliranje (FM-3\, IŠRM-3\, MAT-3\, PM
 -4)\, Vaje (V)\, [1]\nLetniki: 3. letnik (FM)\, 3. letnik (IŠRM)\, 3. let
 nik (M)\, 4. letnik (PM)\nIzvajalci: Timotej Hrga\nProstor: 3.11
LOCATION:3.11
ORGANIZER:Timotej Hrga
RELATED-TO:fmf-AFLABS-URNIK:srecanje:5736
X-WR-TIMEZONE:Europe/Ljubljana
END:VEVENT
BEGIN:VEVENT
SUMMARY:Matematično modeliranje (FM-3\, IŠRM-3\, MAT-3\, PM-4)\, Vaje (V
 )\, [1]
DTSTART;TZID=Europe/Ljubljana:20210512T120000
DTEND;TZID=Europe/Ljubljana:20210512T140000
DTSTAMP:20260423T003448Z
UID:fmf-AFLABS-URNIK:premaknjeno-srecanje:69927
ATTENDEE:3. letnik (FM)
ATTENDEE:3. letnik (IŠRM)
ATTENDEE:3. letnik (M)
ATTENDEE:4. letnik (PM)
CATEGORIES:Entry,Standard
COLOR:darkgreen
DESCRIPTION:Predmet: Matematično modeliranje (FM-3\, IŠRM-3\, MAT-3\, PM
 -4)\, Vaje (V)\, [1]\nLetniki: 3. letnik (FM)\, 3. letnik (IŠRM)\, 3. let
 nik (M)\, 4. letnik (PM)\nIzvajalci: Timotej Hrga\nProstor: 3.11
LOCATION:3.11
ORGANIZER:Timotej Hrga
RELATED-TO:fmf-AFLABS-URNIK:srecanje:5736
X-WR-TIMEZONE:Europe/Ljubljana
END:VEVENT
BEGIN:VEVENT
SUMMARY:Matematično modeliranje (FM-3\, IŠRM-3\, MAT-3\, PM-4)\, Vaje (V
 )\, [1]
DTSTART;TZID=Europe/Ljubljana:20210519T120000
DTEND;TZID=Europe/Ljubljana:20210519T140000
DTSTAMP:20260423T003448Z
UID:fmf-AFLABS-URNIK:premaknjeno-srecanje:69928
ATTENDEE:3. letnik (FM)
ATTENDEE:3. letnik (IŠRM)
ATTENDEE:3. letnik (M)
ATTENDEE:4. letnik (PM)
CATEGORIES:Entry,Standard
COLOR:darkgreen
DESCRIPTION:Predmet: Matematično modeliranje (FM-3\, IŠRM-3\, MAT-3\, PM
 -4)\, Vaje (V)\, [1]\nLetniki: 3. letnik (FM)\, 3. letnik (IŠRM)\, 3. let
 nik (M)\, 4. letnik (PM)\nIzvajalci: Timotej Hrga\nProstor: 3.11
LOCATION:3.11
ORGANIZER:Timotej Hrga
RELATED-TO:fmf-AFLABS-URNIK:srecanje:5736
X-WR-TIMEZONE:Europe/Ljubljana
END:VEVENT
BEGIN:VEVENT
SUMMARY:Matematično modeliranje (FM-3\, IŠRM-3\, MAT-3\, PM-4)\, Vaje (V
 )\, [1]
DTSTART;TZID=Europe/Ljubljana:20210526T120000
DTEND;TZID=Europe/Ljubljana:20210526T140000
DTSTAMP:20260423T003448Z
UID:fmf-AFLABS-URNIK:premaknjeno-srecanje:69929
ATTENDEE:3. letnik (FM)
ATTENDEE:3. letnik (IŠRM)
ATTENDEE:3. letnik (M)
ATTENDEE:4. letnik (PM)
CATEGORIES:Entry,Standard
COLOR:darkgreen
DESCRIPTION:Predmet: Matematično modeliranje (FM-3\, IŠRM-3\, MAT-3\, PM
 -4)\, Vaje (V)\, [1]\nLetniki: 3. letnik (FM)\, 3. letnik (IŠRM)\, 3. let
 nik (M)\, 4. letnik (PM)\nIzvajalci: Timotej Hrga\nProstor: 3.11
LOCATION:3.11
ORGANIZER:Timotej Hrga
RELATED-TO:fmf-AFLABS-URNIK:srecanje:5736
X-WR-TIMEZONE:Europe/Ljubljana
END:VEVENT
END:VCALENDAR
