BEGIN:VCALENDAR
VERSION:2.0
PRODID:-//AFLabs urnik izvoz - fmf//aflabs.si//SI
DTSTAMP:20260424T214742Z
NAME:UL FMF urnik
REFRESH-INTERVAL:PT1H
SOURCE:https://urnik.fmf.uni-lj.si/teacher/465?day=2021-09-06&export=1
URL:https://urnik.fmf.uni-lj.si/teacher/465?day=2021-09-06&export=1
X-PUBLISHED-TTL:PT1H
X-WR-CALNAME:UL FMF urnik
X-WR-TIMEZONE:Europe/Ljubljana
BEGIN:VTIMEZONE
TZID:Europe/Ljubljana
BEGIN:DAYLIGHT
DTSTART:20260329T020000
RDATE:20260329T020000
RDATE:20270328T020000
TZNAME:CEST
TZOFFSETFROM:+0100
TZOFFSETTO:+0200
END:DAYLIGHT
BEGIN:STANDARD
DTSTART:20261025T030000
RDATE:20261025T030000
RDATE:20271031T030000
TZNAME:CET
TZOFFSETFROM:+0200
TZOFFSETTO:+0100
END:STANDARD
END:VTIMEZONE
BEGIN:VEVENT
SUMMARY:Matematika I (APF-1\, APM-1)\, Vaje (V)
DTSTART;TZID=Europe/Ljubljana:20211001T090000
DTEND;TZID=Europe/Ljubljana:20211001T110000
DTSTAMP:20260424T214742Z
UID:fmf-AFLABS-URNIK:premaknjeno-srecanje:64572
ATTENDEE:1. letnik (APM)
ATTENDEE:1. letnik (Aplikativna fizika)
CATEGORIES:Entry,Standard
COLOR:darkgreen
DESCRIPTION:Predmet: Matematika I (APF-1\, APM-1)\, Vaje (V)\nLetniki: 1. 
 letnik (Aplikativna fizika)\, 1. letnik (APM)\nIzvajalci: Timotej Hrga\nPr
 ostor: 2.03
LOCATION:2.03
ORGANIZER:Timotej Hrga
RELATED-TO:fmf-AFLABS-URNIK:srecanje:6410
X-WR-TIMEZONE:Europe/Ljubljana
END:VEVENT
BEGIN:VEVENT
SUMMARY:Matematika I (APF-1\, APM-1)\, Vaje (V)
DTSTART;TZID=Europe/Ljubljana:20211008T090000
DTEND;TZID=Europe/Ljubljana:20211008T110000
DTSTAMP:20260424T214742Z
UID:fmf-AFLABS-URNIK:premaknjeno-srecanje:64573
ATTENDEE:1. letnik (APM)
ATTENDEE:1. letnik (Aplikativna fizika)
CATEGORIES:Entry,Standard
COLOR:darkgreen
DESCRIPTION:Predmet: Matematika I (APF-1\, APM-1)\, Vaje (V)\nLetniki: 1. 
 letnik (Aplikativna fizika)\, 1. letnik (APM)\nIzvajalci: Timotej Hrga\nPr
 ostor: 2.03
LOCATION:2.03
ORGANIZER:Timotej Hrga
RELATED-TO:fmf-AFLABS-URNIK:srecanje:6410
X-WR-TIMEZONE:Europe/Ljubljana
END:VEVENT
BEGIN:VEVENT
SUMMARY:Matematika 2 (APF-2)\, Vaje (V)
DTSTART;TZID=Europe/Ljubljana:20211006T080000
DTEND;TZID=Europe/Ljubljana:20211006T100000
DTSTAMP:20260424T214742Z
UID:fmf-AFLABS-URNIK:premaknjeno-srecanje:65728
ATTENDEE:2. letnik (Aplikativna fizika)
CATEGORIES:Entry,Standard
COLOR:darkgreen
DESCRIPTION:Predmet: Matematika 2 (APF-2)\, Vaje (V)\nLetniki: 2. letnik (
 Aplikativna fizika)\nIzvajalci: Timotej Hrga\nProstor: F5
LOCATION:F5
ORGANIZER:Timotej Hrga
RELATED-TO:fmf-AFLABS-URNIK:srecanje:6416
X-WR-TIMEZONE:Europe/Ljubljana
END:VEVENT
BEGIN:VEVENT
SUMMARY:Matematično izražanje v angleščini (APM-1)\, Vaje (V)
DTSTART;TZID=Europe/Ljubljana:20211006T120000
DTEND;TZID=Europe/Ljubljana:20211006T140000
DTSTAMP:20260424T214742Z
UID:fmf-AFLABS-URNIK:premaknjeno-srecanje:69538
ATTENDEE:1. letnik (APM)
CATEGORIES:Entry,Standard
COLOR:darkgreen
DESCRIPTION:Predmet: Matematično izražanje v angleščini (APM-1)\, Vaje
  (V)\nLetniki: 1. letnik (APM)\nIzvajalci: Timotej Hrga\nProstor: 3.04
LOCATION:3.04
ORGANIZER:Timotej Hrga
RELATED-TO:fmf-AFLABS-URNIK:srecanje:6433
X-WR-TIMEZONE:Europe/Ljubljana
END:VEVENT
BEGIN:VEVENT
SUMMARY:Matematika I (APF-1\, APM-1)\, Vaje (V)
DTSTART;TZID=Europe/Ljubljana:20211007T130000
DTEND;TZID=Europe/Ljubljana:20211007T150000
DTSTAMP:20260424T214742Z
UID:fmf-AFLABS-URNIK:premaknjeno-srecanje:64525
ATTENDEE:1. letnik (APM)
ATTENDEE:1. letnik (Aplikativna fizika)
CATEGORIES:Entry,Standard
COLOR:darkgreen
DESCRIPTION:Predmet: Matematika I (APF-1\, APM-1)\, Vaje (V)\nLetniki: 1. 
 letnik (Aplikativna fizika)\, 1. letnik (APM)\nIzvajalci: Timotej Hrga\nPr
 ostor: P.02
LOCATION:P.02
ORGANIZER:Timotej Hrga
RELATED-TO:fmf-AFLABS-URNIK:srecanje:6409
X-WR-TIMEZONE:Europe/Ljubljana
END:VEVENT
END:VCALENDAR
