BEGIN:VCALENDAR
VERSION:2.0
PRODID:-//AFLabs urnik izvoz - fmf//aflabs.si//SI
DTSTAMP:20260423T071627Z
NAME:UL FMF urnik
REFRESH-INTERVAL:PT1H
SOURCE:https://urnik.fmf.uni-lj.si/teacher/466?day=2023-04-24&export=1
URL:https://urnik.fmf.uni-lj.si/teacher/466?day=2023-04-24&export=1
X-PUBLISHED-TTL:PT1H
X-WR-CALNAME:UL FMF urnik
X-WR-TIMEZONE:Europe/Ljubljana
BEGIN:VTIMEZONE
TZID:Europe/Ljubljana
BEGIN:DAYLIGHT
DTSTART:20260329T020000
RDATE:20260329T020000
RDATE:20270328T020000
TZNAME:CEST
TZOFFSETFROM:+0100
TZOFFSETTO:+0200
END:DAYLIGHT
BEGIN:STANDARD
DTSTART:20261025T030000
RDATE:20261025T030000
RDATE:20271031T030000
TZNAME:CET
TZOFFSETFROM:+0200
TZOFFSETTO:+0100
END:STANDARD
END:VTIMEZONE
BEGIN:VEVENT
SUMMARY:Programiranje 2 (APM-2)\, Predavanja (P)
DTSTART;TZID=Europe/Ljubljana:20230214T140000
DTEND;TZID=Europe/Ljubljana:20230214T160000
DTSTAMP:20260423T071627Z
UID:fmf-AFLABS-URNIK:premaknjeno-srecanje:86822
ATTENDEE:2. letnik (APM)
CATEGORIES:Entry,Standard
COLOR:darkgreen
DESCRIPTION:Predmet: Programiranje 2 (APM-2)\, Predavanja (P)\nLetniki: 2.
  letnik (APM)\nIzvajalci: Lovro Šubelj\nProstor: 3.07
LOCATION:3.07
ORGANIZER:Lovro Šubelj
RELATED-TO:fmf-AFLABS-URNIK:srecanje:8891
X-WR-TIMEZONE:Europe/Ljubljana
END:VEVENT
BEGIN:VEVENT
SUMMARY:Programiranje 2 (APM-2)\, Predavanja (P)
DTSTART;TZID=Europe/Ljubljana:20230221T140000
DTEND;TZID=Europe/Ljubljana:20230221T160000
DTSTAMP:20260423T071627Z
UID:fmf-AFLABS-URNIK:premaknjeno-srecanje:86823
ATTENDEE:2. letnik (APM)
CATEGORIES:Entry,Standard
COLOR:darkgreen
DESCRIPTION:Predmet: Programiranje 2 (APM-2)\, Predavanja (P)\nLetniki: 2.
  letnik (APM)\nIzvajalci: Lovro Šubelj\nProstor: 3.07
LOCATION:3.07
ORGANIZER:Lovro Šubelj
RELATED-TO:fmf-AFLABS-URNIK:srecanje:8891
X-WR-TIMEZONE:Europe/Ljubljana
END:VEVENT
BEGIN:VEVENT
SUMMARY:Programiranje 2 (APM-2)\, Predavanja (P)
DTSTART;TZID=Europe/Ljubljana:20230228T140000
DTEND;TZID=Europe/Ljubljana:20230228T160000
DTSTAMP:20260423T071627Z
UID:fmf-AFLABS-URNIK:premaknjeno-srecanje:86824
ATTENDEE:2. letnik (APM)
CATEGORIES:Entry,Standard
COLOR:darkgreen
DESCRIPTION:Predmet: Programiranje 2 (APM-2)\, Predavanja (P)\nLetniki: 2.
  letnik (APM)\nIzvajalci: Lovro Šubelj\nProstor: 3.07
LOCATION:3.07
ORGANIZER:Lovro Šubelj
RELATED-TO:fmf-AFLABS-URNIK:srecanje:8891
X-WR-TIMEZONE:Europe/Ljubljana
END:VEVENT
BEGIN:VEVENT
SUMMARY:Programiranje 2 (APM-2)\, Predavanja (P)
DTSTART;TZID=Europe/Ljubljana:20230307T140000
DTEND;TZID=Europe/Ljubljana:20230307T160000
DTSTAMP:20260423T071627Z
UID:fmf-AFLABS-URNIK:premaknjeno-srecanje:86825
ATTENDEE:2. letnik (APM)
CATEGORIES:Entry,Standard
COLOR:darkgreen
DESCRIPTION:Predmet: Programiranje 2 (APM-2)\, Predavanja (P)\nLetniki: 2.
  letnik (APM)\nIzvajalci: Lovro Šubelj\nProstor: 3.07
LOCATION:3.07
ORGANIZER:Lovro Šubelj
RELATED-TO:fmf-AFLABS-URNIK:srecanje:8891
X-WR-TIMEZONE:Europe/Ljubljana
END:VEVENT
BEGIN:VEVENT
SUMMARY:Programiranje 2 (APM-2)\, Predavanja (P)
DTSTART;TZID=Europe/Ljubljana:20230314T140000
DTEND;TZID=Europe/Ljubljana:20230314T160000
DTSTAMP:20260423T071627Z
UID:fmf-AFLABS-URNIK:premaknjeno-srecanje:86826
ATTENDEE:2. letnik (APM)
CATEGORIES:Entry,Standard
COLOR:darkgreen
DESCRIPTION:Predmet: Programiranje 2 (APM-2)\, Predavanja (P)\nLetniki: 2.
  letnik (APM)\nIzvajalci: Lovro Šubelj\nProstor: 3.07
LOCATION:3.07
ORGANIZER:Lovro Šubelj
RELATED-TO:fmf-AFLABS-URNIK:srecanje:8891
X-WR-TIMEZONE:Europe/Ljubljana
END:VEVENT
BEGIN:VEVENT
SUMMARY:Programiranje 2 (APM-2)\, Predavanja (P)
DTSTART;TZID=Europe/Ljubljana:20230321T140000
DTEND;TZID=Europe/Ljubljana:20230321T160000
DTSTAMP:20260423T071627Z
UID:fmf-AFLABS-URNIK:premaknjeno-srecanje:86827
ATTENDEE:2. letnik (APM)
CATEGORIES:Entry,Standard
COLOR:darkgreen
DESCRIPTION:Predmet: Programiranje 2 (APM-2)\, Predavanja (P)\nLetniki: 2.
  letnik (APM)\nIzvajalci: Lovro Šubelj\nProstor: 3.07
LOCATION:3.07
ORGANIZER:Lovro Šubelj
RELATED-TO:fmf-AFLABS-URNIK:srecanje:8891
X-WR-TIMEZONE:Europe/Ljubljana
END:VEVENT
BEGIN:VEVENT
SUMMARY:Programiranje 2 (APM-2)\, Predavanja (P)
DTSTART;TZID=Europe/Ljubljana:20230328T140000
DTEND;TZID=Europe/Ljubljana:20230328T160000
DTSTAMP:20260423T071627Z
UID:fmf-AFLABS-URNIK:premaknjeno-srecanje:86828
ATTENDEE:2. letnik (APM)
CATEGORIES:Entry,Standard
COLOR:darkgreen
DESCRIPTION:Predmet: Programiranje 2 (APM-2)\, Predavanja (P)\nLetniki: 2.
  letnik (APM)\nIzvajalci: Lovro Šubelj\nProstor: 3.07
LOCATION:3.07
ORGANIZER:Lovro Šubelj
RELATED-TO:fmf-AFLABS-URNIK:srecanje:8891
X-WR-TIMEZONE:Europe/Ljubljana
END:VEVENT
BEGIN:VEVENT
SUMMARY:Programiranje 2 (APM-2)\, Predavanja (P)
DTSTART;TZID=Europe/Ljubljana:20230404T140000
DTEND;TZID=Europe/Ljubljana:20230404T160000
DTSTAMP:20260423T071627Z
UID:fmf-AFLABS-URNIK:premaknjeno-srecanje:86829
ATTENDEE:2. letnik (APM)
CATEGORIES:Entry,Standard
COLOR:darkgreen
DESCRIPTION:Predmet: Programiranje 2 (APM-2)\, Predavanja (P)\nLetniki: 2.
  letnik (APM)\nIzvajalci: Lovro Šubelj\nProstor: 3.07
LOCATION:3.07
ORGANIZER:Lovro Šubelj
RELATED-TO:fmf-AFLABS-URNIK:srecanje:8891
X-WR-TIMEZONE:Europe/Ljubljana
END:VEVENT
BEGIN:VEVENT
SUMMARY:Programiranje 2 (APM-2)\, Predavanja (P)
DTSTART;TZID=Europe/Ljubljana:20230411T140000
DTEND;TZID=Europe/Ljubljana:20230411T160000
DTSTAMP:20260423T071627Z
UID:fmf-AFLABS-URNIK:premaknjeno-srecanje:86830
ATTENDEE:2. letnik (APM)
CATEGORIES:Entry,Standard
COLOR:darkgreen
DESCRIPTION:Predmet: Programiranje 2 (APM-2)\, Predavanja (P)\nLetniki: 2.
  letnik (APM)\nIzvajalci: Lovro Šubelj\nProstor: 3.07
LOCATION:3.07
ORGANIZER:Lovro Šubelj
RELATED-TO:fmf-AFLABS-URNIK:srecanje:8891
X-WR-TIMEZONE:Europe/Ljubljana
END:VEVENT
BEGIN:VEVENT
SUMMARY:Programiranje 2 (APM-2)\, Predavanja (P)
DTSTART;TZID=Europe/Ljubljana:20230418T140000
DTEND;TZID=Europe/Ljubljana:20230418T160000
DTSTAMP:20260423T071627Z
UID:fmf-AFLABS-URNIK:premaknjeno-srecanje:86831
ATTENDEE:2. letnik (APM)
CATEGORIES:Entry,Standard
COLOR:darkgreen
DESCRIPTION:Predmet: Programiranje 2 (APM-2)\, Predavanja (P)\nLetniki: 2.
  letnik (APM)\nIzvajalci: Lovro Šubelj\nProstor: 3.07
LOCATION:3.07
ORGANIZER:Lovro Šubelj
RELATED-TO:fmf-AFLABS-URNIK:srecanje:8891
X-WR-TIMEZONE:Europe/Ljubljana
END:VEVENT
BEGIN:VEVENT
SUMMARY:Programiranje 2 (APM-2)\, Predavanja (P)
DTSTART;TZID=Europe/Ljubljana:20230425T140000
DTEND;TZID=Europe/Ljubljana:20230425T160000
DTSTAMP:20260423T071627Z
UID:fmf-AFLABS-URNIK:premaknjeno-srecanje:86832
ATTENDEE:2. letnik (APM)
CATEGORIES:Entry,Standard
COLOR:darkgreen
DESCRIPTION:Predmet: Programiranje 2 (APM-2)\, Predavanja (P)\nLetniki: 2.
  letnik (APM)\nIzvajalci: Lovro Šubelj\nProstor: 3.07
LOCATION:3.07
ORGANIZER:Lovro Šubelj
RELATED-TO:fmf-AFLABS-URNIK:srecanje:8891
X-WR-TIMEZONE:Europe/Ljubljana
END:VEVENT
BEGIN:VEVENT
SUMMARY:Programiranje 2 (APM-2)\, Predavanja (P)
DTSTART;TZID=Europe/Ljubljana:20230502T140000
DTEND;TZID=Europe/Ljubljana:20230502T160000
DTSTAMP:20260423T071627Z
UID:fmf-AFLABS-URNIK:premaknjeno-srecanje:86833
ATTENDEE:2. letnik (APM)
CATEGORIES:Entry,Standard
COLOR:darkgreen
DESCRIPTION:Predmet: Programiranje 2 (APM-2)\, Predavanja (P)\nLetniki: 2.
  letnik (APM)\nIzvajalci: Lovro Šubelj\nProstor: 3.07
LOCATION:3.07
ORGANIZER:Lovro Šubelj
RELATED-TO:fmf-AFLABS-URNIK:srecanje:8891
X-WR-TIMEZONE:Europe/Ljubljana
END:VEVENT
BEGIN:VEVENT
SUMMARY:Programiranje 2 (APM-2)\, Predavanja (P)
DTSTART;TZID=Europe/Ljubljana:20230509T140000
DTEND;TZID=Europe/Ljubljana:20230509T160000
DTSTAMP:20260423T071627Z
UID:fmf-AFLABS-URNIK:premaknjeno-srecanje:86834
ATTENDEE:2. letnik (APM)
CATEGORIES:Entry,Standard
COLOR:darkgreen
DESCRIPTION:Predmet: Programiranje 2 (APM-2)\, Predavanja (P)\nLetniki: 2.
  letnik (APM)\nIzvajalci: Lovro Šubelj\nProstor: 3.07
LOCATION:3.07
ORGANIZER:Lovro Šubelj
RELATED-TO:fmf-AFLABS-URNIK:srecanje:8891
X-WR-TIMEZONE:Europe/Ljubljana
END:VEVENT
BEGIN:VEVENT
SUMMARY:Programiranje 2 (APM-2)\, Predavanja (P)
DTSTART;TZID=Europe/Ljubljana:20230516T140000
DTEND;TZID=Europe/Ljubljana:20230516T160000
DTSTAMP:20260423T071627Z
UID:fmf-AFLABS-URNIK:premaknjeno-srecanje:86835
ATTENDEE:2. letnik (APM)
CATEGORIES:Entry,Standard
COLOR:darkgreen
DESCRIPTION:Predmet: Programiranje 2 (APM-2)\, Predavanja (P)\nLetniki: 2.
  letnik (APM)\nIzvajalci: Lovro Šubelj\nProstor: 3.07
LOCATION:3.07
ORGANIZER:Lovro Šubelj
RELATED-TO:fmf-AFLABS-URNIK:srecanje:8891
X-WR-TIMEZONE:Europe/Ljubljana
END:VEVENT
BEGIN:VEVENT
SUMMARY:Programiranje 2 (APM-2)\, Predavanja (P)
DTSTART;TZID=Europe/Ljubljana:20230523T140000
DTEND;TZID=Europe/Ljubljana:20230523T160000
DTSTAMP:20260423T071627Z
UID:fmf-AFLABS-URNIK:premaknjeno-srecanje:86836
ATTENDEE:2. letnik (APM)
CATEGORIES:Entry,Standard
COLOR:darkgreen
DESCRIPTION:Predmet: Programiranje 2 (APM-2)\, Predavanja (P)\nLetniki: 2.
  letnik (APM)\nIzvajalci: Lovro Šubelj\nProstor: 3.07
LOCATION:3.07
ORGANIZER:Lovro Šubelj
RELATED-TO:fmf-AFLABS-URNIK:srecanje:8891
X-WR-TIMEZONE:Europe/Ljubljana
END:VEVENT
BEGIN:VEVENT
SUMMARY:Programiranje 2 (APM-2)\, Predavanja (P)
DTSTART;TZID=Europe/Ljubljana:20230530T140000
DTEND;TZID=Europe/Ljubljana:20230530T160000
DTSTAMP:20260423T071627Z
UID:fmf-AFLABS-URNIK:premaknjeno-srecanje:86837
ATTENDEE:2. letnik (APM)
CATEGORIES:Entry,Standard
COLOR:darkgreen
DESCRIPTION:Predmet: Programiranje 2 (APM-2)\, Predavanja (P)\nLetniki: 2.
  letnik (APM)\nIzvajalci: Lovro Šubelj\nProstor: 3.07
LOCATION:3.07
ORGANIZER:Lovro Šubelj
RELATED-TO:fmf-AFLABS-URNIK:srecanje:8891
X-WR-TIMEZONE:Europe/Ljubljana
END:VEVENT
END:VCALENDAR
