BEGIN:VCALENDAR
VERSION:2.0
PRODID:-//AFLabs urnik izvoz - fmf//aflabs.si//SI
DTSTAMP:20260420T213022Z
NAME:UL FMF urnik
REFRESH-INTERVAL:PT1H
SOURCE:https://urnik.fmf.uni-lj.si/teacher/46?day=2022-07-04&export=1
URL:https://urnik.fmf.uni-lj.si/teacher/46?day=2022-07-04&export=1
X-PUBLISHED-TTL:PT1H
X-WR-CALNAME:UL FMF urnik
X-WR-TIMEZONE:Europe/Ljubljana
BEGIN:VTIMEZONE
TZID:Europe/Ljubljana
BEGIN:DAYLIGHT
DTSTART:20260329T020000
RDATE:20260329T020000
RDATE:20270328T020000
TZNAME:CEST
TZOFFSETFROM:+0100
TZOFFSETTO:+0200
END:DAYLIGHT
BEGIN:STANDARD
DTSTART:20261025T030000
RDATE:20261025T030000
RDATE:20271031T030000
TZNAME:CET
TZOFFSETFROM:+0200
TZOFFSETTO:+0100
END:STANDARD
END:VTIMEZONE
BEGIN:VEVENT
SUMMARY:Rezervacija
DTSTART;TZID=Europe/Ljubljana:20220609T100000
DTEND;TZID=Europe/Ljubljana:20220609T120000
DTSTAMP:20260420T213022Z
UID:fmf-AFLABS-URNIK:rezervacija:9257
ATTENDEE:doktorski študij (M)
CATEGORIES:Reservation
COLOR:royalblue
DESCRIPTION:Predmeti: Seminar za temelje (MAT-D)\nLetniki: doktorski štud
 ij (M)\nIzvajalci: Andrej Bauer\nProstori: 3.07
LOCATION:3.07
ORGANIZER:Andrej Bauer
X-WR-TIMEZONE:Europe/Ljubljana
END:VEVENT
BEGIN:VEVENT
SUMMARY:Rezervacija
DTSTART;TZID=Europe/Ljubljana:20220609T140000
DTEND;TZID=Europe/Ljubljana:20220609T170000
DTSTAMP:20260420T213022Z
UID:fmf-AFLABS-URNIK:rezervacija:9261
ATTENDEE:5. letnik (PM)
ATTENDEE:doktorski študij (M)
ATTENDEE:magistrski študij (FM)
ATTENDEE:magistrski študij (IŠRM)
ATTENDEE:magistrski študij (M)
CATEGORIES:Reservation
COLOR:royalblue
DESCRIPTION:Predmeti: Izbrana poglavja iz računalniške matematike (MAT-D
 )\, Izbrana poglavja iz računalniške matematike / Logika v računalništ
 vu (FM-M\, IŠRM-M\, MAT-M\, PM-5)\nLetniki: magistrski študij (FM)\, mag
 istrski študij (IŠRM)\, doktorski študij (M)\, magistrski študij (M)\,
  5. letnik (PM)\nIzvajalci: Andrej Bauer\nProstori: P.02
LOCATION:P.02
ORGANIZER:Andrej Bauer
X-WR-TIMEZONE:Europe/Ljubljana
END:VEVENT
BEGIN:VEVENT
SUMMARY:Rezervacija
DTSTART;TZID=Europe/Ljubljana:20220616T100000
DTEND;TZID=Europe/Ljubljana:20220616T120000
DTSTAMP:20260420T213022Z
UID:fmf-AFLABS-URNIK:rezervacija:9367
ATTENDEE:doktorski študij (M)
CATEGORIES:Reservation
COLOR:royalblue
DESCRIPTION:Predmeti: Seminar za temelje (MAT-D)\nLetniki: doktorski štud
 ij (M)\nIzvajalci: Andrej Bauer\nProstori: 3.05
LOCATION:3.05
ORGANIZER:Andrej Bauer
X-WR-TIMEZONE:Europe/Ljubljana
END:VEVENT
BEGIN:VEVENT
SUMMARY:Rezervacija
DTSTART;TZID=Europe/Ljubljana:20220623T100000
DTEND;TZID=Europe/Ljubljana:20220623T120000
DTSTAMP:20260420T213022Z
UID:fmf-AFLABS-URNIK:rezervacija:9483
ATTENDEE:doktorski študij (M)
CATEGORIES:Reservation
COLOR:royalblue
DESCRIPTION:Predmeti: Seminar za temelje (MAT-D)\nLetniki: doktorski štud
 ij (M)\nIzvajalci: Andrej Bauer\nProstori: 3.07
LOCATION:3.07
ORGANIZER:Andrej Bauer
X-WR-TIMEZONE:Europe/Ljubljana
END:VEVENT
END:VCALENDAR
