BEGIN:VCALENDAR
VERSION:2.0
PRODID:-//AFLabs urnik izvoz - fmf//aflabs.si//SI
DTSTAMP:20260426T031751Z
NAME:UL FMF urnik
REFRESH-INTERVAL:PT1H
SOURCE:https://urnik.fmf.uni-lj.si/teacher/470?day=2020-10-05&export=1
URL:https://urnik.fmf.uni-lj.si/teacher/470?day=2020-10-05&export=1
X-PUBLISHED-TTL:PT1H
X-WR-CALNAME:UL FMF urnik
X-WR-TIMEZONE:Europe/Ljubljana
BEGIN:VTIMEZONE
TZID:Europe/Ljubljana
BEGIN:DAYLIGHT
DTSTART:20260329T020000
RDATE:20260329T020000
RDATE:20270328T020000
TZNAME:CEST
TZOFFSETFROM:+0100
TZOFFSETTO:+0200
END:DAYLIGHT
BEGIN:STANDARD
DTSTART:20261025T030000
RDATE:20261025T030000
RDATE:20271031T030000
TZNAME:CET
TZOFFSETFROM:+0200
TZOFFSETTO:+0100
END:STANDARD
END:VTIMEZONE
BEGIN:VEVENT
SUMMARY:Fizikalna oceanografija (FIZ-M1\, FIZ-M2)\, Vaje (V)
DTSTART;TZID=Europe/Ljubljana:20201007T170000
DTEND;TZID=Europe/Ljubljana:20201007T190000
DTSTAMP:20260426T031751Z
UID:fmf-AFLABS-URNIK:premaknjeno-srecanje:33421
ATTENDEE:1. letnik (Fizika, 2. stopnja)
ATTENDEE:2. letnik (Fizika, 2. stopnja)
CATEGORIES:Entry,Standard
COLOR:darkgreen
DESCRIPTION:Predmet: Fizikalna oceanografija (FIZ-M1\, FIZ-M2)\, Vaje (V)\
 nLetniki: 1. letnik (Fizika\, 2. stopnja)\, 2. letnik (Fizika\, 2. stopnja
 )\nIzvajalci: Matjaž Ličer\nProstor: F4
LOCATION:F4
ORGANIZER:Matjaž Ličer
RELATED-TO:fmf-AFLABS-URNIK:srecanje:5330
X-WR-TIMEZONE:Europe/Ljubljana
END:VEVENT
BEGIN:VEVENT
SUMMARY:Fizikalna oceanografija (FIZ-M1\, FIZ-M2)\, Vaje (V)
DTSTART;TZID=Europe/Ljubljana:20201014T170000
DTEND;TZID=Europe/Ljubljana:20201014T190000
DTSTAMP:20260426T031751Z
UID:fmf-AFLABS-URNIK:premaknjeno-srecanje:33422
ATTENDEE:1. letnik (Fizika, 2. stopnja)
ATTENDEE:2. letnik (Fizika, 2. stopnja)
CATEGORIES:Entry,Standard
COLOR:darkgreen
DESCRIPTION:Predmet: Fizikalna oceanografija (FIZ-M1\, FIZ-M2)\, Vaje (V)\
 nLetniki: 1. letnik (Fizika\, 2. stopnja)\, 2. letnik (Fizika\, 2. stopnja
 )\nIzvajalci: Matjaž Ličer\nProstor: F4
LOCATION:F4
ORGANIZER:Matjaž Ličer
RELATED-TO:fmf-AFLABS-URNIK:srecanje:5330
X-WR-TIMEZONE:Europe/Ljubljana
END:VEVENT
BEGIN:VEVENT
SUMMARY:Fizikalna oceanografija (FIZ-M1\, FIZ-M2)\, Vaje (V)
DTSTART;TZID=Europe/Ljubljana:20201021T170000
DTEND;TZID=Europe/Ljubljana:20201021T190000
DTSTAMP:20260426T031751Z
UID:fmf-AFLABS-URNIK:premaknjeno-srecanje:33423
ATTENDEE:1. letnik (Fizika, 2. stopnja)
ATTENDEE:2. letnik (Fizika, 2. stopnja)
CATEGORIES:Entry,Standard
COLOR:darkgreen
DESCRIPTION:Predmet: Fizikalna oceanografija (FIZ-M1\, FIZ-M2)\, Vaje (V)\
 nLetniki: 1. letnik (Fizika\, 2. stopnja)\, 2. letnik (Fizika\, 2. stopnja
 )\nIzvajalci: Matjaž Ličer\nProstor: F4
LOCATION:F4
ORGANIZER:Matjaž Ličer
RELATED-TO:fmf-AFLABS-URNIK:srecanje:5330
X-WR-TIMEZONE:Europe/Ljubljana
END:VEVENT
BEGIN:VEVENT
SUMMARY:Fizikalna oceanografija (FIZ-M1\, FIZ-M2)\, Vaje (V)
DTSTART;TZID=Europe/Ljubljana:20201028T170000
DTEND;TZID=Europe/Ljubljana:20201028T190000
DTSTAMP:20260426T031751Z
UID:fmf-AFLABS-URNIK:premaknjeno-srecanje:33424
ATTENDEE:1. letnik (Fizika, 2. stopnja)
ATTENDEE:2. letnik (Fizika, 2. stopnja)
CATEGORIES:Entry,Standard
COLOR:darkgreen
DESCRIPTION:Predmet: Fizikalna oceanografija (FIZ-M1\, FIZ-M2)\, Vaje (V)\
 nLetniki: 1. letnik (Fizika\, 2. stopnja)\, 2. letnik (Fizika\, 2. stopnja
 )\nIzvajalci: Matjaž Ličer\nProstor: F4
LOCATION:F4
ORGANIZER:Matjaž Ličer
RELATED-TO:fmf-AFLABS-URNIK:srecanje:5330
X-WR-TIMEZONE:Europe/Ljubljana
END:VEVENT
BEGIN:VEVENT
SUMMARY:Fizikalna oceanografija (FIZ-M1\, FIZ-M2)\, Vaje (V)
DTSTART;TZID=Europe/Ljubljana:20201104T170000
DTEND;TZID=Europe/Ljubljana:20201104T190000
DTSTAMP:20260426T031751Z
UID:fmf-AFLABS-URNIK:premaknjeno-srecanje:33425
ATTENDEE:1. letnik (Fizika, 2. stopnja)
ATTENDEE:2. letnik (Fizika, 2. stopnja)
CATEGORIES:Entry,Standard
COLOR:darkgreen
DESCRIPTION:Predmet: Fizikalna oceanografija (FIZ-M1\, FIZ-M2)\, Vaje (V)\
 nLetniki: 1. letnik (Fizika\, 2. stopnja)\, 2. letnik (Fizika\, 2. stopnja
 )\nIzvajalci: Matjaž Ličer\nProstor: F4
LOCATION:F4
ORGANIZER:Matjaž Ličer
RELATED-TO:fmf-AFLABS-URNIK:srecanje:5330
X-WR-TIMEZONE:Europe/Ljubljana
END:VEVENT
BEGIN:VEVENT
SUMMARY:Fizikalna oceanografija (FIZ-M1\, FIZ-M2)\, Vaje (V)
DTSTART;TZID=Europe/Ljubljana:20201111T170000
DTEND;TZID=Europe/Ljubljana:20201111T190000
DTSTAMP:20260426T031751Z
UID:fmf-AFLABS-URNIK:premaknjeno-srecanje:33426
ATTENDEE:1. letnik (Fizika, 2. stopnja)
ATTENDEE:2. letnik (Fizika, 2. stopnja)
CATEGORIES:Entry,Standard
COLOR:darkgreen
DESCRIPTION:Predmet: Fizikalna oceanografija (FIZ-M1\, FIZ-M2)\, Vaje (V)\
 nLetniki: 1. letnik (Fizika\, 2. stopnja)\, 2. letnik (Fizika\, 2. stopnja
 )\nIzvajalci: Matjaž Ličer\nProstor: F4
LOCATION:F4
ORGANIZER:Matjaž Ličer
RELATED-TO:fmf-AFLABS-URNIK:srecanje:5330
X-WR-TIMEZONE:Europe/Ljubljana
END:VEVENT
BEGIN:VEVENT
SUMMARY:Fizikalna oceanografija (FIZ-M1\, FIZ-M2)\, Vaje (V)
DTSTART;TZID=Europe/Ljubljana:20201118T170000
DTEND;TZID=Europe/Ljubljana:20201118T190000
DTSTAMP:20260426T031751Z
UID:fmf-AFLABS-URNIK:premaknjeno-srecanje:33427
ATTENDEE:1. letnik (Fizika, 2. stopnja)
ATTENDEE:2. letnik (Fizika, 2. stopnja)
CATEGORIES:Entry,Standard
COLOR:darkgreen
DESCRIPTION:Predmet: Fizikalna oceanografija (FIZ-M1\, FIZ-M2)\, Vaje (V)\
 nLetniki: 1. letnik (Fizika\, 2. stopnja)\, 2. letnik (Fizika\, 2. stopnja
 )\nIzvajalci: Matjaž Ličer\nProstor: F4
LOCATION:F4
ORGANIZER:Matjaž Ličer
RELATED-TO:fmf-AFLABS-URNIK:srecanje:5330
X-WR-TIMEZONE:Europe/Ljubljana
END:VEVENT
BEGIN:VEVENT
SUMMARY:Fizikalna oceanografija (FIZ-M1\, FIZ-M2)\, Vaje (V)
DTSTART;TZID=Europe/Ljubljana:20201125T170000
DTEND;TZID=Europe/Ljubljana:20201125T190000
DTSTAMP:20260426T031751Z
UID:fmf-AFLABS-URNIK:premaknjeno-srecanje:33428
ATTENDEE:1. letnik (Fizika, 2. stopnja)
ATTENDEE:2. letnik (Fizika, 2. stopnja)
CATEGORIES:Entry,Standard
COLOR:darkgreen
DESCRIPTION:Predmet: Fizikalna oceanografija (FIZ-M1\, FIZ-M2)\, Vaje (V)\
 nLetniki: 1. letnik (Fizika\, 2. stopnja)\, 2. letnik (Fizika\, 2. stopnja
 )\nIzvajalci: Matjaž Ličer\nProstor: F4
LOCATION:F4
ORGANIZER:Matjaž Ličer
RELATED-TO:fmf-AFLABS-URNIK:srecanje:5330
X-WR-TIMEZONE:Europe/Ljubljana
END:VEVENT
BEGIN:VEVENT
SUMMARY:Fizikalna oceanografija (FIZ-M1\, FIZ-M2)\, Vaje (V)
DTSTART;TZID=Europe/Ljubljana:20201202T170000
DTEND;TZID=Europe/Ljubljana:20201202T190000
DTSTAMP:20260426T031751Z
UID:fmf-AFLABS-URNIK:premaknjeno-srecanje:33429
ATTENDEE:1. letnik (Fizika, 2. stopnja)
ATTENDEE:2. letnik (Fizika, 2. stopnja)
CATEGORIES:Entry,Standard
COLOR:darkgreen
DESCRIPTION:Predmet: Fizikalna oceanografija (FIZ-M1\, FIZ-M2)\, Vaje (V)\
 nLetniki: 1. letnik (Fizika\, 2. stopnja)\, 2. letnik (Fizika\, 2. stopnja
 )\nIzvajalci: Matjaž Ličer\nProstor: F4
LOCATION:F4
ORGANIZER:Matjaž Ličer
RELATED-TO:fmf-AFLABS-URNIK:srecanje:5330
X-WR-TIMEZONE:Europe/Ljubljana
END:VEVENT
BEGIN:VEVENT
SUMMARY:Fizikalna oceanografija (FIZ-M1\, FIZ-M2)\, Vaje (V)
DTSTART;TZID=Europe/Ljubljana:20201209T170000
DTEND;TZID=Europe/Ljubljana:20201209T190000
DTSTAMP:20260426T031751Z
UID:fmf-AFLABS-URNIK:premaknjeno-srecanje:33430
ATTENDEE:1. letnik (Fizika, 2. stopnja)
ATTENDEE:2. letnik (Fizika, 2. stopnja)
CATEGORIES:Entry,Standard
COLOR:darkgreen
DESCRIPTION:Predmet: Fizikalna oceanografija (FIZ-M1\, FIZ-M2)\, Vaje (V)\
 nLetniki: 1. letnik (Fizika\, 2. stopnja)\, 2. letnik (Fizika\, 2. stopnja
 )\nIzvajalci: Matjaž Ličer\nProstor: F4
LOCATION:F4
ORGANIZER:Matjaž Ličer
RELATED-TO:fmf-AFLABS-URNIK:srecanje:5330
X-WR-TIMEZONE:Europe/Ljubljana
END:VEVENT
BEGIN:VEVENT
SUMMARY:Fizikalna oceanografija (FIZ-M1\, FIZ-M2)\, Vaje (V)
DTSTART;TZID=Europe/Ljubljana:20201216T170000
DTEND;TZID=Europe/Ljubljana:20201216T190000
DTSTAMP:20260426T031751Z
UID:fmf-AFLABS-URNIK:premaknjeno-srecanje:33431
ATTENDEE:1. letnik (Fizika, 2. stopnja)
ATTENDEE:2. letnik (Fizika, 2. stopnja)
CATEGORIES:Entry,Standard
COLOR:darkgreen
DESCRIPTION:Predmet: Fizikalna oceanografija (FIZ-M1\, FIZ-M2)\, Vaje (V)\
 nLetniki: 1. letnik (Fizika\, 2. stopnja)\, 2. letnik (Fizika\, 2. stopnja
 )\nIzvajalci: Matjaž Ličer\nProstor: F4
LOCATION:F4
ORGANIZER:Matjaž Ličer
RELATED-TO:fmf-AFLABS-URNIK:srecanje:5330
X-WR-TIMEZONE:Europe/Ljubljana
END:VEVENT
BEGIN:VEVENT
SUMMARY:Fizikalna oceanografija (FIZ-M1\, FIZ-M2)\, Vaje (V)
DTSTART;TZID=Europe/Ljubljana:20201223T170000
DTEND;TZID=Europe/Ljubljana:20201223T190000
DTSTAMP:20260426T031751Z
UID:fmf-AFLABS-URNIK:premaknjeno-srecanje:33432
ATTENDEE:1. letnik (Fizika, 2. stopnja)
ATTENDEE:2. letnik (Fizika, 2. stopnja)
CATEGORIES:Entry,Standard
COLOR:darkgreen
DESCRIPTION:Predmet: Fizikalna oceanografija (FIZ-M1\, FIZ-M2)\, Vaje (V)\
 nLetniki: 1. letnik (Fizika\, 2. stopnja)\, 2. letnik (Fizika\, 2. stopnja
 )\nIzvajalci: Matjaž Ličer\nProstor: F4
LOCATION:F4
ORGANIZER:Matjaž Ličer
RELATED-TO:fmf-AFLABS-URNIK:srecanje:5330
X-WR-TIMEZONE:Europe/Ljubljana
END:VEVENT
BEGIN:VEVENT
SUMMARY:Fizikalna oceanografija (FIZ-M1\, FIZ-M2)\, Vaje (V)
DTSTART;TZID=Europe/Ljubljana:20201230T170000
DTEND;TZID=Europe/Ljubljana:20201230T190000
DTSTAMP:20260426T031751Z
UID:fmf-AFLABS-URNIK:premaknjeno-srecanje:33433
ATTENDEE:1. letnik (Fizika, 2. stopnja)
ATTENDEE:2. letnik (Fizika, 2. stopnja)
CATEGORIES:Entry,Standard
COLOR:darkgreen
DESCRIPTION:Predmet: Fizikalna oceanografija (FIZ-M1\, FIZ-M2)\, Vaje (V)\
 nLetniki: 1. letnik (Fizika\, 2. stopnja)\, 2. letnik (Fizika\, 2. stopnja
 )\nIzvajalci: Matjaž Ličer\nProstor: F4
LOCATION:F4
ORGANIZER:Matjaž Ličer
RELATED-TO:fmf-AFLABS-URNIK:srecanje:5330
X-WR-TIMEZONE:Europe/Ljubljana
END:VEVENT
BEGIN:VEVENT
SUMMARY:Fizikalna oceanografija (FIZ-M1\, FIZ-M2)\, Vaje (V)
DTSTART;TZID=Europe/Ljubljana:20210106T170000
DTEND;TZID=Europe/Ljubljana:20210106T190000
DTSTAMP:20260426T031751Z
UID:fmf-AFLABS-URNIK:premaknjeno-srecanje:33434
ATTENDEE:1. letnik (Fizika, 2. stopnja)
ATTENDEE:2. letnik (Fizika, 2. stopnja)
CATEGORIES:Entry,Standard
COLOR:darkgreen
DESCRIPTION:Predmet: Fizikalna oceanografija (FIZ-M1\, FIZ-M2)\, Vaje (V)\
 nLetniki: 1. letnik (Fizika\, 2. stopnja)\, 2. letnik (Fizika\, 2. stopnja
 )\nIzvajalci: Matjaž Ličer\nProstor: F4
LOCATION:F4
ORGANIZER:Matjaž Ličer
RELATED-TO:fmf-AFLABS-URNIK:srecanje:5330
X-WR-TIMEZONE:Europe/Ljubljana
END:VEVENT
BEGIN:VEVENT
SUMMARY:Fizikalna oceanografija (FIZ-M1\, FIZ-M2)\, Vaje (V)
DTSTART;TZID=Europe/Ljubljana:20210113T170000
DTEND;TZID=Europe/Ljubljana:20210113T190000
DTSTAMP:20260426T031751Z
UID:fmf-AFLABS-URNIK:premaknjeno-srecanje:33435
ATTENDEE:1. letnik (Fizika, 2. stopnja)
ATTENDEE:2. letnik (Fizika, 2. stopnja)
CATEGORIES:Entry,Standard
COLOR:darkgreen
DESCRIPTION:Predmet: Fizikalna oceanografija (FIZ-M1\, FIZ-M2)\, Vaje (V)\
 nLetniki: 1. letnik (Fizika\, 2. stopnja)\, 2. letnik (Fizika\, 2. stopnja
 )\nIzvajalci: Matjaž Ličer\nProstor: F4
LOCATION:F4
ORGANIZER:Matjaž Ličer
RELATED-TO:fmf-AFLABS-URNIK:srecanje:5330
X-WR-TIMEZONE:Europe/Ljubljana
END:VEVENT
END:VCALENDAR
