BEGIN:VCALENDAR
VERSION:2.0
PRODID:-//AFLabs urnik izvoz - fmf//aflabs.si//SI
DTSTAMP:20260420T052015Z
NAME:UL FMF urnik
REFRESH-INTERVAL:PT1H
SOURCE:https://urnik.fmf.uni-lj.si/teacher/470?day=2023-07-24&export=1
URL:https://urnik.fmf.uni-lj.si/teacher/470?day=2023-07-24&export=1
X-PUBLISHED-TTL:PT1H
X-WR-CALNAME:UL FMF urnik
X-WR-TIMEZONE:Europe/Ljubljana
BEGIN:VTIMEZONE
TZID:Europe/Ljubljana
BEGIN:DAYLIGHT
DTSTART:20260329T020000
RDATE:20260329T020000
RDATE:20270328T020000
TZNAME:CEST
TZOFFSETFROM:+0100
TZOFFSETTO:+0200
END:DAYLIGHT
BEGIN:STANDARD
DTSTART:20261025T030000
RDATE:20261025T030000
RDATE:20271031T030000
TZNAME:CET
TZOFFSETFROM:+0200
TZOFFSETTO:+0100
END:STANDARD
END:VTIMEZONE
BEGIN:VEVENT
SUMMARY:Rezervacija
DTSTART;TZID=Europe/Ljubljana:20230619T150000
DTEND;TZID=Europe/Ljubljana:20230619T170000
DTSTAMP:20260420T052015Z
UID:fmf-AFLABS-URNIK:rezervacija:12299
ATTENDEE:1. letnik (Fizika, 2. stopnja)
ATTENDEE:2. letnik (Fizika, 2. stopnja)
CATEGORIES:Reservation
COLOR:royalblue
DESCRIPTION:Predmeti: Fizikalna oceanografija (FIZ-M1\, FIZ-M2)\nLetniki: 
 1. letnik (Fizika\, 2. stopnja)\, 2. letnik (Fizika\, 2. stopnja)\nIzvajal
 ci: Matjaž Ličer\nProstori: F4
LOCATION:F4
ORGANIZER:Matjaž Ličer
X-WR-TIMEZONE:Europe/Ljubljana
END:VEVENT
BEGIN:VEVENT
SUMMARY:Rezervacija
DTSTART;TZID=Europe/Ljubljana:20230622T150000
DTEND;TZID=Europe/Ljubljana:20230622T170000
DTSTAMP:20260420T052015Z
UID:fmf-AFLABS-URNIK:rezervacija:12371
ATTENDEE:1. letnik (Fizika, 2. stopnja)
ATTENDEE:2. letnik (Fizika, 2. stopnja)
CATEGORIES:Reservation
COLOR:royalblue
DESCRIPTION:Predmeti: Fizikalna oceanografija (FIZ-M1\, FIZ-M2)\nLetniki: 
 1. letnik (Fizika\, 2. stopnja)\, 2. letnik (Fizika\, 2. stopnja)\nIzvajal
 ci: Matjaž Ličer\nProstori: F4
LOCATION:F4
ORGANIZER:Matjaž Ličer
X-WR-TIMEZONE:Europe/Ljubljana
END:VEVENT
BEGIN:VEVENT
SUMMARY:Rezervacija
DTSTART;TZID=Europe/Ljubljana:20230628T150000
DTEND;TZID=Europe/Ljubljana:20230628T170000
DTSTAMP:20260420T052015Z
UID:fmf-AFLABS-URNIK:rezervacija:12556
ATTENDEE:1. letnik (Fizika, 2. stopnja)
ATTENDEE:2. letnik (Fizika, 2. stopnja)
CATEGORIES:Reservation
COLOR:royalblue
DESCRIPTION:Predmeti: Fizikalna oceanografija (FIZ-M1\, FIZ-M2)\nLetniki: 
 1. letnik (Fizika\, 2. stopnja)\, 2. letnik (Fizika\, 2. stopnja)\nIzvajal
 ci: Matjaž Ličer\nProstori: F4
LOCATION:F4
ORGANIZER:Matjaž Ličer
X-WR-TIMEZONE:Europe/Ljubljana
END:VEVENT
END:VCALENDAR
