BEGIN:VCALENDAR
VERSION:2.0
PRODID:-//AFLabs urnik izvoz - fmf//aflabs.si//SI
DTSTAMP:20260422T221657Z
NAME:UL FMF urnik
REFRESH-INTERVAL:PT1H
SOURCE:https://urnik.fmf.uni-lj.si/teacher/473?day=2023-04-10&export=1
URL:https://urnik.fmf.uni-lj.si/teacher/473?day=2023-04-10&export=1
X-PUBLISHED-TTL:PT1H
X-WR-CALNAME:UL FMF urnik
X-WR-TIMEZONE:Europe/Ljubljana
BEGIN:VTIMEZONE
TZID:Europe/Ljubljana
BEGIN:DAYLIGHT
DTSTART:20260329T020000
RDATE:20260329T020000
RDATE:20270328T020000
TZNAME:CEST
TZOFFSETFROM:+0100
TZOFFSETTO:+0200
END:DAYLIGHT
BEGIN:STANDARD
DTSTART:20261025T030000
RDATE:20261025T030000
RDATE:20271031T030000
TZNAME:CET
TZOFFSETFROM:+0200
TZOFFSETTO:+0100
END:STANDARD
END:VTIMEZONE
BEGIN:VEVENT
SUMMARY:Molekularna biofizika (FIZ-M1)\, Predavanja (P)
DTSTART;TZID=Europe/Ljubljana:20230213T090000
DTEND;TZID=Europe/Ljubljana:20230213T120000
DTSTAMP:20260422T221657Z
UID:fmf-AFLABS-URNIK:premaknjeno-srecanje:75051
ATTENDEE:1. letnik (Fizika, 2. stopnja)
CATEGORIES:Entry,Standard
COLOR:darkgreen
DESCRIPTION:Predmet: Molekularna biofizika (FIZ-M1)\, Predavanja (P)\nLetn
 iki: 1. letnik (Fizika\, 2. stopnja)\nIzvajalci: Matej Praprotnik\nProstor
 : F7
LOCATION:F7
ORGANIZER:Matej Praprotnik
RELATED-TO:fmf-AFLABS-URNIK:srecanje:8571
X-WR-TIMEZONE:Europe/Ljubljana
END:VEVENT
BEGIN:VEVENT
SUMMARY:Molekularna biofizika (FIZ-M1)\, Predavanja (P)
DTSTART;TZID=Europe/Ljubljana:20230220T090000
DTEND;TZID=Europe/Ljubljana:20230220T120000
DTSTAMP:20260422T221657Z
UID:fmf-AFLABS-URNIK:premaknjeno-srecanje:75052
ATTENDEE:1. letnik (Fizika, 2. stopnja)
CATEGORIES:Entry,Standard
COLOR:darkgreen
DESCRIPTION:Predmet: Molekularna biofizika (FIZ-M1)\, Predavanja (P)\nLetn
 iki: 1. letnik (Fizika\, 2. stopnja)\nIzvajalci: Matej Praprotnik\nProstor
 : F7
LOCATION:F7
ORGANIZER:Matej Praprotnik
RELATED-TO:fmf-AFLABS-URNIK:srecanje:8571
X-WR-TIMEZONE:Europe/Ljubljana
END:VEVENT
BEGIN:VEVENT
SUMMARY:Molekularna biofizika (FIZ-M1)\, Predavanja (P)
DTSTART;TZID=Europe/Ljubljana:20230227T090000
DTEND;TZID=Europe/Ljubljana:20230227T120000
DTSTAMP:20260422T221657Z
UID:fmf-AFLABS-URNIK:premaknjeno-srecanje:75053
ATTENDEE:1. letnik (Fizika, 2. stopnja)
CATEGORIES:Entry,Standard
COLOR:darkgreen
DESCRIPTION:Predmet: Molekularna biofizika (FIZ-M1)\, Predavanja (P)\nLetn
 iki: 1. letnik (Fizika\, 2. stopnja)\nIzvajalci: Matej Praprotnik\nProstor
 : F7
LOCATION:F7
ORGANIZER:Matej Praprotnik
RELATED-TO:fmf-AFLABS-URNIK:srecanje:8571
X-WR-TIMEZONE:Europe/Ljubljana
END:VEVENT
BEGIN:VEVENT
SUMMARY:Molekularna biofizika (FIZ-M1)\, Predavanja (P)
DTSTART;TZID=Europe/Ljubljana:20230306T090000
DTEND;TZID=Europe/Ljubljana:20230306T120000
DTSTAMP:20260422T221657Z
UID:fmf-AFLABS-URNIK:premaknjeno-srecanje:75054
ATTENDEE:1. letnik (Fizika, 2. stopnja)
CATEGORIES:Entry,Standard
COLOR:darkgreen
DESCRIPTION:Predmet: Molekularna biofizika (FIZ-M1)\, Predavanja (P)\nLetn
 iki: 1. letnik (Fizika\, 2. stopnja)\nIzvajalci: Matej Praprotnik\nProstor
 : F7
LOCATION:F7
ORGANIZER:Matej Praprotnik
RELATED-TO:fmf-AFLABS-URNIK:srecanje:8571
X-WR-TIMEZONE:Europe/Ljubljana
END:VEVENT
BEGIN:VEVENT
SUMMARY:Molekularna biofizika (FIZ-M1)\, Predavanja (P)
DTSTART;TZID=Europe/Ljubljana:20230313T090000
DTEND;TZID=Europe/Ljubljana:20230313T120000
DTSTAMP:20260422T221657Z
UID:fmf-AFLABS-URNIK:premaknjeno-srecanje:75055
ATTENDEE:1. letnik (Fizika, 2. stopnja)
CATEGORIES:Entry,Standard
COLOR:darkgreen
DESCRIPTION:Predmet: Molekularna biofizika (FIZ-M1)\, Predavanja (P)\nLetn
 iki: 1. letnik (Fizika\, 2. stopnja)\nIzvajalci: Matej Praprotnik\nProstor
 : F7
LOCATION:F7
ORGANIZER:Matej Praprotnik
RELATED-TO:fmf-AFLABS-URNIK:srecanje:8571
X-WR-TIMEZONE:Europe/Ljubljana
END:VEVENT
BEGIN:VEVENT
SUMMARY:Molekularna biofizika (FIZ-M1)\, Predavanja (P)
DTSTART;TZID=Europe/Ljubljana:20230320T090000
DTEND;TZID=Europe/Ljubljana:20230320T120000
DTSTAMP:20260422T221657Z
UID:fmf-AFLABS-URNIK:premaknjeno-srecanje:75056
ATTENDEE:1. letnik (Fizika, 2. stopnja)
CATEGORIES:Entry,Standard
COLOR:darkgreen
DESCRIPTION:Predmet: Molekularna biofizika (FIZ-M1)\, Predavanja (P)\nLetn
 iki: 1. letnik (Fizika\, 2. stopnja)\nIzvajalci: Matej Praprotnik\nProstor
 : F7
LOCATION:F7
ORGANIZER:Matej Praprotnik
RELATED-TO:fmf-AFLABS-URNIK:srecanje:8571
X-WR-TIMEZONE:Europe/Ljubljana
END:VEVENT
BEGIN:VEVENT
SUMMARY:Molekularna biofizika (FIZ-M1)\, Predavanja (P)
DTSTART;TZID=Europe/Ljubljana:20230327T090000
DTEND;TZID=Europe/Ljubljana:20230327T120000
DTSTAMP:20260422T221657Z
UID:fmf-AFLABS-URNIK:premaknjeno-srecanje:75057
ATTENDEE:1. letnik (Fizika, 2. stopnja)
CATEGORIES:Entry,Standard
COLOR:darkgreen
DESCRIPTION:Predmet: Molekularna biofizika (FIZ-M1)\, Predavanja (P)\nLetn
 iki: 1. letnik (Fizika\, 2. stopnja)\nIzvajalci: Matej Praprotnik\nProstor
 : F7
LOCATION:F7
ORGANIZER:Matej Praprotnik
RELATED-TO:fmf-AFLABS-URNIK:srecanje:8571
X-WR-TIMEZONE:Europe/Ljubljana
END:VEVENT
BEGIN:VEVENT
SUMMARY:Molekularna biofizika (FIZ-M1)\, Predavanja (P)
DTSTART;TZID=Europe/Ljubljana:20230403T090000
DTEND;TZID=Europe/Ljubljana:20230403T120000
DTSTAMP:20260422T221657Z
UID:fmf-AFLABS-URNIK:premaknjeno-srecanje:75058
ATTENDEE:1. letnik (Fizika, 2. stopnja)
CATEGORIES:Entry,Standard
COLOR:darkgreen
DESCRIPTION:Predmet: Molekularna biofizika (FIZ-M1)\, Predavanja (P)\nLetn
 iki: 1. letnik (Fizika\, 2. stopnja)\nIzvajalci: Matej Praprotnik\nProstor
 : F7
LOCATION:F7
ORGANIZER:Matej Praprotnik
RELATED-TO:fmf-AFLABS-URNIK:srecanje:8571
X-WR-TIMEZONE:Europe/Ljubljana
END:VEVENT
BEGIN:VEVENT
SUMMARY:Molekularna biofizika (FIZ-M1)\, Predavanja (P)
DTSTART;TZID=Europe/Ljubljana:20230410T090000
DTEND;TZID=Europe/Ljubljana:20230410T120000
DTSTAMP:20260422T221657Z
UID:fmf-AFLABS-URNIK:premaknjeno-srecanje:75059
ATTENDEE:1. letnik (Fizika, 2. stopnja)
CATEGORIES:Entry,Standard
COLOR:darkgreen
DESCRIPTION:Predmet: Molekularna biofizika (FIZ-M1)\, Predavanja (P)\nLetn
 iki: 1. letnik (Fizika\, 2. stopnja)\nIzvajalci: Matej Praprotnik\nProstor
 : F7
LOCATION:F7
ORGANIZER:Matej Praprotnik
RELATED-TO:fmf-AFLABS-URNIK:srecanje:8571
X-WR-TIMEZONE:Europe/Ljubljana
END:VEVENT
BEGIN:VEVENT
SUMMARY:Molekularna biofizika (FIZ-M1)\, Predavanja (P)
DTSTART;TZID=Europe/Ljubljana:20230417T090000
DTEND;TZID=Europe/Ljubljana:20230417T120000
DTSTAMP:20260422T221657Z
UID:fmf-AFLABS-URNIK:premaknjeno-srecanje:75060
ATTENDEE:1. letnik (Fizika, 2. stopnja)
CATEGORIES:Entry,Standard
COLOR:darkgreen
DESCRIPTION:Predmet: Molekularna biofizika (FIZ-M1)\, Predavanja (P)\nLetn
 iki: 1. letnik (Fizika\, 2. stopnja)\nIzvajalci: Matej Praprotnik\nProstor
 : F7
LOCATION:F7
ORGANIZER:Matej Praprotnik
RELATED-TO:fmf-AFLABS-URNIK:srecanje:8571
X-WR-TIMEZONE:Europe/Ljubljana
END:VEVENT
BEGIN:VEVENT
SUMMARY:Molekularna biofizika (FIZ-M1)\, Predavanja (P)
DTSTART;TZID=Europe/Ljubljana:20230424T090000
DTEND;TZID=Europe/Ljubljana:20230424T120000
DTSTAMP:20260422T221657Z
UID:fmf-AFLABS-URNIK:premaknjeno-srecanje:75061
ATTENDEE:1. letnik (Fizika, 2. stopnja)
CATEGORIES:Entry,Standard
COLOR:darkgreen
DESCRIPTION:Predmet: Molekularna biofizika (FIZ-M1)\, Predavanja (P)\nLetn
 iki: 1. letnik (Fizika\, 2. stopnja)\nIzvajalci: Matej Praprotnik\nProstor
 : F7
LOCATION:F7
ORGANIZER:Matej Praprotnik
RELATED-TO:fmf-AFLABS-URNIK:srecanje:8571
X-WR-TIMEZONE:Europe/Ljubljana
END:VEVENT
BEGIN:VEVENT
SUMMARY:Molekularna biofizika (FIZ-M1)\, Predavanja (P)
DTSTART;TZID=Europe/Ljubljana:20230501T090000
DTEND;TZID=Europe/Ljubljana:20230501T120000
DTSTAMP:20260422T221657Z
UID:fmf-AFLABS-URNIK:premaknjeno-srecanje:75062
ATTENDEE:1. letnik (Fizika, 2. stopnja)
CATEGORIES:Entry,Standard
COLOR:darkgreen
DESCRIPTION:Predmet: Molekularna biofizika (FIZ-M1)\, Predavanja (P)\nLetn
 iki: 1. letnik (Fizika\, 2. stopnja)\nIzvajalci: Matej Praprotnik\nProstor
 : F7
LOCATION:F7
ORGANIZER:Matej Praprotnik
RELATED-TO:fmf-AFLABS-URNIK:srecanje:8571
X-WR-TIMEZONE:Europe/Ljubljana
END:VEVENT
BEGIN:VEVENT
SUMMARY:Molekularna biofizika (FIZ-M1)\, Predavanja (P)
DTSTART;TZID=Europe/Ljubljana:20230508T090000
DTEND;TZID=Europe/Ljubljana:20230508T120000
DTSTAMP:20260422T221657Z
UID:fmf-AFLABS-URNIK:premaknjeno-srecanje:75063
ATTENDEE:1. letnik (Fizika, 2. stopnja)
CATEGORIES:Entry,Standard
COLOR:darkgreen
DESCRIPTION:Predmet: Molekularna biofizika (FIZ-M1)\, Predavanja (P)\nLetn
 iki: 1. letnik (Fizika\, 2. stopnja)\nIzvajalci: Matej Praprotnik\nProstor
 : F7
LOCATION:F7
ORGANIZER:Matej Praprotnik
RELATED-TO:fmf-AFLABS-URNIK:srecanje:8571
X-WR-TIMEZONE:Europe/Ljubljana
END:VEVENT
BEGIN:VEVENT
SUMMARY:Molekularna biofizika (FIZ-M1)\, Predavanja (P)
DTSTART;TZID=Europe/Ljubljana:20230515T090000
DTEND;TZID=Europe/Ljubljana:20230515T120000
DTSTAMP:20260422T221657Z
UID:fmf-AFLABS-URNIK:premaknjeno-srecanje:75064
ATTENDEE:1. letnik (Fizika, 2. stopnja)
CATEGORIES:Entry,Standard
COLOR:darkgreen
DESCRIPTION:Predmet: Molekularna biofizika (FIZ-M1)\, Predavanja (P)\nLetn
 iki: 1. letnik (Fizika\, 2. stopnja)\nIzvajalci: Matej Praprotnik\nProstor
 : F7
LOCATION:F7
ORGANIZER:Matej Praprotnik
RELATED-TO:fmf-AFLABS-URNIK:srecanje:8571
X-WR-TIMEZONE:Europe/Ljubljana
END:VEVENT
BEGIN:VEVENT
SUMMARY:Molekularna biofizika (FIZ-M1)\, Predavanja (P)
DTSTART;TZID=Europe/Ljubljana:20230522T090000
DTEND;TZID=Europe/Ljubljana:20230522T120000
DTSTAMP:20260422T221657Z
UID:fmf-AFLABS-URNIK:premaknjeno-srecanje:75065
ATTENDEE:1. letnik (Fizika, 2. stopnja)
CATEGORIES:Entry,Standard
COLOR:darkgreen
DESCRIPTION:Predmet: Molekularna biofizika (FIZ-M1)\, Predavanja (P)\nLetn
 iki: 1. letnik (Fizika\, 2. stopnja)\nIzvajalci: Matej Praprotnik\nProstor
 : F7
LOCATION:F7
ORGANIZER:Matej Praprotnik
RELATED-TO:fmf-AFLABS-URNIK:srecanje:8571
X-WR-TIMEZONE:Europe/Ljubljana
END:VEVENT
BEGIN:VEVENT
SUMMARY:Molekularna biofizika (FIZ-M1)\, Predavanja (P)
DTSTART;TZID=Europe/Ljubljana:20230529T090000
DTEND;TZID=Europe/Ljubljana:20230529T120000
DTSTAMP:20260422T221657Z
UID:fmf-AFLABS-URNIK:premaknjeno-srecanje:75066
ATTENDEE:1. letnik (Fizika, 2. stopnja)
CATEGORIES:Entry,Standard
COLOR:darkgreen
DESCRIPTION:Predmet: Molekularna biofizika (FIZ-M1)\, Predavanja (P)\nLetn
 iki: 1. letnik (Fizika\, 2. stopnja)\nIzvajalci: Matej Praprotnik\nProstor
 : F7
LOCATION:F7
ORGANIZER:Matej Praprotnik
RELATED-TO:fmf-AFLABS-URNIK:srecanje:8571
X-WR-TIMEZONE:Europe/Ljubljana
END:VEVENT
BEGIN:VEVENT
SUMMARY:Molekularna biofizika (FIZ-M1)\, Vaje (V)
DTSTART;TZID=Europe/Ljubljana:20230213T120000
DTEND;TZID=Europe/Ljubljana:20230213T130000
DTSTAMP:20260422T221657Z
UID:fmf-AFLABS-URNIK:premaknjeno-srecanje:75159
ATTENDEE:1. letnik (Fizika, 2. stopnja)
CATEGORIES:Entry,Standard
COLOR:darkgreen
DESCRIPTION:Predmet: Molekularna biofizika (FIZ-M1)\, Vaje (V)\nLetniki: 1
 . letnik (Fizika\, 2. stopnja)\nIzvajalci: Matej Praprotnik\nProstor: F7
LOCATION:F7
ORGANIZER:Matej Praprotnik
RELATED-TO:fmf-AFLABS-URNIK:srecanje:8572
X-WR-TIMEZONE:Europe/Ljubljana
END:VEVENT
BEGIN:VEVENT
SUMMARY:Molekularna biofizika (FIZ-M1)\, Vaje (V)
DTSTART;TZID=Europe/Ljubljana:20230220T120000
DTEND;TZID=Europe/Ljubljana:20230220T130000
DTSTAMP:20260422T221657Z
UID:fmf-AFLABS-URNIK:premaknjeno-srecanje:75160
ATTENDEE:1. letnik (Fizika, 2. stopnja)
CATEGORIES:Entry,Standard
COLOR:darkgreen
DESCRIPTION:Predmet: Molekularna biofizika (FIZ-M1)\, Vaje (V)\nLetniki: 1
 . letnik (Fizika\, 2. stopnja)\nIzvajalci: Matej Praprotnik\nProstor: F7
LOCATION:F7
ORGANIZER:Matej Praprotnik
RELATED-TO:fmf-AFLABS-URNIK:srecanje:8572
X-WR-TIMEZONE:Europe/Ljubljana
END:VEVENT
BEGIN:VEVENT
SUMMARY:Molekularna biofizika (FIZ-M1)\, Vaje (V)
DTSTART;TZID=Europe/Ljubljana:20230227T120000
DTEND;TZID=Europe/Ljubljana:20230227T130000
DTSTAMP:20260422T221657Z
UID:fmf-AFLABS-URNIK:premaknjeno-srecanje:75161
ATTENDEE:1. letnik (Fizika, 2. stopnja)
CATEGORIES:Entry,Standard
COLOR:darkgreen
DESCRIPTION:Predmet: Molekularna biofizika (FIZ-M1)\, Vaje (V)\nLetniki: 1
 . letnik (Fizika\, 2. stopnja)\nIzvajalci: Matej Praprotnik\nProstor: F7
LOCATION:F7
ORGANIZER:Matej Praprotnik
RELATED-TO:fmf-AFLABS-URNIK:srecanje:8572
X-WR-TIMEZONE:Europe/Ljubljana
END:VEVENT
BEGIN:VEVENT
SUMMARY:Molekularna biofizika (FIZ-M1)\, Vaje (V)
DTSTART;TZID=Europe/Ljubljana:20230306T120000
DTEND;TZID=Europe/Ljubljana:20230306T130000
DTSTAMP:20260422T221657Z
UID:fmf-AFLABS-URNIK:premaknjeno-srecanje:75162
ATTENDEE:1. letnik (Fizika, 2. stopnja)
CATEGORIES:Entry,Standard
COLOR:darkgreen
DESCRIPTION:Predmet: Molekularna biofizika (FIZ-M1)\, Vaje (V)\nLetniki: 1
 . letnik (Fizika\, 2. stopnja)\nIzvajalci: Matej Praprotnik\nProstor: F7
LOCATION:F7
ORGANIZER:Matej Praprotnik
RELATED-TO:fmf-AFLABS-URNIK:srecanje:8572
X-WR-TIMEZONE:Europe/Ljubljana
END:VEVENT
BEGIN:VEVENT
SUMMARY:Molekularna biofizika (FIZ-M1)\, Vaje (V)
DTSTART;TZID=Europe/Ljubljana:20230313T120000
DTEND;TZID=Europe/Ljubljana:20230313T130000
DTSTAMP:20260422T221657Z
UID:fmf-AFLABS-URNIK:premaknjeno-srecanje:75163
ATTENDEE:1. letnik (Fizika, 2. stopnja)
CATEGORIES:Entry,Standard
COLOR:darkgreen
DESCRIPTION:Predmet: Molekularna biofizika (FIZ-M1)\, Vaje (V)\nLetniki: 1
 . letnik (Fizika\, 2. stopnja)\nIzvajalci: Matej Praprotnik\nProstor: F7
LOCATION:F7
ORGANIZER:Matej Praprotnik
RELATED-TO:fmf-AFLABS-URNIK:srecanje:8572
X-WR-TIMEZONE:Europe/Ljubljana
END:VEVENT
BEGIN:VEVENT
SUMMARY:Molekularna biofizika (FIZ-M1)\, Vaje (V)
DTSTART;TZID=Europe/Ljubljana:20230320T120000
DTEND;TZID=Europe/Ljubljana:20230320T130000
DTSTAMP:20260422T221657Z
UID:fmf-AFLABS-URNIK:premaknjeno-srecanje:75164
ATTENDEE:1. letnik (Fizika, 2. stopnja)
CATEGORIES:Entry,Standard
COLOR:darkgreen
DESCRIPTION:Predmet: Molekularna biofizika (FIZ-M1)\, Vaje (V)\nLetniki: 1
 . letnik (Fizika\, 2. stopnja)\nIzvajalci: Matej Praprotnik\nProstor: F7
LOCATION:F7
ORGANIZER:Matej Praprotnik
RELATED-TO:fmf-AFLABS-URNIK:srecanje:8572
X-WR-TIMEZONE:Europe/Ljubljana
END:VEVENT
BEGIN:VEVENT
SUMMARY:Molekularna biofizika (FIZ-M1)\, Vaje (V)
DTSTART;TZID=Europe/Ljubljana:20230327T120000
DTEND;TZID=Europe/Ljubljana:20230327T130000
DTSTAMP:20260422T221657Z
UID:fmf-AFLABS-URNIK:premaknjeno-srecanje:75165
ATTENDEE:1. letnik (Fizika, 2. stopnja)
CATEGORIES:Entry,Standard
COLOR:darkgreen
DESCRIPTION:Predmet: Molekularna biofizika (FIZ-M1)\, Vaje (V)\nLetniki: 1
 . letnik (Fizika\, 2. stopnja)\nIzvajalci: Matej Praprotnik\nProstor: F7
LOCATION:F7
ORGANIZER:Matej Praprotnik
RELATED-TO:fmf-AFLABS-URNIK:srecanje:8572
X-WR-TIMEZONE:Europe/Ljubljana
END:VEVENT
BEGIN:VEVENT
SUMMARY:Molekularna biofizika (FIZ-M1)\, Vaje (V)
DTSTART;TZID=Europe/Ljubljana:20230403T120000
DTEND;TZID=Europe/Ljubljana:20230403T130000
DTSTAMP:20260422T221657Z
UID:fmf-AFLABS-URNIK:premaknjeno-srecanje:75166
ATTENDEE:1. letnik (Fizika, 2. stopnja)
CATEGORIES:Entry,Standard
COLOR:darkgreen
DESCRIPTION:Predmet: Molekularna biofizika (FIZ-M1)\, Vaje (V)\nLetniki: 1
 . letnik (Fizika\, 2. stopnja)\nIzvajalci: Matej Praprotnik\nProstor: F7
LOCATION:F7
ORGANIZER:Matej Praprotnik
RELATED-TO:fmf-AFLABS-URNIK:srecanje:8572
X-WR-TIMEZONE:Europe/Ljubljana
END:VEVENT
BEGIN:VEVENT
SUMMARY:Molekularna biofizika (FIZ-M1)\, Vaje (V)
DTSTART;TZID=Europe/Ljubljana:20230410T120000
DTEND;TZID=Europe/Ljubljana:20230410T130000
DTSTAMP:20260422T221657Z
UID:fmf-AFLABS-URNIK:premaknjeno-srecanje:75167
ATTENDEE:1. letnik (Fizika, 2. stopnja)
CATEGORIES:Entry,Standard
COLOR:darkgreen
DESCRIPTION:Predmet: Molekularna biofizika (FIZ-M1)\, Vaje (V)\nLetniki: 1
 . letnik (Fizika\, 2. stopnja)\nIzvajalci: Matej Praprotnik\nProstor: F7
LOCATION:F7
ORGANIZER:Matej Praprotnik
RELATED-TO:fmf-AFLABS-URNIK:srecanje:8572
X-WR-TIMEZONE:Europe/Ljubljana
END:VEVENT
BEGIN:VEVENT
SUMMARY:Molekularna biofizika (FIZ-M1)\, Vaje (V)
DTSTART;TZID=Europe/Ljubljana:20230417T120000
DTEND;TZID=Europe/Ljubljana:20230417T130000
DTSTAMP:20260422T221657Z
UID:fmf-AFLABS-URNIK:premaknjeno-srecanje:75168
ATTENDEE:1. letnik (Fizika, 2. stopnja)
CATEGORIES:Entry,Standard
COLOR:darkgreen
DESCRIPTION:Predmet: Molekularna biofizika (FIZ-M1)\, Vaje (V)\nLetniki: 1
 . letnik (Fizika\, 2. stopnja)\nIzvajalci: Matej Praprotnik\nProstor: F7
LOCATION:F7
ORGANIZER:Matej Praprotnik
RELATED-TO:fmf-AFLABS-URNIK:srecanje:8572
X-WR-TIMEZONE:Europe/Ljubljana
END:VEVENT
BEGIN:VEVENT
SUMMARY:Molekularna biofizika (FIZ-M1)\, Vaje (V)
DTSTART;TZID=Europe/Ljubljana:20230424T120000
DTEND;TZID=Europe/Ljubljana:20230424T130000
DTSTAMP:20260422T221657Z
UID:fmf-AFLABS-URNIK:premaknjeno-srecanje:75169
ATTENDEE:1. letnik (Fizika, 2. stopnja)
CATEGORIES:Entry,Standard
COLOR:darkgreen
DESCRIPTION:Predmet: Molekularna biofizika (FIZ-M1)\, Vaje (V)\nLetniki: 1
 . letnik (Fizika\, 2. stopnja)\nIzvajalci: Matej Praprotnik\nProstor: F7
LOCATION:F7
ORGANIZER:Matej Praprotnik
RELATED-TO:fmf-AFLABS-URNIK:srecanje:8572
X-WR-TIMEZONE:Europe/Ljubljana
END:VEVENT
BEGIN:VEVENT
SUMMARY:Molekularna biofizika (FIZ-M1)\, Vaje (V)
DTSTART;TZID=Europe/Ljubljana:20230501T120000
DTEND;TZID=Europe/Ljubljana:20230501T130000
DTSTAMP:20260422T221657Z
UID:fmf-AFLABS-URNIK:premaknjeno-srecanje:75170
ATTENDEE:1. letnik (Fizika, 2. stopnja)
CATEGORIES:Entry,Standard
COLOR:darkgreen
DESCRIPTION:Predmet: Molekularna biofizika (FIZ-M1)\, Vaje (V)\nLetniki: 1
 . letnik (Fizika\, 2. stopnja)\nIzvajalci: Matej Praprotnik\nProstor: F7
LOCATION:F7
ORGANIZER:Matej Praprotnik
RELATED-TO:fmf-AFLABS-URNIK:srecanje:8572
X-WR-TIMEZONE:Europe/Ljubljana
END:VEVENT
BEGIN:VEVENT
SUMMARY:Molekularna biofizika (FIZ-M1)\, Vaje (V)
DTSTART;TZID=Europe/Ljubljana:20230508T120000
DTEND;TZID=Europe/Ljubljana:20230508T130000
DTSTAMP:20260422T221657Z
UID:fmf-AFLABS-URNIK:premaknjeno-srecanje:75171
ATTENDEE:1. letnik (Fizika, 2. stopnja)
CATEGORIES:Entry,Standard
COLOR:darkgreen
DESCRIPTION:Predmet: Molekularna biofizika (FIZ-M1)\, Vaje (V)\nLetniki: 1
 . letnik (Fizika\, 2. stopnja)\nIzvajalci: Matej Praprotnik\nProstor: F7
LOCATION:F7
ORGANIZER:Matej Praprotnik
RELATED-TO:fmf-AFLABS-URNIK:srecanje:8572
X-WR-TIMEZONE:Europe/Ljubljana
END:VEVENT
BEGIN:VEVENT
SUMMARY:Molekularna biofizika (FIZ-M1)\, Vaje (V)
DTSTART;TZID=Europe/Ljubljana:20230515T120000
DTEND;TZID=Europe/Ljubljana:20230515T130000
DTSTAMP:20260422T221657Z
UID:fmf-AFLABS-URNIK:premaknjeno-srecanje:75172
ATTENDEE:1. letnik (Fizika, 2. stopnja)
CATEGORIES:Entry,Standard
COLOR:darkgreen
DESCRIPTION:Predmet: Molekularna biofizika (FIZ-M1)\, Vaje (V)\nLetniki: 1
 . letnik (Fizika\, 2. stopnja)\nIzvajalci: Matej Praprotnik\nProstor: F7
LOCATION:F7
ORGANIZER:Matej Praprotnik
RELATED-TO:fmf-AFLABS-URNIK:srecanje:8572
X-WR-TIMEZONE:Europe/Ljubljana
END:VEVENT
BEGIN:VEVENT
SUMMARY:Molekularna biofizika (FIZ-M1)\, Vaje (V)
DTSTART;TZID=Europe/Ljubljana:20230522T120000
DTEND;TZID=Europe/Ljubljana:20230522T130000
DTSTAMP:20260422T221657Z
UID:fmf-AFLABS-URNIK:premaknjeno-srecanje:75173
ATTENDEE:1. letnik (Fizika, 2. stopnja)
CATEGORIES:Entry,Standard
COLOR:darkgreen
DESCRIPTION:Predmet: Molekularna biofizika (FIZ-M1)\, Vaje (V)\nLetniki: 1
 . letnik (Fizika\, 2. stopnja)\nIzvajalci: Matej Praprotnik\nProstor: F7
LOCATION:F7
ORGANIZER:Matej Praprotnik
RELATED-TO:fmf-AFLABS-URNIK:srecanje:8572
X-WR-TIMEZONE:Europe/Ljubljana
END:VEVENT
BEGIN:VEVENT
SUMMARY:Molekularna biofizika (FIZ-M1)\, Vaje (V)
DTSTART;TZID=Europe/Ljubljana:20230529T120000
DTEND;TZID=Europe/Ljubljana:20230529T130000
DTSTAMP:20260422T221657Z
UID:fmf-AFLABS-URNIK:premaknjeno-srecanje:75174
ATTENDEE:1. letnik (Fizika, 2. stopnja)
CATEGORIES:Entry,Standard
COLOR:darkgreen
DESCRIPTION:Predmet: Molekularna biofizika (FIZ-M1)\, Vaje (V)\nLetniki: 1
 . letnik (Fizika\, 2. stopnja)\nIzvajalci: Matej Praprotnik\nProstor: F7
LOCATION:F7
ORGANIZER:Matej Praprotnik
RELATED-TO:fmf-AFLABS-URNIK:srecanje:8572
X-WR-TIMEZONE:Europe/Ljubljana
END:VEVENT
END:VCALENDAR
