BEGIN:VCALENDAR
VERSION:2.0
PRODID:-//AFLabs urnik izvoz - fmf//aflabs.si//SI
DTSTAMP:20260421T153219Z
NAME:UL FMF urnik
REFRESH-INTERVAL:PT1H
SOURCE:https://urnik.fmf.uni-lj.si/teacher/479?day=2020-04-06&export=1
URL:https://urnik.fmf.uni-lj.si/teacher/479?day=2020-04-06&export=1
X-PUBLISHED-TTL:PT1H
X-WR-CALNAME:UL FMF urnik
X-WR-TIMEZONE:Europe/Ljubljana
BEGIN:VTIMEZONE
TZID:Europe/Ljubljana
BEGIN:DAYLIGHT
DTSTART:20260329T020000
RDATE:20260329T020000
RDATE:20270328T020000
TZNAME:CEST
TZOFFSETFROM:+0100
TZOFFSETTO:+0200
END:DAYLIGHT
BEGIN:STANDARD
DTSTART:20261025T030000
RDATE:20261025T030000
RDATE:20271031T030000
TZNAME:CET
TZOFFSETFROM:+0200
TZOFFSETTO:+0100
END:STANDARD
END:VTIMEZONE
BEGIN:VEVENT
SUMMARY:Fizika in tehnika fuzijskih reaktorjev (JET-1\, JET-2)\, Vaje (V)
DTSTART;TZID=Europe/Ljubljana:20200218T100000
DTEND;TZID=Europe/Ljubljana:20200218T120000
DTSTAMP:20260421T153219Z
UID:fmf-AFLABS-URNIK:premaknjeno-srecanje:30957
ATTENDEE:1. letnik (Jedrska tehnika, 2. stopnja)
ATTENDEE:2. letnik (Jedrska tehnika, 2. stopnja)
CATEGORIES:Entry,Standard
COLOR:darkgreen
DESCRIPTION:Predmet: Fizika in tehnika fuzijskih reaktorjev (JET-1\, JET-2
 )\, Vaje (V)\nLetniki: 1. letnik (Jedrska tehnika\, 2. stopnja)\, 2. letni
 k (Jedrska tehnika\, 2. stopnja)\nIzvajalci: Jernej Kovačič\nProstor: F5
LOCATION:F5
ORGANIZER:Jernej Kovačič
RELATED-TO:fmf-AFLABS-URNIK:srecanje:4095
X-WR-TIMEZONE:Europe/Ljubljana
END:VEVENT
BEGIN:VEVENT
SUMMARY:Fizika in tehnika fuzijskih reaktorjev (JET-1\, JET-2)\, Vaje (V)
DTSTART;TZID=Europe/Ljubljana:20200225T100000
DTEND;TZID=Europe/Ljubljana:20200225T120000
DTSTAMP:20260421T153219Z
UID:fmf-AFLABS-URNIK:premaknjeno-srecanje:30958
ATTENDEE:1. letnik (Jedrska tehnika, 2. stopnja)
ATTENDEE:2. letnik (Jedrska tehnika, 2. stopnja)
CATEGORIES:Entry,Standard
COLOR:darkgreen
DESCRIPTION:Predmet: Fizika in tehnika fuzijskih reaktorjev (JET-1\, JET-2
 )\, Vaje (V)\nLetniki: 1. letnik (Jedrska tehnika\, 2. stopnja)\, 2. letni
 k (Jedrska tehnika\, 2. stopnja)\nIzvajalci: Jernej Kovačič\nProstor: F5
LOCATION:F5
ORGANIZER:Jernej Kovačič
RELATED-TO:fmf-AFLABS-URNIK:srecanje:4095
X-WR-TIMEZONE:Europe/Ljubljana
END:VEVENT
BEGIN:VEVENT
SUMMARY:Fizika in tehnika fuzijskih reaktorjev (JET-1\, JET-2)\, Vaje (V)
DTSTART;TZID=Europe/Ljubljana:20200303T100000
DTEND;TZID=Europe/Ljubljana:20200303T120000
DTSTAMP:20260421T153219Z
UID:fmf-AFLABS-URNIK:premaknjeno-srecanje:30959
ATTENDEE:1. letnik (Jedrska tehnika, 2. stopnja)
ATTENDEE:2. letnik (Jedrska tehnika, 2. stopnja)
CATEGORIES:Entry,Standard
COLOR:darkgreen
DESCRIPTION:Predmet: Fizika in tehnika fuzijskih reaktorjev (JET-1\, JET-2
 )\, Vaje (V)\nLetniki: 1. letnik (Jedrska tehnika\, 2. stopnja)\, 2. letni
 k (Jedrska tehnika\, 2. stopnja)\nIzvajalci: Jernej Kovačič\nProstor: F5
LOCATION:F5
ORGANIZER:Jernej Kovačič
RELATED-TO:fmf-AFLABS-URNIK:srecanje:4095
X-WR-TIMEZONE:Europe/Ljubljana
END:VEVENT
BEGIN:VEVENT
SUMMARY:Fizika in tehnika fuzijskih reaktorjev (JET-1\, JET-2)\, Vaje (V)
DTSTART;TZID=Europe/Ljubljana:20200310T100000
DTEND;TZID=Europe/Ljubljana:20200310T120000
DTSTAMP:20260421T153219Z
UID:fmf-AFLABS-URNIK:premaknjeno-srecanje:30960
ATTENDEE:1. letnik (Jedrska tehnika, 2. stopnja)
ATTENDEE:2. letnik (Jedrska tehnika, 2. stopnja)
CATEGORIES:Entry,Standard
COLOR:darkgreen
DESCRIPTION:Predmet: Fizika in tehnika fuzijskih reaktorjev (JET-1\, JET-2
 )\, Vaje (V)\nLetniki: 1. letnik (Jedrska tehnika\, 2. stopnja)\, 2. letni
 k (Jedrska tehnika\, 2. stopnja)\nIzvajalci: Jernej Kovačič\nProstor: F5
LOCATION:F5
ORGANIZER:Jernej Kovačič
RELATED-TO:fmf-AFLABS-URNIK:srecanje:4095
X-WR-TIMEZONE:Europe/Ljubljana
END:VEVENT
BEGIN:VEVENT
SUMMARY:Fizika in tehnika fuzijskih reaktorjev (JET-1\, JET-2)\, Vaje (V)
DTSTART;TZID=Europe/Ljubljana:20200317T100000
DTEND;TZID=Europe/Ljubljana:20200317T120000
DTSTAMP:20260421T153219Z
UID:fmf-AFLABS-URNIK:premaknjeno-srecanje:30961
ATTENDEE:1. letnik (Jedrska tehnika, 2. stopnja)
ATTENDEE:2. letnik (Jedrska tehnika, 2. stopnja)
CATEGORIES:Entry,Standard
COLOR:darkgreen
DESCRIPTION:Predmet: Fizika in tehnika fuzijskih reaktorjev (JET-1\, JET-2
 )\, Vaje (V)\nLetniki: 1. letnik (Jedrska tehnika\, 2. stopnja)\, 2. letni
 k (Jedrska tehnika\, 2. stopnja)\nIzvajalci: Jernej Kovačič\nProstor: F5
LOCATION:F5
ORGANIZER:Jernej Kovačič
RELATED-TO:fmf-AFLABS-URNIK:srecanje:4095
X-WR-TIMEZONE:Europe/Ljubljana
END:VEVENT
BEGIN:VEVENT
SUMMARY:Fizika in tehnika fuzijskih reaktorjev (JET-1\, JET-2)\, Vaje (V)
DTSTART;TZID=Europe/Ljubljana:20200324T100000
DTEND;TZID=Europe/Ljubljana:20200324T120000
DTSTAMP:20260421T153219Z
UID:fmf-AFLABS-URNIK:premaknjeno-srecanje:30962
ATTENDEE:1. letnik (Jedrska tehnika, 2. stopnja)
ATTENDEE:2. letnik (Jedrska tehnika, 2. stopnja)
CATEGORIES:Entry,Standard
COLOR:darkgreen
DESCRIPTION:Predmet: Fizika in tehnika fuzijskih reaktorjev (JET-1\, JET-2
 )\, Vaje (V)\nLetniki: 1. letnik (Jedrska tehnika\, 2. stopnja)\, 2. letni
 k (Jedrska tehnika\, 2. stopnja)\nIzvajalci: Jernej Kovačič\nProstor: F5
LOCATION:F5
ORGANIZER:Jernej Kovačič
RELATED-TO:fmf-AFLABS-URNIK:srecanje:4095
X-WR-TIMEZONE:Europe/Ljubljana
END:VEVENT
BEGIN:VEVENT
SUMMARY:Fizika in tehnika fuzijskih reaktorjev (JET-1\, JET-2)\, Vaje (V)
DTSTART;TZID=Europe/Ljubljana:20200331T100000
DTEND;TZID=Europe/Ljubljana:20200331T120000
DTSTAMP:20260421T153219Z
UID:fmf-AFLABS-URNIK:premaknjeno-srecanje:30963
ATTENDEE:1. letnik (Jedrska tehnika, 2. stopnja)
ATTENDEE:2. letnik (Jedrska tehnika, 2. stopnja)
CATEGORIES:Entry,Standard
COLOR:darkgreen
DESCRIPTION:Predmet: Fizika in tehnika fuzijskih reaktorjev (JET-1\, JET-2
 )\, Vaje (V)\nLetniki: 1. letnik (Jedrska tehnika\, 2. stopnja)\, 2. letni
 k (Jedrska tehnika\, 2. stopnja)\nIzvajalci: Jernej Kovačič\nProstor: F5
LOCATION:F5
ORGANIZER:Jernej Kovačič
RELATED-TO:fmf-AFLABS-URNIK:srecanje:4095
X-WR-TIMEZONE:Europe/Ljubljana
END:VEVENT
BEGIN:VEVENT
SUMMARY:Fizika in tehnika fuzijskih reaktorjev (JET-1\, JET-2)\, Vaje (V)
DTSTART;TZID=Europe/Ljubljana:20200407T100000
DTEND;TZID=Europe/Ljubljana:20200407T120000
DTSTAMP:20260421T153219Z
UID:fmf-AFLABS-URNIK:premaknjeno-srecanje:30964
ATTENDEE:1. letnik (Jedrska tehnika, 2. stopnja)
ATTENDEE:2. letnik (Jedrska tehnika, 2. stopnja)
CATEGORIES:Entry,Standard
COLOR:darkgreen
DESCRIPTION:Predmet: Fizika in tehnika fuzijskih reaktorjev (JET-1\, JET-2
 )\, Vaje (V)\nLetniki: 1. letnik (Jedrska tehnika\, 2. stopnja)\, 2. letni
 k (Jedrska tehnika\, 2. stopnja)\nIzvajalci: Jernej Kovačič\nProstor: F5
LOCATION:F5
ORGANIZER:Jernej Kovačič
RELATED-TO:fmf-AFLABS-URNIK:srecanje:4095
X-WR-TIMEZONE:Europe/Ljubljana
END:VEVENT
BEGIN:VEVENT
SUMMARY:Fizika in tehnika fuzijskih reaktorjev (JET-1\, JET-2)\, Vaje (V)
DTSTART;TZID=Europe/Ljubljana:20200414T100000
DTEND;TZID=Europe/Ljubljana:20200414T120000
DTSTAMP:20260421T153219Z
UID:fmf-AFLABS-URNIK:premaknjeno-srecanje:30965
ATTENDEE:1. letnik (Jedrska tehnika, 2. stopnja)
ATTENDEE:2. letnik (Jedrska tehnika, 2. stopnja)
CATEGORIES:Entry,Standard
COLOR:darkgreen
DESCRIPTION:Predmet: Fizika in tehnika fuzijskih reaktorjev (JET-1\, JET-2
 )\, Vaje (V)\nLetniki: 1. letnik (Jedrska tehnika\, 2. stopnja)\, 2. letni
 k (Jedrska tehnika\, 2. stopnja)\nIzvajalci: Jernej Kovačič\nProstor: F5
LOCATION:F5
ORGANIZER:Jernej Kovačič
RELATED-TO:fmf-AFLABS-URNIK:srecanje:4095
X-WR-TIMEZONE:Europe/Ljubljana
END:VEVENT
BEGIN:VEVENT
SUMMARY:Fizika in tehnika fuzijskih reaktorjev (JET-1\, JET-2)\, Vaje (V)
DTSTART;TZID=Europe/Ljubljana:20200421T100000
DTEND;TZID=Europe/Ljubljana:20200421T120000
DTSTAMP:20260421T153219Z
UID:fmf-AFLABS-URNIK:premaknjeno-srecanje:30966
ATTENDEE:1. letnik (Jedrska tehnika, 2. stopnja)
ATTENDEE:2. letnik (Jedrska tehnika, 2. stopnja)
CATEGORIES:Entry,Standard
COLOR:darkgreen
DESCRIPTION:Predmet: Fizika in tehnika fuzijskih reaktorjev (JET-1\, JET-2
 )\, Vaje (V)\nLetniki: 1. letnik (Jedrska tehnika\, 2. stopnja)\, 2. letni
 k (Jedrska tehnika\, 2. stopnja)\nIzvajalci: Jernej Kovačič\nProstor: F5
LOCATION:F5
ORGANIZER:Jernej Kovačič
RELATED-TO:fmf-AFLABS-URNIK:srecanje:4095
X-WR-TIMEZONE:Europe/Ljubljana
END:VEVENT
BEGIN:VEVENT
SUMMARY:Fizika in tehnika fuzijskih reaktorjev (JET-1\, JET-2)\, Vaje (V)
DTSTART;TZID=Europe/Ljubljana:20200428T100000
DTEND;TZID=Europe/Ljubljana:20200428T120000
DTSTAMP:20260421T153219Z
UID:fmf-AFLABS-URNIK:premaknjeno-srecanje:30967
ATTENDEE:1. letnik (Jedrska tehnika, 2. stopnja)
ATTENDEE:2. letnik (Jedrska tehnika, 2. stopnja)
CATEGORIES:Entry,Standard
COLOR:darkgreen
DESCRIPTION:Predmet: Fizika in tehnika fuzijskih reaktorjev (JET-1\, JET-2
 )\, Vaje (V)\nLetniki: 1. letnik (Jedrska tehnika\, 2. stopnja)\, 2. letni
 k (Jedrska tehnika\, 2. stopnja)\nIzvajalci: Jernej Kovačič\nProstor: F5
LOCATION:F5
ORGANIZER:Jernej Kovačič
RELATED-TO:fmf-AFLABS-URNIK:srecanje:4095
X-WR-TIMEZONE:Europe/Ljubljana
END:VEVENT
BEGIN:VEVENT
SUMMARY:Fizika in tehnika fuzijskih reaktorjev (JET-1\, JET-2)\, Vaje (V)
DTSTART;TZID=Europe/Ljubljana:20200505T100000
DTEND;TZID=Europe/Ljubljana:20200505T120000
DTSTAMP:20260421T153219Z
UID:fmf-AFLABS-URNIK:premaknjeno-srecanje:30968
ATTENDEE:1. letnik (Jedrska tehnika, 2. stopnja)
ATTENDEE:2. letnik (Jedrska tehnika, 2. stopnja)
CATEGORIES:Entry,Standard
COLOR:darkgreen
DESCRIPTION:Predmet: Fizika in tehnika fuzijskih reaktorjev (JET-1\, JET-2
 )\, Vaje (V)\nLetniki: 1. letnik (Jedrska tehnika\, 2. stopnja)\, 2. letni
 k (Jedrska tehnika\, 2. stopnja)\nIzvajalci: Jernej Kovačič\nProstor: F5
LOCATION:F5
ORGANIZER:Jernej Kovačič
RELATED-TO:fmf-AFLABS-URNIK:srecanje:4095
X-WR-TIMEZONE:Europe/Ljubljana
END:VEVENT
BEGIN:VEVENT
SUMMARY:Fizika in tehnika fuzijskih reaktorjev (JET-1\, JET-2)\, Vaje (V)
DTSTART;TZID=Europe/Ljubljana:20200512T100000
DTEND;TZID=Europe/Ljubljana:20200512T120000
DTSTAMP:20260421T153219Z
UID:fmf-AFLABS-URNIK:premaknjeno-srecanje:30969
ATTENDEE:1. letnik (Jedrska tehnika, 2. stopnja)
ATTENDEE:2. letnik (Jedrska tehnika, 2. stopnja)
CATEGORIES:Entry,Standard
COLOR:darkgreen
DESCRIPTION:Predmet: Fizika in tehnika fuzijskih reaktorjev (JET-1\, JET-2
 )\, Vaje (V)\nLetniki: 1. letnik (Jedrska tehnika\, 2. stopnja)\, 2. letni
 k (Jedrska tehnika\, 2. stopnja)\nIzvajalci: Jernej Kovačič\nProstor: F5
LOCATION:F5
ORGANIZER:Jernej Kovačič
RELATED-TO:fmf-AFLABS-URNIK:srecanje:4095
X-WR-TIMEZONE:Europe/Ljubljana
END:VEVENT
BEGIN:VEVENT
SUMMARY:Fizika in tehnika fuzijskih reaktorjev (JET-1\, JET-2)\, Vaje (V)
DTSTART;TZID=Europe/Ljubljana:20200519T100000
DTEND;TZID=Europe/Ljubljana:20200519T120000
DTSTAMP:20260421T153219Z
UID:fmf-AFLABS-URNIK:premaknjeno-srecanje:30970
ATTENDEE:1. letnik (Jedrska tehnika, 2. stopnja)
ATTENDEE:2. letnik (Jedrska tehnika, 2. stopnja)
CATEGORIES:Entry,Standard
COLOR:darkgreen
DESCRIPTION:Predmet: Fizika in tehnika fuzijskih reaktorjev (JET-1\, JET-2
 )\, Vaje (V)\nLetniki: 1. letnik (Jedrska tehnika\, 2. stopnja)\, 2. letni
 k (Jedrska tehnika\, 2. stopnja)\nIzvajalci: Jernej Kovačič\nProstor: F5
LOCATION:F5
ORGANIZER:Jernej Kovačič
RELATED-TO:fmf-AFLABS-URNIK:srecanje:4095
X-WR-TIMEZONE:Europe/Ljubljana
END:VEVENT
BEGIN:VEVENT
SUMMARY:Fizika in tehnika fuzijskih reaktorjev (JET-1\, JET-2)\, Vaje (V)
DTSTART;TZID=Europe/Ljubljana:20200526T100000
DTEND;TZID=Europe/Ljubljana:20200526T120000
DTSTAMP:20260421T153219Z
UID:fmf-AFLABS-URNIK:premaknjeno-srecanje:30971
ATTENDEE:1. letnik (Jedrska tehnika, 2. stopnja)
ATTENDEE:2. letnik (Jedrska tehnika, 2. stopnja)
CATEGORIES:Entry,Standard
COLOR:darkgreen
DESCRIPTION:Predmet: Fizika in tehnika fuzijskih reaktorjev (JET-1\, JET-2
 )\, Vaje (V)\nLetniki: 1. letnik (Jedrska tehnika\, 2. stopnja)\, 2. letni
 k (Jedrska tehnika\, 2. stopnja)\nIzvajalci: Jernej Kovačič\nProstor: F5
LOCATION:F5
ORGANIZER:Jernej Kovačič
RELATED-TO:fmf-AFLABS-URNIK:srecanje:4095
X-WR-TIMEZONE:Europe/Ljubljana
END:VEVENT
END:VCALENDAR
