BEGIN:VCALENDAR
VERSION:2.0
PRODID:-//AFLabs urnik izvoz - fmf//aflabs.si//SI
DTSTAMP:20260424T080222Z
NAME:UL FMF urnik
REFRESH-INTERVAL:PT1H
SOURCE:https://urnik.fmf.uni-lj.si/teacher/47?day=2020-09-07&export=1
URL:https://urnik.fmf.uni-lj.si/teacher/47?day=2020-09-07&export=1
X-PUBLISHED-TTL:PT1H
X-WR-CALNAME:UL FMF urnik
X-WR-TIMEZONE:Europe/Ljubljana
BEGIN:VTIMEZONE
TZID:Europe/Ljubljana
BEGIN:DAYLIGHT
DTSTART:20260329T020000
RDATE:20260329T020000
RDATE:20270328T020000
TZNAME:CEST
TZOFFSETFROM:+0100
TZOFFSETTO:+0200
END:DAYLIGHT
BEGIN:STANDARD
DTSTART:20261025T030000
RDATE:20261025T030000
RDATE:20271031T030000
TZNAME:CET
TZOFFSETFROM:+0200
TZOFFSETTO:+0100
END:STANDARD
END:VTIMEZONE
BEGIN:VEVENT
SUMMARY:Programiranje 1 (FM-3\, MAT-2\, PM-4)\, Predavanja (P)
DTSTART;TZID=Europe/Ljubljana:20201001T080000
DTEND;TZID=Europe/Ljubljana:20201001T100000
DTSTAMP:20260424T080222Z
UID:fmf-AFLABS-URNIK:premaknjeno-srecanje:85607
ATTENDEE:2. letnik (M)
ATTENDEE:3. letnik (FM)
ATTENDEE:4. letnik (PM)
CATEGORIES:Entry,Standard
COLOR:darkgreen
DESCRIPTION:Predmet: Programiranje 1 (FM-3\, MAT-2\, PM-4)\, Predavanja (P
 )\nLetniki: 3. letnik (FM)\, 2. letnik (M)\, 4. letnik (PM)\nIzvajalci: Ma
 tija Pretnar\nProstor: 3.05
LOCATION:3.05
ORGANIZER:Matija Pretnar
RELATED-TO:fmf-AFLABS-URNIK:srecanje:5089
X-WR-TIMEZONE:Europe/Ljubljana
END:VEVENT
BEGIN:VEVENT
SUMMARY:Programiranje 1 (FM-3\, MAT-2\, PM-4)\, Predavanja (P)
DTSTART;TZID=Europe/Ljubljana:20201008T080000
DTEND;TZID=Europe/Ljubljana:20201008T100000
DTSTAMP:20260424T080222Z
UID:fmf-AFLABS-URNIK:premaknjeno-srecanje:85608
ATTENDEE:2. letnik (M)
ATTENDEE:3. letnik (FM)
ATTENDEE:4. letnik (PM)
CATEGORIES:Entry,Standard
COLOR:darkgreen
DESCRIPTION:Predmet: Programiranje 1 (FM-3\, MAT-2\, PM-4)\, Predavanja (P
 )\nLetniki: 3. letnik (FM)\, 2. letnik (M)\, 4. letnik (PM)\nIzvajalci: Ma
 tija Pretnar\nProstor: 3.05
LOCATION:3.05
ORGANIZER:Matija Pretnar
RELATED-TO:fmf-AFLABS-URNIK:srecanje:5089
X-WR-TIMEZONE:Europe/Ljubljana
END:VEVENT
BEGIN:VEVENT
SUMMARY:Rezervacija
DTSTART;TZID=Europe/Ljubljana:20200819T100000
DTEND;TZID=Europe/Ljubljana:20200819T120000
DTSTAMP:20260424T080222Z
UID:fmf-AFLABS-URNIK:rezervacija:5966
CATEGORIES:Reservation
COLOR:royalblue
DESCRIPTION:Predmeti: \nLetniki: \nIzvajalci: Matija Pretnar\, Janoš Vida
 li\nProstori: 3.12
LOCATION:3.12
ORGANIZER:Matija Pretnar, Janoš Vidali
X-WR-TIMEZONE:Europe/Ljubljana
END:VEVENT
BEGIN:VEVENT
SUMMARY:Rezervacija
DTSTART;TZID=Europe/Ljubljana:20200825T090000
DTEND;TZID=Europe/Ljubljana:20200825T120000
DTSTAMP:20260424T080222Z
UID:fmf-AFLABS-URNIK:rezervacija:6037
CATEGORIES:Reservation
COLOR:royalblue
DESCRIPTION:Predmeti: \nLetniki: \nIzvajalci: Filip Koprivec\, Žiga Lukš
 ič\, Matija Pretnar\nProstori: 3.10\, 3.11\, 3.12
LOCATION:3.10\, 3.11\, 3.12
ORGANIZER:Filip Koprivec, Žiga Lukšič, Matija Pretnar
X-WR-TIMEZONE:Europe/Ljubljana
END:VEVENT
BEGIN:VEVENT
SUMMARY:Rezervacija
DTSTART;TZID=Europe/Ljubljana:20200903T090000
DTEND;TZID=Europe/Ljubljana:20200903T170000
DTSTAMP:20260424T080222Z
UID:fmf-AFLABS-URNIK:rezervacija:6210
ATTENDEE:1. letnik (FM)
ATTENDEE:1. letnik (M)
ATTENDEE:2. letnik (PM)
CATEGORIES:Reservation
COLOR:royalblue
DESCRIPTION:Predmeti: Uvod v programiranje (MAT-1\, PM-2)\, Uvod v program
 iranje (FM-1)\nLetniki: 1. letnik (FM)\, 1. letnik (M)\, 2. letnik (PM)\nI
 zvajalci: Matija Pretnar\nProstori: 3.10
LOCATION:3.10
ORGANIZER:Matija Pretnar
X-WR-TIMEZONE:Europe/Ljubljana
END:VEVENT
BEGIN:VEVENT
SUMMARY:Rezervacija
DTSTART;TZID=Europe/Ljubljana:20200907T110000
DTEND;TZID=Europe/Ljubljana:20200907T170000
DTSTAMP:20260424T080222Z
UID:fmf-AFLABS-URNIK:rezervacija:6284
ATTENDEE:1. letnik (FM)
ATTENDEE:1. letnik (M)
ATTENDEE:2. letnik (PM)
CATEGORIES:Reservation
COLOR:royalblue
DESCRIPTION:Predmeti: Uvod v programiranje (MAT-1\, PM-2)\, Uvod v program
 iranje (FM-1)\nLetniki: 1. letnik (FM)\, 1. letnik (M)\, 2. letnik (PM)\nI
 zvajalci: Matija Pretnar\nProstori: 3.10
LOCATION:3.10
ORGANIZER:Matija Pretnar
X-WR-TIMEZONE:Europe/Ljubljana
END:VEVENT
BEGIN:VEVENT
SUMMARY:Rezervacija
DTSTART;TZID=Europe/Ljubljana:20201008T150000
DTEND;TZID=Europe/Ljubljana:20201008T160000
DTSTAMP:20260424T080222Z
UID:fmf-AFLABS-URNIK:rezervacija:6508
CATEGORIES:Reservation
COLOR:royalblue
DESCRIPTION:Predmeti: \nLetniki: \nIzvajalci: Matija Pretnar\nProstori: 2.
 02
LOCATION:2.02
ORGANIZER:Matija Pretnar
X-WR-TIMEZONE:Europe/Ljubljana
END:VEVENT
END:VCALENDAR
