BEGIN:VCALENDAR
VERSION:2.0
PRODID:-//AFLabs urnik izvoz - fmf//aflabs.si//SI
DTSTAMP:20260422T224417Z
NAME:UL FMF urnik
REFRESH-INTERVAL:PT1H
SOURCE:https://urnik.fmf.uni-lj.si/teacher/489?day=2024-12-30&export=1
URL:https://urnik.fmf.uni-lj.si/teacher/489?day=2024-12-30&export=1
X-PUBLISHED-TTL:PT1H
X-WR-CALNAME:UL FMF urnik
X-WR-TIMEZONE:Europe/Ljubljana
BEGIN:VTIMEZONE
TZID:Europe/Ljubljana
BEGIN:DAYLIGHT
DTSTART:20260329T020000
RDATE:20260329T020000
RDATE:20270328T020000
TZNAME:CEST
TZOFFSETFROM:+0100
TZOFFSETTO:+0200
END:DAYLIGHT
BEGIN:STANDARD
DTSTART:20261025T030000
RDATE:20261025T030000
RDATE:20271031T030000
TZNAME:CET
TZOFFSETFROM:+0200
TZOFFSETTO:+0100
END:STANDARD
END:VTIMEZONE
BEGIN:VEVENT
SUMMARY:Fizika (FKKT Kem. inženirstvo) ()\, Vaje (V)\, [1]
DTSTART;TZID=Europe/Ljubljana:20241007T130000
DTEND;TZID=Europe/Ljubljana:20241007T150000
DTSTAMP:20260422T224417Z
UID:fmf-AFLABS-URNIK:premaknjeno-srecanje:192365
CATEGORIES:Entry,Standard
COLOR:darkgreen
DESCRIPTION:Predmet: Fizika (FKKT Kem. inženirstvo) ()\, Vaje (V)\, [1]\n
 Letniki: \nIzvajalci: Aljaž Kavčič\nProstor: 3036 (3A FKKT)
LOCATION:3036 (3A FKKT)
ORGANIZER:Aljaž Kavčič
RELATED-TO:fmf-AFLABS-URNIK:srecanje:13658
X-WR-TIMEZONE:Europe/Ljubljana
END:VEVENT
BEGIN:VEVENT
SUMMARY:Fizika (FKKT Kem. inženirstvo) ()\, Vaje (V)\, [1]
DTSTART;TZID=Europe/Ljubljana:20241014T130000
DTEND;TZID=Europe/Ljubljana:20241014T150000
DTSTAMP:20260422T224417Z
UID:fmf-AFLABS-URNIK:premaknjeno-srecanje:192366
CATEGORIES:Entry,Standard
COLOR:darkgreen
DESCRIPTION:Predmet: Fizika (FKKT Kem. inženirstvo) ()\, Vaje (V)\, [1]\n
 Letniki: \nIzvajalci: Aljaž Kavčič\nProstor: 3036 (3A FKKT)
LOCATION:3036 (3A FKKT)
ORGANIZER:Aljaž Kavčič
RELATED-TO:fmf-AFLABS-URNIK:srecanje:13658
X-WR-TIMEZONE:Europe/Ljubljana
END:VEVENT
BEGIN:VEVENT
SUMMARY:Fizika (FKKT Kem. inženirstvo) ()\, Vaje (V)\, [1]
DTSTART;TZID=Europe/Ljubljana:20241021T130000
DTEND;TZID=Europe/Ljubljana:20241021T150000
DTSTAMP:20260422T224417Z
UID:fmf-AFLABS-URNIK:premaknjeno-srecanje:192367
CATEGORIES:Entry,Standard
COLOR:darkgreen
DESCRIPTION:Predmet: Fizika (FKKT Kem. inženirstvo) ()\, Vaje (V)\, [1]\n
 Letniki: \nIzvajalci: Aljaž Kavčič\nProstor: 3036 (3A FKKT)
LOCATION:3036 (3A FKKT)
ORGANIZER:Aljaž Kavčič
RELATED-TO:fmf-AFLABS-URNIK:srecanje:13658
X-WR-TIMEZONE:Europe/Ljubljana
END:VEVENT
BEGIN:VEVENT
SUMMARY:Fizika (FKKT Kem. inženirstvo) ()\, Vaje (V)\, [1]
DTSTART;TZID=Europe/Ljubljana:20241028T130000
DTEND;TZID=Europe/Ljubljana:20241028T150000
DTSTAMP:20260422T224417Z
UID:fmf-AFLABS-URNIK:premaknjeno-srecanje:192368
CATEGORIES:Entry,Standard
COLOR:darkgreen
DESCRIPTION:Predmet: Fizika (FKKT Kem. inženirstvo) ()\, Vaje (V)\, [1]\n
 Letniki: \nIzvajalci: Aljaž Kavčič\nProstor: 3036 (3A FKKT)
LOCATION:3036 (3A FKKT)
ORGANIZER:Aljaž Kavčič
RELATED-TO:fmf-AFLABS-URNIK:srecanje:13658
X-WR-TIMEZONE:Europe/Ljubljana
END:VEVENT
BEGIN:VEVENT
SUMMARY:Fizika (FKKT Kem. inženirstvo) ()\, Vaje (V)\, [1]
DTSTART;TZID=Europe/Ljubljana:20241104T130000
DTEND;TZID=Europe/Ljubljana:20241104T150000
DTSTAMP:20260422T224417Z
UID:fmf-AFLABS-URNIK:premaknjeno-srecanje:192369
CATEGORIES:Entry,Standard
COLOR:darkgreen
DESCRIPTION:Predmet: Fizika (FKKT Kem. inženirstvo) ()\, Vaje (V)\, [1]\n
 Letniki: \nIzvajalci: Aljaž Kavčič\nProstor: 3036 (3A FKKT)
LOCATION:3036 (3A FKKT)
ORGANIZER:Aljaž Kavčič
RELATED-TO:fmf-AFLABS-URNIK:srecanje:13658
X-WR-TIMEZONE:Europe/Ljubljana
END:VEVENT
BEGIN:VEVENT
SUMMARY:Fizika (FKKT Kem. inženirstvo) ()\, Vaje (V)\, [1]
DTSTART;TZID=Europe/Ljubljana:20241111T130000
DTEND;TZID=Europe/Ljubljana:20241111T150000
DTSTAMP:20260422T224417Z
UID:fmf-AFLABS-URNIK:premaknjeno-srecanje:192370
CATEGORIES:Entry,Standard
COLOR:darkgreen
DESCRIPTION:Predmet: Fizika (FKKT Kem. inženirstvo) ()\, Vaje (V)\, [1]\n
 Letniki: \nIzvajalci: Aljaž Kavčič\nProstor: 3036 (3A FKKT)
LOCATION:3036 (3A FKKT)
ORGANIZER:Aljaž Kavčič
RELATED-TO:fmf-AFLABS-URNIK:srecanje:13658
X-WR-TIMEZONE:Europe/Ljubljana
END:VEVENT
BEGIN:VEVENT
SUMMARY:Fizika (FKKT Kem. inženirstvo) ()\, Vaje (V)\, [1]
DTSTART;TZID=Europe/Ljubljana:20241118T130000
DTEND;TZID=Europe/Ljubljana:20241118T150000
DTSTAMP:20260422T224417Z
UID:fmf-AFLABS-URNIK:premaknjeno-srecanje:192371
CATEGORIES:Entry,Standard
COLOR:darkgreen
DESCRIPTION:Predmet: Fizika (FKKT Kem. inženirstvo) ()\, Vaje (V)\, [1]\n
 Letniki: \nIzvajalci: Aljaž Kavčič\nProstor: 3036 (3A FKKT)
LOCATION:3036 (3A FKKT)
ORGANIZER:Aljaž Kavčič
RELATED-TO:fmf-AFLABS-URNIK:srecanje:13658
X-WR-TIMEZONE:Europe/Ljubljana
END:VEVENT
BEGIN:VEVENT
SUMMARY:Fizika (FKKT Kem. inženirstvo) ()\, Vaje (V)\, [1]
DTSTART;TZID=Europe/Ljubljana:20241125T130000
DTEND;TZID=Europe/Ljubljana:20241125T150000
DTSTAMP:20260422T224417Z
UID:fmf-AFLABS-URNIK:premaknjeno-srecanje:192372
CATEGORIES:Entry,Standard
COLOR:darkgreen
DESCRIPTION:Predmet: Fizika (FKKT Kem. inženirstvo) ()\, Vaje (V)\, [1]\n
 Letniki: \nIzvajalci: Aljaž Kavčič\nProstor: 3036 (3A FKKT)
LOCATION:3036 (3A FKKT)
ORGANIZER:Aljaž Kavčič
RELATED-TO:fmf-AFLABS-URNIK:srecanje:13658
X-WR-TIMEZONE:Europe/Ljubljana
END:VEVENT
BEGIN:VEVENT
SUMMARY:Fizika (FKKT Kem. inženirstvo) ()\, Vaje (V)\, [1]
DTSTART;TZID=Europe/Ljubljana:20241202T130000
DTEND;TZID=Europe/Ljubljana:20241202T150000
DTSTAMP:20260422T224417Z
UID:fmf-AFLABS-URNIK:premaknjeno-srecanje:192373
CATEGORIES:Entry,Standard
COLOR:darkgreen
DESCRIPTION:Predmet: Fizika (FKKT Kem. inženirstvo) ()\, Vaje (V)\, [1]\n
 Letniki: \nIzvajalci: Aljaž Kavčič\nProstor: 3036 (3A FKKT)
LOCATION:3036 (3A FKKT)
ORGANIZER:Aljaž Kavčič
RELATED-TO:fmf-AFLABS-URNIK:srecanje:13658
X-WR-TIMEZONE:Europe/Ljubljana
END:VEVENT
BEGIN:VEVENT
SUMMARY:Fizika (FKKT Kem. inženirstvo) ()\, Vaje (V)\, [1]
DTSTART;TZID=Europe/Ljubljana:20241209T130000
DTEND;TZID=Europe/Ljubljana:20241209T150000
DTSTAMP:20260422T224417Z
UID:fmf-AFLABS-URNIK:premaknjeno-srecanje:192374
CATEGORIES:Entry,Standard
COLOR:darkgreen
DESCRIPTION:Predmet: Fizika (FKKT Kem. inženirstvo) ()\, Vaje (V)\, [1]\n
 Letniki: \nIzvajalci: Aljaž Kavčič\nProstor: 3036 (3A FKKT)
LOCATION:3036 (3A FKKT)
ORGANIZER:Aljaž Kavčič
RELATED-TO:fmf-AFLABS-URNIK:srecanje:13658
X-WR-TIMEZONE:Europe/Ljubljana
END:VEVENT
BEGIN:VEVENT
SUMMARY:Fizika (FKKT Kem. inženirstvo) ()\, Vaje (V)\, [1]
DTSTART;TZID=Europe/Ljubljana:20241216T130000
DTEND;TZID=Europe/Ljubljana:20241216T150000
DTSTAMP:20260422T224417Z
UID:fmf-AFLABS-URNIK:premaknjeno-srecanje:192375
CATEGORIES:Entry,Standard
COLOR:darkgreen
DESCRIPTION:Predmet: Fizika (FKKT Kem. inženirstvo) ()\, Vaje (V)\, [1]\n
 Letniki: \nIzvajalci: Aljaž Kavčič\nProstor: 3036 (3A FKKT)
LOCATION:3036 (3A FKKT)
ORGANIZER:Aljaž Kavčič
RELATED-TO:fmf-AFLABS-URNIK:srecanje:13658
X-WR-TIMEZONE:Europe/Ljubljana
END:VEVENT
BEGIN:VEVENT
SUMMARY:Fizika (FKKT Kem. inženirstvo) ()\, Vaje (V)\, [1]
DTSTART;TZID=Europe/Ljubljana:20241223T130000
DTEND;TZID=Europe/Ljubljana:20241223T150000
DTSTAMP:20260422T224417Z
UID:fmf-AFLABS-URNIK:premaknjeno-srecanje:192376
CATEGORIES:Entry,Standard
COLOR:darkgreen
DESCRIPTION:Predmet: Fizika (FKKT Kem. inženirstvo) ()\, Vaje (V)\, [1]\n
 Letniki: \nIzvajalci: Aljaž Kavčič\nProstor: 3036 (3A FKKT)
LOCATION:3036 (3A FKKT)
ORGANIZER:Aljaž Kavčič
RELATED-TO:fmf-AFLABS-URNIK:srecanje:13658
X-WR-TIMEZONE:Europe/Ljubljana
END:VEVENT
BEGIN:VEVENT
SUMMARY:Fizika (FKKT Kem. inženirstvo) ()\, Vaje (V)\, [1]
DTSTART;TZID=Europe/Ljubljana:20241230T130000
DTEND;TZID=Europe/Ljubljana:20241230T150000
DTSTAMP:20260422T224417Z
UID:fmf-AFLABS-URNIK:premaknjeno-srecanje:192377
CATEGORIES:Entry,Standard
COLOR:darkgreen
DESCRIPTION:Predmet: Fizika (FKKT Kem. inženirstvo) ()\, Vaje (V)\, [1]\n
 Letniki: \nIzvajalci: Aljaž Kavčič\nProstor: 3036 (3A FKKT)
LOCATION:3036 (3A FKKT)
ORGANIZER:Aljaž Kavčič
RELATED-TO:fmf-AFLABS-URNIK:srecanje:13658
X-WR-TIMEZONE:Europe/Ljubljana
END:VEVENT
BEGIN:VEVENT
SUMMARY:Fizika (FKKT Kem. inženirstvo) ()\, Vaje (V)\, [1]
DTSTART;TZID=Europe/Ljubljana:20250106T130000
DTEND;TZID=Europe/Ljubljana:20250106T150000
DTSTAMP:20260422T224417Z
UID:fmf-AFLABS-URNIK:premaknjeno-srecanje:192378
CATEGORIES:Entry,Standard
COLOR:darkgreen
DESCRIPTION:Predmet: Fizika (FKKT Kem. inženirstvo) ()\, Vaje (V)\, [1]\n
 Letniki: \nIzvajalci: Aljaž Kavčič\nProstor: 3036 (3A FKKT)
LOCATION:3036 (3A FKKT)
ORGANIZER:Aljaž Kavčič
RELATED-TO:fmf-AFLABS-URNIK:srecanje:13658
X-WR-TIMEZONE:Europe/Ljubljana
END:VEVENT
BEGIN:VEVENT
SUMMARY:Fizika (FKKT Kem. inženirstvo) ()\, Vaje (V)\, [1]
DTSTART;TZID=Europe/Ljubljana:20250113T130000
DTEND;TZID=Europe/Ljubljana:20250113T150000
DTSTAMP:20260422T224417Z
UID:fmf-AFLABS-URNIK:premaknjeno-srecanje:192379
CATEGORIES:Entry,Standard
COLOR:darkgreen
DESCRIPTION:Predmet: Fizika (FKKT Kem. inženirstvo) ()\, Vaje (V)\, [1]\n
 Letniki: \nIzvajalci: Aljaž Kavčič\nProstor: 3036 (3A FKKT)
LOCATION:3036 (3A FKKT)
ORGANIZER:Aljaž Kavčič
RELATED-TO:fmf-AFLABS-URNIK:srecanje:13658
X-WR-TIMEZONE:Europe/Ljubljana
END:VEVENT
BEGIN:VEVENT
SUMMARY:Fizika (FKKT Kem. inženirstvo) ()\, Vaje (V)\, [1]
DTSTART;TZID=Europe/Ljubljana:20250120T130000
DTEND;TZID=Europe/Ljubljana:20250120T150000
DTSTAMP:20260422T224417Z
UID:fmf-AFLABS-URNIK:premaknjeno-srecanje:192380
CATEGORIES:Entry,Standard
COLOR:darkgreen
DESCRIPTION:Predmet: Fizika (FKKT Kem. inženirstvo) ()\, Vaje (V)\, [1]\n
 Letniki: \nIzvajalci: Aljaž Kavčič\nProstor: 3036 (3A FKKT)
LOCATION:3036 (3A FKKT)
ORGANIZER:Aljaž Kavčič
RELATED-TO:fmf-AFLABS-URNIK:srecanje:13658
X-WR-TIMEZONE:Europe/Ljubljana
END:VEVENT
END:VCALENDAR
