BEGIN:VCALENDAR
VERSION:2.0
PRODID:-//AFLabs urnik izvoz - fmf//aflabs.si//SI
DTSTAMP:20260421T020048Z
NAME:UL FMF urnik
REFRESH-INTERVAL:PT1H
SOURCE:https://urnik.fmf.uni-lj.si/teacher/489?day=2025-04-14&export=1
URL:https://urnik.fmf.uni-lj.si/teacher/489?day=2025-04-14&export=1
X-PUBLISHED-TTL:PT1H
X-WR-CALNAME:UL FMF urnik
X-WR-TIMEZONE:Europe/Ljubljana
BEGIN:VTIMEZONE
TZID:Europe/Ljubljana
BEGIN:DAYLIGHT
DTSTART:20260329T020000
RDATE:20260329T020000
RDATE:20270328T020000
TZNAME:CEST
TZOFFSETFROM:+0100
TZOFFSETTO:+0200
END:DAYLIGHT
BEGIN:STANDARD
DTSTART:20261025T030000
RDATE:20261025T030000
RDATE:20271031T030000
TZNAME:CET
TZOFFSETFROM:+0200
TZOFFSETTO:+0100
END:STANDARD
END:VTIMEZONE
BEGIN:VEVENT
SUMMARY:Fizika (FKKT Kemija) ()\, Vaje (V)\, [1]
DTSTART;TZID=Europe/Ljubljana:20250217T080000
DTEND;TZID=Europe/Ljubljana:20250217T100000
DTSTAMP:20260421T020048Z
UID:fmf-AFLABS-URNIK:premaknjeno-srecanje:212253
CATEGORIES:Entry,Standard
COLOR:darkgreen
DESCRIPTION:Predmet: Fizika (FKKT Kemija) ()\, Vaje (V)\, [1]\nLetniki: \n
 Izvajalci: Aljaž Kavčič\nProstor: 2109 (2C FKKT)
LOCATION:2109 (2C FKKT)
ORGANIZER:Aljaž Kavčič
RELATED-TO:fmf-AFLABS-URNIK:srecanje:14785
X-WR-TIMEZONE:Europe/Ljubljana
END:VEVENT
BEGIN:VEVENT
SUMMARY:Fizika (FKKT Kemija) ()\, Vaje (V)\, [1]
DTSTART;TZID=Europe/Ljubljana:20250224T080000
DTEND;TZID=Europe/Ljubljana:20250224T100000
DTSTAMP:20260421T020048Z
UID:fmf-AFLABS-URNIK:premaknjeno-srecanje:212254
CATEGORIES:Entry,Standard
COLOR:darkgreen
DESCRIPTION:Predmet: Fizika (FKKT Kemija) ()\, Vaje (V)\, [1]\nLetniki: \n
 Izvajalci: Aljaž Kavčič\nProstor: 2109 (2C FKKT)
LOCATION:2109 (2C FKKT)
ORGANIZER:Aljaž Kavčič
RELATED-TO:fmf-AFLABS-URNIK:srecanje:14785
X-WR-TIMEZONE:Europe/Ljubljana
END:VEVENT
BEGIN:VEVENT
SUMMARY:Fizika (FKKT Kemija) ()\, Vaje (V)\, [1]
DTSTART;TZID=Europe/Ljubljana:20250303T080000
DTEND;TZID=Europe/Ljubljana:20250303T100000
DTSTAMP:20260421T020048Z
UID:fmf-AFLABS-URNIK:premaknjeno-srecanje:212255
CATEGORIES:Entry,Standard
COLOR:darkgreen
DESCRIPTION:Predmet: Fizika (FKKT Kemija) ()\, Vaje (V)\, [1]\nLetniki: \n
 Izvajalci: Aljaž Kavčič\nProstor: 2109 (2C FKKT)
LOCATION:2109 (2C FKKT)
ORGANIZER:Aljaž Kavčič
RELATED-TO:fmf-AFLABS-URNIK:srecanje:14785
X-WR-TIMEZONE:Europe/Ljubljana
END:VEVENT
BEGIN:VEVENT
SUMMARY:Fizika (FKKT Kemija) ()\, Vaje (V)\, [1]
DTSTART;TZID=Europe/Ljubljana:20250310T080000
DTEND;TZID=Europe/Ljubljana:20250310T100000
DTSTAMP:20260421T020048Z
UID:fmf-AFLABS-URNIK:premaknjeno-srecanje:212256
CATEGORIES:Entry,Standard
COLOR:darkgreen
DESCRIPTION:Predmet: Fizika (FKKT Kemija) ()\, Vaje (V)\, [1]\nLetniki: \n
 Izvajalci: Aljaž Kavčič\nProstor: 2109 (2C FKKT)
LOCATION:2109 (2C FKKT)
ORGANIZER:Aljaž Kavčič
RELATED-TO:fmf-AFLABS-URNIK:srecanje:14785
X-WR-TIMEZONE:Europe/Ljubljana
END:VEVENT
BEGIN:VEVENT
SUMMARY:Fizika (FKKT Kemija) ()\, Vaje (V)\, [1]
DTSTART;TZID=Europe/Ljubljana:20250317T080000
DTEND;TZID=Europe/Ljubljana:20250317T100000
DTSTAMP:20260421T020048Z
UID:fmf-AFLABS-URNIK:premaknjeno-srecanje:212257
CATEGORIES:Entry,Standard
COLOR:darkgreen
DESCRIPTION:Predmet: Fizika (FKKT Kemija) ()\, Vaje (V)\, [1]\nLetniki: \n
 Izvajalci: Aljaž Kavčič\nProstor: 2109 (2C FKKT)
LOCATION:2109 (2C FKKT)
ORGANIZER:Aljaž Kavčič
RELATED-TO:fmf-AFLABS-URNIK:srecanje:14785
X-WR-TIMEZONE:Europe/Ljubljana
END:VEVENT
BEGIN:VEVENT
SUMMARY:Fizika (FKKT Kemija) ()\, Vaje (V)\, [1]
DTSTART;TZID=Europe/Ljubljana:20250324T080000
DTEND;TZID=Europe/Ljubljana:20250324T100000
DTSTAMP:20260421T020048Z
UID:fmf-AFLABS-URNIK:premaknjeno-srecanje:212258
CATEGORIES:Entry,Standard
COLOR:darkgreen
DESCRIPTION:Predmet: Fizika (FKKT Kemija) ()\, Vaje (V)\, [1]\nLetniki: \n
 Izvajalci: Aljaž Kavčič\nProstor: 2109 (2C FKKT)
LOCATION:2109 (2C FKKT)
ORGANIZER:Aljaž Kavčič
RELATED-TO:fmf-AFLABS-URNIK:srecanje:14785
X-WR-TIMEZONE:Europe/Ljubljana
END:VEVENT
BEGIN:VEVENT
SUMMARY:Fizika (FKKT Kemija) ()\, Vaje (V)\, [1]
DTSTART;TZID=Europe/Ljubljana:20250331T080000
DTEND;TZID=Europe/Ljubljana:20250331T100000
DTSTAMP:20260421T020048Z
UID:fmf-AFLABS-URNIK:premaknjeno-srecanje:212259
CATEGORIES:Entry,Standard
COLOR:darkgreen
DESCRIPTION:Predmet: Fizika (FKKT Kemija) ()\, Vaje (V)\, [1]\nLetniki: \n
 Izvajalci: Aljaž Kavčič\nProstor: 2109 (2C FKKT)
LOCATION:2109 (2C FKKT)
ORGANIZER:Aljaž Kavčič
RELATED-TO:fmf-AFLABS-URNIK:srecanje:14785
X-WR-TIMEZONE:Europe/Ljubljana
END:VEVENT
BEGIN:VEVENT
SUMMARY:Fizika (FKKT Kemija) ()\, Vaje (V)\, [1]
DTSTART;TZID=Europe/Ljubljana:20250407T080000
DTEND;TZID=Europe/Ljubljana:20250407T100000
DTSTAMP:20260421T020048Z
UID:fmf-AFLABS-URNIK:premaknjeno-srecanje:212260
CATEGORIES:Entry,Standard
COLOR:darkgreen
DESCRIPTION:Predmet: Fizika (FKKT Kemija) ()\, Vaje (V)\, [1]\nLetniki: \n
 Izvajalci: Aljaž Kavčič\nProstor: 2109 (2C FKKT)
LOCATION:2109 (2C FKKT)
ORGANIZER:Aljaž Kavčič
RELATED-TO:fmf-AFLABS-URNIK:srecanje:14785
X-WR-TIMEZONE:Europe/Ljubljana
END:VEVENT
BEGIN:VEVENT
SUMMARY:Fizika (FKKT Kemija) ()\, Vaje (V)\, [1]
DTSTART;TZID=Europe/Ljubljana:20250414T080000
DTEND;TZID=Europe/Ljubljana:20250414T100000
DTSTAMP:20260421T020048Z
UID:fmf-AFLABS-URNIK:premaknjeno-srecanje:212261
CATEGORIES:Entry,Standard
COLOR:darkgreen
DESCRIPTION:Predmet: Fizika (FKKT Kemija) ()\, Vaje (V)\, [1]\nLetniki: \n
 Izvajalci: Aljaž Kavčič\nProstor: 2109 (2C FKKT)
LOCATION:2109 (2C FKKT)
ORGANIZER:Aljaž Kavčič
RELATED-TO:fmf-AFLABS-URNIK:srecanje:14785
X-WR-TIMEZONE:Europe/Ljubljana
END:VEVENT
BEGIN:VEVENT
SUMMARY:Fizika (FKKT Kemija) ()\, Vaje (V)\, [1]
DTSTART;TZID=Europe/Ljubljana:20250421T080000
DTEND;TZID=Europe/Ljubljana:20250421T100000
DTSTAMP:20260421T020048Z
UID:fmf-AFLABS-URNIK:premaknjeno-srecanje:212262
CATEGORIES:Entry,Standard
COLOR:darkgreen
DESCRIPTION:Predmet: Fizika (FKKT Kemija) ()\, Vaje (V)\, [1]\nLetniki: \n
 Izvajalci: Aljaž Kavčič\nProstor: 2109 (2C FKKT)
LOCATION:2109 (2C FKKT)
ORGANIZER:Aljaž Kavčič
RELATED-TO:fmf-AFLABS-URNIK:srecanje:14785
X-WR-TIMEZONE:Europe/Ljubljana
END:VEVENT
BEGIN:VEVENT
SUMMARY:Fizika (FKKT Kemija) ()\, Vaje (V)\, [1]
DTSTART;TZID=Europe/Ljubljana:20250428T080000
DTEND;TZID=Europe/Ljubljana:20250428T100000
DTSTAMP:20260421T020048Z
UID:fmf-AFLABS-URNIK:premaknjeno-srecanje:212263
CATEGORIES:Entry,Standard
COLOR:darkgreen
DESCRIPTION:Predmet: Fizika (FKKT Kemija) ()\, Vaje (V)\, [1]\nLetniki: \n
 Izvajalci: Aljaž Kavčič\nProstor: 2109 (2C FKKT)
LOCATION:2109 (2C FKKT)
ORGANIZER:Aljaž Kavčič
RELATED-TO:fmf-AFLABS-URNIK:srecanje:14785
X-WR-TIMEZONE:Europe/Ljubljana
END:VEVENT
BEGIN:VEVENT
SUMMARY:Fizika (FKKT Kemija) ()\, Vaje (V)\, [1]
DTSTART;TZID=Europe/Ljubljana:20250505T080000
DTEND;TZID=Europe/Ljubljana:20250505T100000
DTSTAMP:20260421T020048Z
UID:fmf-AFLABS-URNIK:premaknjeno-srecanje:212264
CATEGORIES:Entry,Standard
COLOR:darkgreen
DESCRIPTION:Predmet: Fizika (FKKT Kemija) ()\, Vaje (V)\, [1]\nLetniki: \n
 Izvajalci: Aljaž Kavčič\nProstor: 2109 (2C FKKT)
LOCATION:2109 (2C FKKT)
ORGANIZER:Aljaž Kavčič
RELATED-TO:fmf-AFLABS-URNIK:srecanje:14785
X-WR-TIMEZONE:Europe/Ljubljana
END:VEVENT
BEGIN:VEVENT
SUMMARY:Fizika (FKKT Kemija) ()\, Vaje (V)\, [1]
DTSTART;TZID=Europe/Ljubljana:20250512T080000
DTEND;TZID=Europe/Ljubljana:20250512T100000
DTSTAMP:20260421T020048Z
UID:fmf-AFLABS-URNIK:premaknjeno-srecanje:212265
CATEGORIES:Entry,Standard
COLOR:darkgreen
DESCRIPTION:Predmet: Fizika (FKKT Kemija) ()\, Vaje (V)\, [1]\nLetniki: \n
 Izvajalci: Aljaž Kavčič\nProstor: 2109 (2C FKKT)
LOCATION:2109 (2C FKKT)
ORGANIZER:Aljaž Kavčič
RELATED-TO:fmf-AFLABS-URNIK:srecanje:14785
X-WR-TIMEZONE:Europe/Ljubljana
END:VEVENT
BEGIN:VEVENT
SUMMARY:Fizika (FKKT Kemija) ()\, Vaje (V)\, [1]
DTSTART;TZID=Europe/Ljubljana:20250519T080000
DTEND;TZID=Europe/Ljubljana:20250519T100000
DTSTAMP:20260421T020048Z
UID:fmf-AFLABS-URNIK:premaknjeno-srecanje:212266
CATEGORIES:Entry,Standard
COLOR:darkgreen
DESCRIPTION:Predmet: Fizika (FKKT Kemija) ()\, Vaje (V)\, [1]\nLetniki: \n
 Izvajalci: Aljaž Kavčič\nProstor: 2109 (2C FKKT)
LOCATION:2109 (2C FKKT)
ORGANIZER:Aljaž Kavčič
RELATED-TO:fmf-AFLABS-URNIK:srecanje:14785
X-WR-TIMEZONE:Europe/Ljubljana
END:VEVENT
BEGIN:VEVENT
SUMMARY:Fizika (FKKT Kemija) ()\, Vaje (V)\, [1]
DTSTART;TZID=Europe/Ljubljana:20250526T080000
DTEND;TZID=Europe/Ljubljana:20250526T100000
DTSTAMP:20260421T020048Z
UID:fmf-AFLABS-URNIK:premaknjeno-srecanje:212267
CATEGORIES:Entry,Standard
COLOR:darkgreen
DESCRIPTION:Predmet: Fizika (FKKT Kemija) ()\, Vaje (V)\, [1]\nLetniki: \n
 Izvajalci: Aljaž Kavčič\nProstor: 2109 (2C FKKT)
LOCATION:2109 (2C FKKT)
ORGANIZER:Aljaž Kavčič
RELATED-TO:fmf-AFLABS-URNIK:srecanje:14785
X-WR-TIMEZONE:Europe/Ljubljana
END:VEVENT
BEGIN:VEVENT
SUMMARY:Fizika (FKKT Kemija) ()\, Vaje (V)\, [1]
DTSTART;TZID=Europe/Ljubljana:20250602T080000
DTEND;TZID=Europe/Ljubljana:20250602T100000
DTSTAMP:20260421T020048Z
UID:fmf-AFLABS-URNIK:premaknjeno-srecanje:212268
CATEGORIES:Entry,Standard
COLOR:darkgreen
DESCRIPTION:Predmet: Fizika (FKKT Kemija) ()\, Vaje (V)\, [1]\nLetniki: \n
 Izvajalci: Aljaž Kavčič\nProstor: 2109 (2C FKKT)
LOCATION:2109 (2C FKKT)
ORGANIZER:Aljaž Kavčič
RELATED-TO:fmf-AFLABS-URNIK:srecanje:14785
X-WR-TIMEZONE:Europe/Ljubljana
END:VEVENT
END:VCALENDAR
