BEGIN:VCALENDAR
VERSION:2.0
PRODID:-//AFLabs urnik izvoz - fmf//aflabs.si//SI
DTSTAMP:20260423T160644Z
NAME:UL FMF urnik
REFRESH-INTERVAL:PT1H
SOURCE:https://urnik.fmf.uni-lj.si/teacher/49?day=2020-09-07&export=1
URL:https://urnik.fmf.uni-lj.si/teacher/49?day=2020-09-07&export=1
X-PUBLISHED-TTL:PT1H
X-WR-CALNAME:UL FMF urnik
X-WR-TIMEZONE:Europe/Ljubljana
BEGIN:VTIMEZONE
TZID:Europe/Ljubljana
BEGIN:DAYLIGHT
DTSTART:20260329T020000
RDATE:20260329T020000
RDATE:20270328T020000
TZNAME:CEST
TZOFFSETFROM:+0100
TZOFFSETTO:+0200
END:DAYLIGHT
BEGIN:STANDARD
DTSTART:20261025T030000
RDATE:20261025T030000
RDATE:20271031T030000
TZNAME:CET
TZOFFSETFROM:+0200
TZOFFSETTO:+0100
END:STANDARD
END:VTIMEZONE
BEGIN:VEVENT
SUMMARY:Izbrana poglavja iz diskretne matematike (FM-M\, IŠRM-M\, MAT-M\,
  PM-5)\, Predavanja (P)
DTSTART;TZID=Europe/Ljubljana:20201001T100000
DTEND;TZID=Europe/Ljubljana:20201001T120000
DTSTAMP:20260423T160644Z
UID:fmf-AFLABS-URNIK:premaknjeno-srecanje:42767
ATTENDEE:5. letnik (PM)
ATTENDEE:magistrski študij (FM)
ATTENDEE:magistrski študij (IŠRM)
ATTENDEE:magistrski študij (M)
CATEGORIES:Entry,Standard
COLOR:darkgreen
DESCRIPTION:Predmet: Izbrana poglavja iz diskretne matematike (FM-M\, IŠR
 M-M\, MAT-M\, PM-5)\, Predavanja (P)\nLetniki: magistrski študij (FM)\, m
 agistrski študij (IŠRM)\, magistrski študij (M)\, 5. letnik (PM)\nIzvaj
 alci: Primož Potočnik\nProstor: 2.03
LOCATION:2.03
ORGANIZER:Primož Potočnik
RELATED-TO:fmf-AFLABS-URNIK:srecanje:5222
X-WR-TIMEZONE:Europe/Ljubljana
END:VEVENT
BEGIN:VEVENT
SUMMARY:Izbrana poglavja iz diskretne matematike (FM-M\, IŠRM-M\, MAT-M\,
  PM-5)\, Predavanja (P)
DTSTART;TZID=Europe/Ljubljana:20201008T100000
DTEND;TZID=Europe/Ljubljana:20201008T120000
DTSTAMP:20260423T160644Z
UID:fmf-AFLABS-URNIK:premaknjeno-srecanje:42768
ATTENDEE:5. letnik (PM)
ATTENDEE:magistrski študij (FM)
ATTENDEE:magistrski študij (IŠRM)
ATTENDEE:magistrski študij (M)
CATEGORIES:Entry,Standard
COLOR:darkgreen
DESCRIPTION:Predmet: Izbrana poglavja iz diskretne matematike (FM-M\, IŠR
 M-M\, MAT-M\, PM-5)\, Predavanja (P)\nLetniki: magistrski študij (FM)\, m
 agistrski študij (IŠRM)\, magistrski študij (M)\, 5. letnik (PM)\nIzvaj
 alci: Primož Potočnik\nProstor: 2.03
LOCATION:2.03
ORGANIZER:Primož Potočnik
RELATED-TO:fmf-AFLABS-URNIK:srecanje:5222
X-WR-TIMEZONE:Europe/Ljubljana
END:VEVENT
BEGIN:VEVENT
SUMMARY:Algebra in diskretna matematika (APM-2)\, Predavanja (P)
DTSTART;TZID=Europe/Ljubljana:20201002T110000
DTEND;TZID=Europe/Ljubljana:20201002T140000
DTSTAMP:20260423T160644Z
UID:fmf-AFLABS-URNIK:premaknjeno-srecanje:3542
ATTENDEE:2. letnik (APM)
CATEGORIES:Entry,Standard
COLOR:darkgreen
DESCRIPTION:Predmet: Algebra in diskretna matematika (APM-2)\, Predavanja 
 (P)\nLetniki: 2. letnik (APM)\nIzvajalci: Primož Potočnik\nProstor: P.02
LOCATION:P.02
ORGANIZER:Primož Potočnik
RELATED-TO:fmf-AFLABS-URNIK:srecanje:4663
X-WR-TIMEZONE:Europe/Ljubljana
END:VEVENT
BEGIN:VEVENT
SUMMARY:Algebra in diskretna matematika (APM-2)\, Predavanja (P)
DTSTART;TZID=Europe/Ljubljana:20201009T110000
DTEND;TZID=Europe/Ljubljana:20201009T140000
DTSTAMP:20260423T160644Z
UID:fmf-AFLABS-URNIK:premaknjeno-srecanje:3543
ATTENDEE:2. letnik (APM)
CATEGORIES:Entry,Standard
COLOR:darkgreen
DESCRIPTION:Predmet: Algebra in diskretna matematika (APM-2)\, Predavanja 
 (P)\nLetniki: 2. letnik (APM)\nIzvajalci: Primož Potočnik\nProstor: P.02
LOCATION:P.02
ORGANIZER:Primož Potočnik
RELATED-TO:fmf-AFLABS-URNIK:srecanje:4663
X-WR-TIMEZONE:Europe/Ljubljana
END:VEVENT
BEGIN:VEVENT
SUMMARY:Izbrana poglavja iz diskretne matematike (FM-M\, IŠRM-M\, MAT-M\,
  PM-5)\, Predavanja (P)
DTSTART;TZID=Europe/Ljubljana:20201005T130000
DTEND;TZID=Europe/Ljubljana:20201005T140000
DTSTAMP:20260423T160644Z
UID:fmf-AFLABS-URNIK:premaknjeno-srecanje:42752
ATTENDEE:5. letnik (PM)
ATTENDEE:magistrski študij (FM)
ATTENDEE:magistrski študij (IŠRM)
ATTENDEE:magistrski študij (M)
CATEGORIES:Entry,Standard
COLOR:darkgreen
DESCRIPTION:Predmet: Izbrana poglavja iz diskretne matematike (FM-M\, IŠR
 M-M\, MAT-M\, PM-5)\, Predavanja (P)\nLetniki: magistrski študij (FM)\, m
 agistrski študij (IŠRM)\, magistrski študij (M)\, 5. letnik (PM)\nIzvaj
 alci: Primož Potočnik\nProstor: P.02
LOCATION:P.02
ORGANIZER:Primož Potočnik
RELATED-TO:fmf-AFLABS-URNIK:srecanje:5311
X-WR-TIMEZONE:Europe/Ljubljana
END:VEVENT
BEGIN:VEVENT
SUMMARY:Izbrana poglavja iz diskretne matematike (FM-M\, IŠRM-M\, MAT-M\,
  PM-5)\, Predavanja (P)
DTSTART;TZID=Europe/Ljubljana:20201012T130000
DTEND;TZID=Europe/Ljubljana:20201012T140000
DTSTAMP:20260423T160644Z
UID:fmf-AFLABS-URNIK:premaknjeno-srecanje:42753
ATTENDEE:5. letnik (PM)
ATTENDEE:magistrski študij (FM)
ATTENDEE:magistrski študij (IŠRM)
ATTENDEE:magistrski študij (M)
CATEGORIES:Entry,Standard
COLOR:darkgreen
DESCRIPTION:Predmet: Izbrana poglavja iz diskretne matematike (FM-M\, IŠR
 M-M\, MAT-M\, PM-5)\, Predavanja (P)\nLetniki: magistrski študij (FM)\, m
 agistrski študij (IŠRM)\, magistrski študij (M)\, 5. letnik (PM)\nIzvaj
 alci: Primož Potočnik\nProstor: P.02
LOCATION:P.02
ORGANIZER:Primož Potočnik
RELATED-TO:fmf-AFLABS-URNIK:srecanje:5311
X-WR-TIMEZONE:Europe/Ljubljana
END:VEVENT
BEGIN:VEVENT
SUMMARY:Diskretne strukture 1 (IŠRM-1)\, Predavanja (P)
DTSTART;TZID=Europe/Ljubljana:20201006T120000
DTEND;TZID=Europe/Ljubljana:20201006T150000
DTSTAMP:20260423T160644Z
UID:fmf-AFLABS-URNIK:premaknjeno-srecanje:16717
ATTENDEE:1. letnik (IŠRM)
CATEGORIES:Entry,Standard
COLOR:darkgreen
DESCRIPTION:Predmet: Diskretne strukture 1 (IŠRM-1)\, Predavanja (P)\nLet
 niki: 1. letnik (IŠRM)\nIzvajalci: Primož Potočnik\nProstor: 3.04
LOCATION:3.04
ORGANIZER:Primož Potočnik
RELATED-TO:fmf-AFLABS-URNIK:srecanje:4721
X-WR-TIMEZONE:Europe/Ljubljana
END:VEVENT
BEGIN:VEVENT
SUMMARY:Seminar za diskretno matematiko (MAT-D)\, Seminar (S)
DTSTART;TZID=Europe/Ljubljana:20201006T100000
DTEND;TZID=Europe/Ljubljana:20201006T120000
DTSTAMP:20260423T160644Z
UID:fmf-AFLABS-URNIK:premaknjeno-srecanje:102248
ATTENDEE:doktorski študij (M)
CATEGORIES:Entry,Standard
COLOR:darkgreen
DESCRIPTION:Predmet: Seminar za diskretno matematiko (MAT-D)\, Seminar (S)
 \nLetniki: doktorski študij (M)\nIzvajalci: Primož Potočnik\nProstor: P
 lemljev seminar (IMFM)
LOCATION:Plemljev seminar (IMFM)
ORGANIZER:Primož Potočnik
RELATED-TO:fmf-AFLABS-URNIK:srecanje:5187
X-WR-TIMEZONE:Europe/Ljubljana
END:VEVENT
BEGIN:VEVENT
SUMMARY:Rezervacija
DTSTART;TZID=Europe/Ljubljana:20200911T100000
DTEND;TZID=Europe/Ljubljana:20200911T110000
DTSTAMP:20260423T160644Z
UID:fmf-AFLABS-URNIK:rezervacija:6381
CATEGORIES:Reservation
COLOR:royalblue
DESCRIPTION:Predmeti: \nLetniki: \nIzvajalci: Primož Potočnik\nProstori:
  P.02
LOCATION:P.02
ORGANIZER:Primož Potočnik
X-WR-TIMEZONE:Europe/Ljubljana
END:VEVENT
END:VCALENDAR
