BEGIN:VCALENDAR
VERSION:2.0
PRODID:-//AFLabs urnik izvoz - fmf//aflabs.si//SI
DTSTAMP:20260421T232439Z
NAME:UL FMF urnik
REFRESH-INTERVAL:PT1H
SOURCE:https://urnik.fmf.uni-lj.si/teacher/49?day=2021-09-06&export=1
URL:https://urnik.fmf.uni-lj.si/teacher/49?day=2021-09-06&export=1
X-PUBLISHED-TTL:PT1H
X-WR-CALNAME:UL FMF urnik
X-WR-TIMEZONE:Europe/Ljubljana
BEGIN:VTIMEZONE
TZID:Europe/Ljubljana
BEGIN:DAYLIGHT
DTSTART:20260329T020000
RDATE:20260329T020000
RDATE:20270328T020000
TZNAME:CEST
TZOFFSETFROM:+0100
TZOFFSETTO:+0200
END:DAYLIGHT
BEGIN:STANDARD
DTSTART:20261025T030000
RDATE:20261025T030000
RDATE:20271031T030000
TZNAME:CET
TZOFFSETFROM:+0200
TZOFFSETTO:+0100
END:STANDARD
END:VTIMEZONE
BEGIN:VEVENT
SUMMARY:Algebra in diskretna matematika (APM-2)\, Predavanja (P)
DTSTART;TZID=Europe/Ljubljana:20211001T110000
DTEND;TZID=Europe/Ljubljana:20211001T120000
DTSTAMP:20260421T232439Z
UID:fmf-AFLABS-URNIK:premaknjeno-srecanje:3510
ATTENDEE:2. letnik (APM)
CATEGORIES:Entry,Standard
COLOR:darkgreen
DESCRIPTION:Predmet: Algebra in diskretna matematika (APM-2)\, Predavanja 
 (P)\nLetniki: 2. letnik (APM)\nIzvajalci: Primož Potočnik\nProstor: P.01
LOCATION:P.01
ORGANIZER:Primož Potočnik
RELATED-TO:fmf-AFLABS-URNIK:srecanje:6101
X-WR-TIMEZONE:Europe/Ljubljana
END:VEVENT
BEGIN:VEVENT
SUMMARY:Algebra in diskretna matematika (APM-2)\, Predavanja (P)
DTSTART;TZID=Europe/Ljubljana:20211008T110000
DTEND;TZID=Europe/Ljubljana:20211008T120000
DTSTAMP:20260421T232439Z
UID:fmf-AFLABS-URNIK:premaknjeno-srecanje:3511
ATTENDEE:2. letnik (APM)
CATEGORIES:Entry,Standard
COLOR:darkgreen
DESCRIPTION:Predmet: Algebra in diskretna matematika (APM-2)\, Predavanja 
 (P)\nLetniki: 2. letnik (APM)\nIzvajalci: Primož Potočnik\nProstor: P.01
LOCATION:P.01
ORGANIZER:Primož Potočnik
RELATED-TO:fmf-AFLABS-URNIK:srecanje:6101
X-WR-TIMEZONE:Europe/Ljubljana
END:VEVENT
BEGIN:VEVENT
SUMMARY:Diskretne strukture 1 (IŠRM-1)\, Predavanja (P)
DTSTART;TZID=Europe/Ljubljana:20211001T080000
DTEND;TZID=Europe/Ljubljana:20211001T110000
DTSTAMP:20260421T232439Z
UID:fmf-AFLABS-URNIK:premaknjeno-srecanje:16779
ATTENDEE:1. letnik (IŠRM)
CATEGORIES:Entry,Standard
COLOR:darkgreen
DESCRIPTION:Predmet: Diskretne strukture 1 (IŠRM-1)\, Predavanja (P)\nLet
 niki: 1. letnik (IŠRM)\nIzvajalci: Primož Potočnik\nProstor: P.02
LOCATION:P.02
ORGANIZER:Primož Potočnik
RELATED-TO:fmf-AFLABS-URNIK:srecanje:6166
X-WR-TIMEZONE:Europe/Ljubljana
END:VEVENT
BEGIN:VEVENT
SUMMARY:Diskretne strukture 1 (IŠRM-1)\, Predavanja (P)
DTSTART;TZID=Europe/Ljubljana:20211008T080000
DTEND;TZID=Europe/Ljubljana:20211008T110000
DTSTAMP:20260421T232439Z
UID:fmf-AFLABS-URNIK:premaknjeno-srecanje:16780
ATTENDEE:1. letnik (IŠRM)
CATEGORIES:Entry,Standard
COLOR:darkgreen
DESCRIPTION:Predmet: Diskretne strukture 1 (IŠRM-1)\, Predavanja (P)\nLet
 niki: 1. letnik (IŠRM)\nIzvajalci: Primož Potočnik\nProstor: P.02
LOCATION:P.02
ORGANIZER:Primož Potočnik
RELATED-TO:fmf-AFLABS-URNIK:srecanje:6166
X-WR-TIMEZONE:Europe/Ljubljana
END:VEVENT
BEGIN:VEVENT
SUMMARY:Algebra in diskretna matematika (APM-2)\, Predavanja (P)
DTSTART;TZID=Europe/Ljubljana:20211004T100000
DTEND;TZID=Europe/Ljubljana:20211004T120000
DTSTAMP:20260421T232439Z
UID:fmf-AFLABS-URNIK:premaknjeno-srecanje:3430
ATTENDEE:2. letnik (APM)
CATEGORIES:Entry,Standard
COLOR:darkgreen
DESCRIPTION:Predmet: Algebra in diskretna matematika (APM-2)\, Predavanja 
 (P)\nLetniki: 2. letnik (APM)\nIzvajalci: Primož Potočnik\nProstor: 3.04
LOCATION:3.04
ORGANIZER:Primož Potočnik
RELATED-TO:fmf-AFLABS-URNIK:srecanje:6100
X-WR-TIMEZONE:Europe/Ljubljana
END:VEVENT
BEGIN:VEVENT
SUMMARY:Algebra in diskretna matematika (APM-2)\, Predavanja (P)
DTSTART;TZID=Europe/Ljubljana:20211011T100000
DTEND;TZID=Europe/Ljubljana:20211011T120000
DTSTAMP:20260421T232439Z
UID:fmf-AFLABS-URNIK:premaknjeno-srecanje:3431
ATTENDEE:2. letnik (APM)
CATEGORIES:Entry,Standard
COLOR:darkgreen
DESCRIPTION:Predmet: Algebra in diskretna matematika (APM-2)\, Predavanja 
 (P)\nLetniki: 2. letnik (APM)\nIzvajalci: Primož Potočnik\nProstor: 3.04
LOCATION:3.04
ORGANIZER:Primož Potočnik
RELATED-TO:fmf-AFLABS-URNIK:srecanje:6100
X-WR-TIMEZONE:Europe/Ljubljana
END:VEVENT
BEGIN:VEVENT
SUMMARY:Diplomski seminar (MAT-3)\, Predavanja (P)
DTSTART;TZID=Europe/Ljubljana:20211004T140000
DTEND;TZID=Europe/Ljubljana:20211004T160000
DTSTAMP:20260421T232439Z
UID:fmf-AFLABS-URNIK:premaknjeno-srecanje:15279
ATTENDEE:3. letnik (M)
CATEGORIES:Entry,Standard
COLOR:darkgreen
DESCRIPTION:Predmet: Diplomski seminar (MAT-3)\, Predavanja (P)\nLetniki: 
 3. letnik (M)\nIzvajalci: Primož Potočnik\nProstor: P.01
LOCATION:P.01
ORGANIZER:Primož Potočnik
RELATED-TO:fmf-AFLABS-URNIK:srecanje:6161
X-WR-TIMEZONE:Europe/Ljubljana
END:VEVENT
BEGIN:VEVENT
SUMMARY:Diplomski seminar (MAT-3)\, Predavanja (P)
DTSTART;TZID=Europe/Ljubljana:20211011T140000
DTEND;TZID=Europe/Ljubljana:20211011T160000
DTSTAMP:20260421T232439Z
UID:fmf-AFLABS-URNIK:premaknjeno-srecanje:15280
ATTENDEE:3. letnik (M)
CATEGORIES:Entry,Standard
COLOR:darkgreen
DESCRIPTION:Predmet: Diplomski seminar (MAT-3)\, Predavanja (P)\nLetniki: 
 3. letnik (M)\nIzvajalci: Primož Potočnik\nProstor: P.01
LOCATION:P.01
ORGANIZER:Primož Potočnik
RELATED-TO:fmf-AFLABS-URNIK:srecanje:6161
X-WR-TIMEZONE:Europe/Ljubljana
END:VEVENT
BEGIN:VEVENT
SUMMARY:Seminar za diskretno matematiko (MAT-D)\, Seminar (S)
DTSTART;TZID=Europe/Ljubljana:20211005T100000
DTEND;TZID=Europe/Ljubljana:20211005T120000
DTSTAMP:20260421T232439Z
UID:fmf-AFLABS-URNIK:premaknjeno-srecanje:102278
ATTENDEE:doktorski študij (M)
CATEGORIES:Entry,Standard
COLOR:darkgreen
DESCRIPTION:Predmet: Seminar za diskretno matematiko (MAT-D)\, Seminar (S)
 \nLetniki: doktorski študij (M)\nIzvajalci: Primož Potočnik\nProstor: P
 lemljev seminar (IMFM)
LOCATION:Plemljev seminar (IMFM)
ORGANIZER:Primož Potočnik
RELATED-TO:fmf-AFLABS-URNIK:srecanje:6585
X-WR-TIMEZONE:Europe/Ljubljana
END:VEVENT
BEGIN:VEVENT
SUMMARY:Rezervacija
DTSTART;TZID=Europe/Ljubljana:20210826T080000
DTEND;TZID=Europe/Ljubljana:20210826T100000
DTSTAMP:20260421T232439Z
UID:fmf-AFLABS-URNIK:rezervacija:7499
CATEGORIES:Reservation
COLOR:royalblue
DESCRIPTION:Predmeti: \nLetniki: \nIzvajalci: Primož Potočnik\nProstori:
  P.02
LOCATION:P.02
ORGANIZER:Primož Potočnik
X-WR-TIMEZONE:Europe/Ljubljana
END:VEVENT
BEGIN:VEVENT
SUMMARY:Rezervacija
DTSTART;TZID=Europe/Ljubljana:20210909T100000
DTEND;TZID=Europe/Ljubljana:20210909T110000
DTSTAMP:20260421T232439Z
UID:fmf-AFLABS-URNIK:rezervacija:7785
CATEGORIES:Reservation
COLOR:royalblue
DESCRIPTION:Predmeti: \nLetniki: \nIzvajalci: Primož Potočnik\nProstori:
  P.02
LOCATION:P.02
ORGANIZER:Primož Potočnik
X-WR-TIMEZONE:Europe/Ljubljana
END:VEVENT
END:VCALENDAR
