BEGIN:VCALENDAR
VERSION:2.0
PRODID:-//AFLabs urnik izvoz - fmf//aflabs.si//SI
DTSTAMP:20260421T030544Z
NAME:UL FMF urnik
REFRESH-INTERVAL:PT1H
SOURCE:https://urnik.fmf.uni-lj.si/teacher/49?day=2022-02-07&export=1
URL:https://urnik.fmf.uni-lj.si/teacher/49?day=2022-02-07&export=1
X-PUBLISHED-TTL:PT1H
X-WR-CALNAME:UL FMF urnik
X-WR-TIMEZONE:Europe/Ljubljana
BEGIN:VTIMEZONE
TZID:Europe/Ljubljana
BEGIN:DAYLIGHT
DTSTART:20260329T020000
RDATE:20260329T020000
RDATE:20270328T020000
TZNAME:CEST
TZOFFSETFROM:+0100
TZOFFSETTO:+0200
END:DAYLIGHT
BEGIN:STANDARD
DTSTART:20261025T030000
RDATE:20261025T030000
RDATE:20271031T030000
TZNAME:CET
TZOFFSETFROM:+0200
TZOFFSETTO:+0100
END:STANDARD
END:VTIMEZONE
BEGIN:VEVENT
SUMMARY:Algebra in diskretna matematika (APM-2)\, Predavanja (P)
DTSTART;TZID=Europe/Ljubljana:20220103T100000
DTEND;TZID=Europe/Ljubljana:20220103T120000
DTSTAMP:20260421T030544Z
UID:fmf-AFLABS-URNIK:premaknjeno-srecanje:3443
ATTENDEE:2. letnik (APM)
CATEGORIES:Entry,Standard
COLOR:darkgreen
DESCRIPTION:Predmet: Algebra in diskretna matematika (APM-2)\, Predavanja 
 (P)\nLetniki: 2. letnik (APM)\nIzvajalci: Primož Potočnik\nProstor: 3.04
LOCATION:3.04
ORGANIZER:Primož Potočnik
RELATED-TO:fmf-AFLABS-URNIK:srecanje:6100
X-WR-TIMEZONE:Europe/Ljubljana
END:VEVENT
BEGIN:VEVENT
SUMMARY:Algebra in diskretna matematika (APM-2)\, Predavanja (P)
DTSTART;TZID=Europe/Ljubljana:20220110T100000
DTEND;TZID=Europe/Ljubljana:20220110T120000
DTSTAMP:20260421T030544Z
UID:fmf-AFLABS-URNIK:premaknjeno-srecanje:3444
ATTENDEE:2. letnik (APM)
CATEGORIES:Entry,Standard
COLOR:darkgreen
DESCRIPTION:Predmet: Algebra in diskretna matematika (APM-2)\, Predavanja 
 (P)\nLetniki: 2. letnik (APM)\nIzvajalci: Primož Potočnik\nProstor: 3.04
LOCATION:3.04
ORGANIZER:Primož Potočnik
RELATED-TO:fmf-AFLABS-URNIK:srecanje:6100
X-WR-TIMEZONE:Europe/Ljubljana
END:VEVENT
BEGIN:VEVENT
SUMMARY:Diplomski seminar (MAT-3)\, Predavanja (P)
DTSTART;TZID=Europe/Ljubljana:20220103T140000
DTEND;TZID=Europe/Ljubljana:20220103T160000
DTSTAMP:20260421T030544Z
UID:fmf-AFLABS-URNIK:premaknjeno-srecanje:15292
ATTENDEE:3. letnik (M)
CATEGORIES:Entry,Standard
COLOR:darkgreen
DESCRIPTION:Predmet: Diplomski seminar (MAT-3)\, Predavanja (P)\nLetniki: 
 3. letnik (M)\nIzvajalci: Primož Potočnik\nProstor: P.01
LOCATION:P.01
ORGANIZER:Primož Potočnik
RELATED-TO:fmf-AFLABS-URNIK:srecanje:6161
X-WR-TIMEZONE:Europe/Ljubljana
END:VEVENT
BEGIN:VEVENT
SUMMARY:Diplomski seminar (MAT-3)\, Predavanja (P)
DTSTART;TZID=Europe/Ljubljana:20220110T140000
DTEND;TZID=Europe/Ljubljana:20220110T160000
DTSTAMP:20260421T030544Z
UID:fmf-AFLABS-URNIK:premaknjeno-srecanje:15293
ATTENDEE:3. letnik (M)
CATEGORIES:Entry,Standard
COLOR:darkgreen
DESCRIPTION:Predmet: Diplomski seminar (MAT-3)\, Predavanja (P)\nLetniki: 
 3. letnik (M)\nIzvajalci: Primož Potočnik\nProstor: P.01
LOCATION:P.01
ORGANIZER:Primož Potočnik
RELATED-TO:fmf-AFLABS-URNIK:srecanje:6161
X-WR-TIMEZONE:Europe/Ljubljana
END:VEVENT
BEGIN:VEVENT
SUMMARY:Seminar za diskretno matematiko (MAT-D)\, Seminar (S)
DTSTART;TZID=Europe/Ljubljana:20220104T100000
DTEND;TZID=Europe/Ljubljana:20220104T120000
DTSTAMP:20260421T030544Z
UID:fmf-AFLABS-URNIK:premaknjeno-srecanje:102291
ATTENDEE:doktorski študij (M)
CATEGORIES:Entry,Standard
COLOR:darkgreen
DESCRIPTION:Predmet: Seminar za diskretno matematiko (MAT-D)\, Seminar (S)
 \nLetniki: doktorski študij (M)\nIzvajalci: Primož Potočnik\nProstor: P
 lemljev seminar (IMFM)
LOCATION:Plemljev seminar (IMFM)
ORGANIZER:Primož Potočnik
RELATED-TO:fmf-AFLABS-URNIK:srecanje:6585
X-WR-TIMEZONE:Europe/Ljubljana
END:VEVENT
BEGIN:VEVENT
SUMMARY:Seminar za diskretno matematiko (MAT-D)\, Seminar (S)
DTSTART;TZID=Europe/Ljubljana:20220111T100000
DTEND;TZID=Europe/Ljubljana:20220111T120000
DTSTAMP:20260421T030544Z
UID:fmf-AFLABS-URNIK:premaknjeno-srecanje:102292
ATTENDEE:doktorski študij (M)
CATEGORIES:Entry,Standard
COLOR:darkgreen
DESCRIPTION:Predmet: Seminar za diskretno matematiko (MAT-D)\, Seminar (S)
 \nLetniki: doktorski študij (M)\nIzvajalci: Primož Potočnik\nProstor: P
 lemljev seminar (IMFM)
LOCATION:Plemljev seminar (IMFM)
ORGANIZER:Primož Potočnik
RELATED-TO:fmf-AFLABS-URNIK:srecanje:6585
X-WR-TIMEZONE:Europe/Ljubljana
END:VEVENT
BEGIN:VEVENT
SUMMARY:Algebra in diskretna matematika (APM-2)\, Predavanja (P)
DTSTART;TZID=Europe/Ljubljana:20220107T110000
DTEND;TZID=Europe/Ljubljana:20220107T120000
DTSTAMP:20260421T030544Z
UID:fmf-AFLABS-URNIK:premaknjeno-srecanje:3524
ATTENDEE:2. letnik (APM)
CATEGORIES:Entry,Standard
COLOR:darkgreen
DESCRIPTION:Predmet: Algebra in diskretna matematika (APM-2)\, Predavanja 
 (P)\nLetniki: 2. letnik (APM)\nIzvajalci: Primož Potočnik\nProstor: P.01
LOCATION:P.01
ORGANIZER:Primož Potočnik
RELATED-TO:fmf-AFLABS-URNIK:srecanje:6101
X-WR-TIMEZONE:Europe/Ljubljana
END:VEVENT
BEGIN:VEVENT
SUMMARY:Algebra in diskretna matematika (APM-2)\, Predavanja (P)
DTSTART;TZID=Europe/Ljubljana:20220114T110000
DTEND;TZID=Europe/Ljubljana:20220114T120000
DTSTAMP:20260421T030544Z
UID:fmf-AFLABS-URNIK:premaknjeno-srecanje:3525
ATTENDEE:2. letnik (APM)
CATEGORIES:Entry,Standard
COLOR:darkgreen
DESCRIPTION:Predmet: Algebra in diskretna matematika (APM-2)\, Predavanja 
 (P)\nLetniki: 2. letnik (APM)\nIzvajalci: Primož Potočnik\nProstor: P.01
LOCATION:P.01
ORGANIZER:Primož Potočnik
RELATED-TO:fmf-AFLABS-URNIK:srecanje:6101
X-WR-TIMEZONE:Europe/Ljubljana
END:VEVENT
BEGIN:VEVENT
SUMMARY:Diskretne strukture 1 (IŠRM-1)\, Predavanja (P)
DTSTART;TZID=Europe/Ljubljana:20220107T080000
DTEND;TZID=Europe/Ljubljana:20220107T110000
DTSTAMP:20260421T030544Z
UID:fmf-AFLABS-URNIK:premaknjeno-srecanje:16793
ATTENDEE:1. letnik (IŠRM)
CATEGORIES:Entry,Standard
COLOR:darkgreen
DESCRIPTION:Predmet: Diskretne strukture 1 (IŠRM-1)\, Predavanja (P)\nLet
 niki: 1. letnik (IŠRM)\nIzvajalci: Primož Potočnik\nProstor: P.02
LOCATION:P.02
ORGANIZER:Primož Potočnik
RELATED-TO:fmf-AFLABS-URNIK:srecanje:6166
X-WR-TIMEZONE:Europe/Ljubljana
END:VEVENT
BEGIN:VEVENT
SUMMARY:Diskretne strukture 1 (IŠRM-1)\, Predavanja (P)
DTSTART;TZID=Europe/Ljubljana:20220114T080000
DTEND;TZID=Europe/Ljubljana:20220114T110000
DTSTAMP:20260421T030544Z
UID:fmf-AFLABS-URNIK:premaknjeno-srecanje:16794
ATTENDEE:1. letnik (IŠRM)
CATEGORIES:Entry,Standard
COLOR:darkgreen
DESCRIPTION:Predmet: Diskretne strukture 1 (IŠRM-1)\, Predavanja (P)\nLet
 niki: 1. letnik (IŠRM)\nIzvajalci: Primož Potočnik\nProstor: P.02
LOCATION:P.02
ORGANIZER:Primož Potočnik
RELATED-TO:fmf-AFLABS-URNIK:srecanje:6166
X-WR-TIMEZONE:Europe/Ljubljana
END:VEVENT
BEGIN:VEVENT
SUMMARY:Diplomski seminar (MAT-3)\, Seminar (S)
DTSTART;TZID=Europe/Ljubljana:20220215T120000
DTEND;TZID=Europe/Ljubljana:20220215T140000
DTSTAMP:20260421T030544Z
UID:fmf-AFLABS-URNIK:premaknjeno-srecanje:15593
ATTENDEE:3. letnik (M)
CATEGORIES:Entry,Standard
COLOR:darkgreen
DESCRIPTION:Predmet: Diplomski seminar (MAT-3)\, Seminar (S)\nLetniki: 3. 
 letnik (M)\nIzvajalci: Primož Potočnik\nProstor: P.02
LOCATION:P.02
ORGANIZER:Primož Potočnik
RELATED-TO:fmf-AFLABS-URNIK:srecanje:6888
X-WR-TIMEZONE:Europe/Ljubljana
END:VEVENT
BEGIN:VEVENT
SUMMARY:Diplomski seminar (MAT-3)\, Seminar (S)
DTSTART;TZID=Europe/Ljubljana:20220222T120000
DTEND;TZID=Europe/Ljubljana:20220222T140000
DTSTAMP:20260421T030544Z
UID:fmf-AFLABS-URNIK:premaknjeno-srecanje:15594
ATTENDEE:3. letnik (M)
CATEGORIES:Entry,Standard
COLOR:darkgreen
DESCRIPTION:Predmet: Diplomski seminar (MAT-3)\, Seminar (S)\nLetniki: 3. 
 letnik (M)\nIzvajalci: Primož Potočnik\nProstor: P.02
LOCATION:P.02
ORGANIZER:Primož Potočnik
RELATED-TO:fmf-AFLABS-URNIK:srecanje:6888
X-WR-TIMEZONE:Europe/Ljubljana
END:VEVENT
BEGIN:VEVENT
SUMMARY:Diplomski seminar (MAT-3)\, Seminar (S)
DTSTART;TZID=Europe/Ljubljana:20220301T120000
DTEND;TZID=Europe/Ljubljana:20220301T140000
DTSTAMP:20260421T030544Z
UID:fmf-AFLABS-URNIK:premaknjeno-srecanje:15595
ATTENDEE:3. letnik (M)
CATEGORIES:Entry,Standard
COLOR:darkgreen
DESCRIPTION:Predmet: Diplomski seminar (MAT-3)\, Seminar (S)\nLetniki: 3. 
 letnik (M)\nIzvajalci: Primož Potočnik\nProstor: P.02
LOCATION:P.02
ORGANIZER:Primož Potočnik
RELATED-TO:fmf-AFLABS-URNIK:srecanje:6888
X-WR-TIMEZONE:Europe/Ljubljana
END:VEVENT
BEGIN:VEVENT
SUMMARY:Diplomski seminar (MAT-3)\, Seminar (S)
DTSTART;TZID=Europe/Ljubljana:20220308T120000
DTEND;TZID=Europe/Ljubljana:20220308T140000
DTSTAMP:20260421T030544Z
UID:fmf-AFLABS-URNIK:premaknjeno-srecanje:15596
ATTENDEE:3. letnik (M)
CATEGORIES:Entry,Standard
COLOR:darkgreen
DESCRIPTION:Predmet: Diplomski seminar (MAT-3)\, Seminar (S)\nLetniki: 3. 
 letnik (M)\nIzvajalci: Primož Potočnik\nProstor: P.02
LOCATION:P.02
ORGANIZER:Primož Potočnik
RELATED-TO:fmf-AFLABS-URNIK:srecanje:6888
X-WR-TIMEZONE:Europe/Ljubljana
END:VEVENT
BEGIN:VEVENT
SUMMARY:Seminar za diskretno matematiko (MAT-D)\, Seminar (S)
DTSTART;TZID=Europe/Ljubljana:20220215T100000
DTEND;TZID=Europe/Ljubljana:20220215T120000
DTSTAMP:20260421T030544Z
UID:fmf-AFLABS-URNIK:premaknjeno-srecanje:102293
ATTENDEE:doktorski študij (M)
CATEGORIES:Entry,Standard
COLOR:darkgreen
DESCRIPTION:Predmet: Seminar za diskretno matematiko (MAT-D)\, Seminar (S)
 \nLetniki: doktorski študij (M)\nIzvajalci: Primož Potočnik\nProstor: P
 lemljev seminar (IMFM)
LOCATION:Plemljev seminar (IMFM)
ORGANIZER:Primož Potočnik
RELATED-TO:fmf-AFLABS-URNIK:srecanje:7276
X-WR-TIMEZONE:Europe/Ljubljana
END:VEVENT
BEGIN:VEVENT
SUMMARY:Seminar za diskretno matematiko (MAT-D)\, Seminar (S)
DTSTART;TZID=Europe/Ljubljana:20220222T100000
DTEND;TZID=Europe/Ljubljana:20220222T120000
DTSTAMP:20260421T030544Z
UID:fmf-AFLABS-URNIK:premaknjeno-srecanje:102294
ATTENDEE:doktorski študij (M)
CATEGORIES:Entry,Standard
COLOR:darkgreen
DESCRIPTION:Predmet: Seminar za diskretno matematiko (MAT-D)\, Seminar (S)
 \nLetniki: doktorski študij (M)\nIzvajalci: Primož Potočnik\nProstor: P
 lemljev seminar (IMFM)
LOCATION:Plemljev seminar (IMFM)
ORGANIZER:Primož Potočnik
RELATED-TO:fmf-AFLABS-URNIK:srecanje:7276
X-WR-TIMEZONE:Europe/Ljubljana
END:VEVENT
BEGIN:VEVENT
SUMMARY:Seminar za diskretno matematiko (MAT-D)\, Seminar (S)
DTSTART;TZID=Europe/Ljubljana:20220301T100000
DTEND;TZID=Europe/Ljubljana:20220301T120000
DTSTAMP:20260421T030544Z
UID:fmf-AFLABS-URNIK:premaknjeno-srecanje:102295
ATTENDEE:doktorski študij (M)
CATEGORIES:Entry,Standard
COLOR:darkgreen
DESCRIPTION:Predmet: Seminar za diskretno matematiko (MAT-D)\, Seminar (S)
 \nLetniki: doktorski študij (M)\nIzvajalci: Primož Potočnik\nProstor: P
 lemljev seminar (IMFM)
LOCATION:Plemljev seminar (IMFM)
ORGANIZER:Primož Potočnik
RELATED-TO:fmf-AFLABS-URNIK:srecanje:7276
X-WR-TIMEZONE:Europe/Ljubljana
END:VEVENT
BEGIN:VEVENT
SUMMARY:Seminar za diskretno matematiko (MAT-D)\, Seminar (S)
DTSTART;TZID=Europe/Ljubljana:20220308T100000
DTEND;TZID=Europe/Ljubljana:20220308T120000
DTSTAMP:20260421T030544Z
UID:fmf-AFLABS-URNIK:premaknjeno-srecanje:102296
ATTENDEE:doktorski študij (M)
CATEGORIES:Entry,Standard
COLOR:darkgreen
DESCRIPTION:Predmet: Seminar za diskretno matematiko (MAT-D)\, Seminar (S)
 \nLetniki: doktorski študij (M)\nIzvajalci: Primož Potočnik\nProstor: P
 lemljev seminar (IMFM)
LOCATION:Plemljev seminar (IMFM)
ORGANIZER:Primož Potočnik
RELATED-TO:fmf-AFLABS-URNIK:srecanje:7276
X-WR-TIMEZONE:Europe/Ljubljana
END:VEVENT
BEGIN:VEVENT
SUMMARY:Diplomski seminar (MAT-3)\, Seminar (S)
DTSTART;TZID=Europe/Ljubljana:20220216T150000
DTEND;TZID=Europe/Ljubljana:20220216T170000
DTSTAMP:20260421T030544Z
UID:fmf-AFLABS-URNIK:premaknjeno-srecanje:15685
ATTENDEE:3. letnik (M)
CATEGORIES:Entry,Standard
COLOR:darkgreen
DESCRIPTION:Predmet: Diplomski seminar (MAT-3)\, Seminar (S)\nLetniki: 3. 
 letnik (M)\nIzvajalci: Primož Potočnik\nProstor: P.02
LOCATION:P.02
ORGANIZER:Primož Potočnik
RELATED-TO:fmf-AFLABS-URNIK:srecanje:6889
X-WR-TIMEZONE:Europe/Ljubljana
END:VEVENT
BEGIN:VEVENT
SUMMARY:Diplomski seminar (MAT-3)\, Seminar (S)
DTSTART;TZID=Europe/Ljubljana:20220223T150000
DTEND;TZID=Europe/Ljubljana:20220223T170000
DTSTAMP:20260421T030544Z
UID:fmf-AFLABS-URNIK:premaknjeno-srecanje:15686
ATTENDEE:3. letnik (M)
CATEGORIES:Entry,Standard
COLOR:darkgreen
DESCRIPTION:Predmet: Diplomski seminar (MAT-3)\, Seminar (S)\nLetniki: 3. 
 letnik (M)\nIzvajalci: Primož Potočnik\nProstor: P.02
LOCATION:P.02
ORGANIZER:Primož Potočnik
RELATED-TO:fmf-AFLABS-URNIK:srecanje:6889
X-WR-TIMEZONE:Europe/Ljubljana
END:VEVENT
BEGIN:VEVENT
SUMMARY:Diplomski seminar (MAT-3)\, Seminar (S)
DTSTART;TZID=Europe/Ljubljana:20220302T150000
DTEND;TZID=Europe/Ljubljana:20220302T170000
DTSTAMP:20260421T030544Z
UID:fmf-AFLABS-URNIK:premaknjeno-srecanje:15687
ATTENDEE:3. letnik (M)
CATEGORIES:Entry,Standard
COLOR:darkgreen
DESCRIPTION:Predmet: Diplomski seminar (MAT-3)\, Seminar (S)\nLetniki: 3. 
 letnik (M)\nIzvajalci: Primož Potočnik\nProstor: P.02
LOCATION:P.02
ORGANIZER:Primož Potočnik
RELATED-TO:fmf-AFLABS-URNIK:srecanje:6889
X-WR-TIMEZONE:Europe/Ljubljana
END:VEVENT
BEGIN:VEVENT
SUMMARY:Diplomski seminar (MAT-3)\, Seminar (S)
DTSTART;TZID=Europe/Ljubljana:20220309T150000
DTEND;TZID=Europe/Ljubljana:20220309T170000
DTSTAMP:20260421T030544Z
UID:fmf-AFLABS-URNIK:premaknjeno-srecanje:15688
ATTENDEE:3. letnik (M)
CATEGORIES:Entry,Standard
COLOR:darkgreen
DESCRIPTION:Predmet: Diplomski seminar (MAT-3)\, Seminar (S)\nLetniki: 3. 
 letnik (M)\nIzvajalci: Primož Potočnik\nProstor: P.02
LOCATION:P.02
ORGANIZER:Primož Potočnik
RELATED-TO:fmf-AFLABS-URNIK:srecanje:6889
X-WR-TIMEZONE:Europe/Ljubljana
END:VEVENT
END:VCALENDAR
