BEGIN:VCALENDAR
VERSION:2.0
PRODID:-//AFLabs urnik izvoz - fmf//aflabs.si//SI
DTSTAMP:20260419T234927Z
NAME:UL FMF urnik
REFRESH-INTERVAL:PT1H
SOURCE:https://urnik.fmf.uni-lj.si/teacher/49?day=2022-04-04&export=1
URL:https://urnik.fmf.uni-lj.si/teacher/49?day=2022-04-04&export=1
X-PUBLISHED-TTL:PT1H
X-WR-CALNAME:UL FMF urnik
X-WR-TIMEZONE:Europe/Ljubljana
BEGIN:VTIMEZONE
TZID:Europe/Ljubljana
BEGIN:DAYLIGHT
DTSTART:20260329T020000
RDATE:20260329T020000
RDATE:20270328T020000
TZNAME:CEST
TZOFFSETFROM:+0100
TZOFFSETTO:+0200
END:DAYLIGHT
BEGIN:STANDARD
DTSTART:20261025T030000
RDATE:20261025T030000
RDATE:20271031T030000
TZNAME:CET
TZOFFSETFROM:+0200
TZOFFSETTO:+0100
END:STANDARD
END:VTIMEZONE
BEGIN:VEVENT
SUMMARY:Diplomski seminar (MAT-3)\, Seminar (S)
DTSTART;TZID=Europe/Ljubljana:20220215T120000
DTEND;TZID=Europe/Ljubljana:20220215T140000
DTSTAMP:20260419T234927Z
UID:fmf-AFLABS-URNIK:premaknjeno-srecanje:15593
ATTENDEE:3. letnik (M)
CATEGORIES:Entry,Standard
COLOR:darkgreen
DESCRIPTION:Predmet: Diplomski seminar (MAT-3)\, Seminar (S)\nLetniki: 3. 
 letnik (M)\nIzvajalci: Primož Potočnik\nProstor: P.02
LOCATION:P.02
ORGANIZER:Primož Potočnik
RELATED-TO:fmf-AFLABS-URNIK:srecanje:6888
X-WR-TIMEZONE:Europe/Ljubljana
END:VEVENT
BEGIN:VEVENT
SUMMARY:Diplomski seminar (MAT-3)\, Seminar (S)
DTSTART;TZID=Europe/Ljubljana:20220222T120000
DTEND;TZID=Europe/Ljubljana:20220222T140000
DTSTAMP:20260419T234927Z
UID:fmf-AFLABS-URNIK:premaknjeno-srecanje:15594
ATTENDEE:3. letnik (M)
CATEGORIES:Entry,Standard
COLOR:darkgreen
DESCRIPTION:Predmet: Diplomski seminar (MAT-3)\, Seminar (S)\nLetniki: 3. 
 letnik (M)\nIzvajalci: Primož Potočnik\nProstor: P.02
LOCATION:P.02
ORGANIZER:Primož Potočnik
RELATED-TO:fmf-AFLABS-URNIK:srecanje:6888
X-WR-TIMEZONE:Europe/Ljubljana
END:VEVENT
BEGIN:VEVENT
SUMMARY:Diplomski seminar (MAT-3)\, Seminar (S)
DTSTART;TZID=Europe/Ljubljana:20220301T120000
DTEND;TZID=Europe/Ljubljana:20220301T140000
DTSTAMP:20260419T234927Z
UID:fmf-AFLABS-URNIK:premaknjeno-srecanje:15595
ATTENDEE:3. letnik (M)
CATEGORIES:Entry,Standard
COLOR:darkgreen
DESCRIPTION:Predmet: Diplomski seminar (MAT-3)\, Seminar (S)\nLetniki: 3. 
 letnik (M)\nIzvajalci: Primož Potočnik\nProstor: P.02
LOCATION:P.02
ORGANIZER:Primož Potočnik
RELATED-TO:fmf-AFLABS-URNIK:srecanje:6888
X-WR-TIMEZONE:Europe/Ljubljana
END:VEVENT
BEGIN:VEVENT
SUMMARY:Diplomski seminar (MAT-3)\, Seminar (S)
DTSTART;TZID=Europe/Ljubljana:20220308T120000
DTEND;TZID=Europe/Ljubljana:20220308T140000
DTSTAMP:20260419T234927Z
UID:fmf-AFLABS-URNIK:premaknjeno-srecanje:15596
ATTENDEE:3. letnik (M)
CATEGORIES:Entry,Standard
COLOR:darkgreen
DESCRIPTION:Predmet: Diplomski seminar (MAT-3)\, Seminar (S)\nLetniki: 3. 
 letnik (M)\nIzvajalci: Primož Potočnik\nProstor: P.02
LOCATION:P.02
ORGANIZER:Primož Potočnik
RELATED-TO:fmf-AFLABS-URNIK:srecanje:6888
X-WR-TIMEZONE:Europe/Ljubljana
END:VEVENT
BEGIN:VEVENT
SUMMARY:Diplomski seminar (MAT-3)\, Seminar (S)
DTSTART;TZID=Europe/Ljubljana:20220315T120000
DTEND;TZID=Europe/Ljubljana:20220315T140000
DTSTAMP:20260419T234927Z
UID:fmf-AFLABS-URNIK:premaknjeno-srecanje:15597
ATTENDEE:3. letnik (M)
CATEGORIES:Entry,Standard
COLOR:darkgreen
DESCRIPTION:Predmet: Diplomski seminar (MAT-3)\, Seminar (S)\nLetniki: 3. 
 letnik (M)\nIzvajalci: Primož Potočnik\nProstor: P.02
LOCATION:P.02
ORGANIZER:Primož Potočnik
RELATED-TO:fmf-AFLABS-URNIK:srecanje:6888
X-WR-TIMEZONE:Europe/Ljubljana
END:VEVENT
BEGIN:VEVENT
SUMMARY:Diplomski seminar (MAT-3)\, Seminar (S)
DTSTART;TZID=Europe/Ljubljana:20220322T120000
DTEND;TZID=Europe/Ljubljana:20220322T140000
DTSTAMP:20260419T234927Z
UID:fmf-AFLABS-URNIK:premaknjeno-srecanje:15598
ATTENDEE:3. letnik (M)
CATEGORIES:Entry,Standard
COLOR:darkgreen
DESCRIPTION:Predmet: Diplomski seminar (MAT-3)\, Seminar (S)\nLetniki: 3. 
 letnik (M)\nIzvajalci: Primož Potočnik\nProstor: P.02
LOCATION:P.02
ORGANIZER:Primož Potočnik
RELATED-TO:fmf-AFLABS-URNIK:srecanje:6888
X-WR-TIMEZONE:Europe/Ljubljana
END:VEVENT
BEGIN:VEVENT
SUMMARY:Diplomski seminar (MAT-3)\, Seminar (S)
DTSTART;TZID=Europe/Ljubljana:20220329T120000
DTEND;TZID=Europe/Ljubljana:20220329T140000
DTSTAMP:20260419T234927Z
UID:fmf-AFLABS-URNIK:premaknjeno-srecanje:15599
ATTENDEE:3. letnik (M)
CATEGORIES:Entry,Standard
COLOR:darkgreen
DESCRIPTION:Predmet: Diplomski seminar (MAT-3)\, Seminar (S)\nLetniki: 3. 
 letnik (M)\nIzvajalci: Primož Potočnik\nProstor: P.02
LOCATION:P.02
ORGANIZER:Primož Potočnik
RELATED-TO:fmf-AFLABS-URNIK:srecanje:6888
X-WR-TIMEZONE:Europe/Ljubljana
END:VEVENT
BEGIN:VEVENT
SUMMARY:Diplomski seminar (MAT-3)\, Seminar (S)
DTSTART;TZID=Europe/Ljubljana:20220405T120000
DTEND;TZID=Europe/Ljubljana:20220405T140000
DTSTAMP:20260419T234927Z
UID:fmf-AFLABS-URNIK:premaknjeno-srecanje:15600
ATTENDEE:3. letnik (M)
CATEGORIES:Entry,Standard
COLOR:darkgreen
DESCRIPTION:Predmet: Diplomski seminar (MAT-3)\, Seminar (S)\nLetniki: 3. 
 letnik (M)\nIzvajalci: Primož Potočnik\nProstor: P.02
LOCATION:P.02
ORGANIZER:Primož Potočnik
RELATED-TO:fmf-AFLABS-URNIK:srecanje:6888
X-WR-TIMEZONE:Europe/Ljubljana
END:VEVENT
BEGIN:VEVENT
SUMMARY:Diplomski seminar (MAT-3)\, Seminar (S)
DTSTART;TZID=Europe/Ljubljana:20220412T120000
DTEND;TZID=Europe/Ljubljana:20220412T140000
DTSTAMP:20260419T234927Z
UID:fmf-AFLABS-URNIK:premaknjeno-srecanje:15601
ATTENDEE:3. letnik (M)
CATEGORIES:Entry,Standard
COLOR:darkgreen
DESCRIPTION:Predmet: Diplomski seminar (MAT-3)\, Seminar (S)\nLetniki: 3. 
 letnik (M)\nIzvajalci: Primož Potočnik\nProstor: P.02
LOCATION:P.02
ORGANIZER:Primož Potočnik
RELATED-TO:fmf-AFLABS-URNIK:srecanje:6888
X-WR-TIMEZONE:Europe/Ljubljana
END:VEVENT
BEGIN:VEVENT
SUMMARY:Diplomski seminar (MAT-3)\, Seminar (S)
DTSTART;TZID=Europe/Ljubljana:20220419T120000
DTEND;TZID=Europe/Ljubljana:20220419T140000
DTSTAMP:20260419T234927Z
UID:fmf-AFLABS-URNIK:premaknjeno-srecanje:15602
ATTENDEE:3. letnik (M)
CATEGORIES:Entry,Standard
COLOR:darkgreen
DESCRIPTION:Predmet: Diplomski seminar (MAT-3)\, Seminar (S)\nLetniki: 3. 
 letnik (M)\nIzvajalci: Primož Potočnik\nProstor: P.02
LOCATION:P.02
ORGANIZER:Primož Potočnik
RELATED-TO:fmf-AFLABS-URNIK:srecanje:6888
X-WR-TIMEZONE:Europe/Ljubljana
END:VEVENT
BEGIN:VEVENT
SUMMARY:Diplomski seminar (MAT-3)\, Seminar (S)
DTSTART;TZID=Europe/Ljubljana:20220426T120000
DTEND;TZID=Europe/Ljubljana:20220426T140000
DTSTAMP:20260419T234927Z
UID:fmf-AFLABS-URNIK:premaknjeno-srecanje:15603
ATTENDEE:3. letnik (M)
CATEGORIES:Entry,Standard
COLOR:darkgreen
DESCRIPTION:Predmet: Diplomski seminar (MAT-3)\, Seminar (S)\nLetniki: 3. 
 letnik (M)\nIzvajalci: Primož Potočnik\nProstor: P.02
LOCATION:P.02
ORGANIZER:Primož Potočnik
RELATED-TO:fmf-AFLABS-URNIK:srecanje:6888
X-WR-TIMEZONE:Europe/Ljubljana
END:VEVENT
BEGIN:VEVENT
SUMMARY:Diplomski seminar (MAT-3)\, Seminar (S)
DTSTART;TZID=Europe/Ljubljana:20220503T120000
DTEND;TZID=Europe/Ljubljana:20220503T140000
DTSTAMP:20260419T234927Z
UID:fmf-AFLABS-URNIK:premaknjeno-srecanje:15604
ATTENDEE:3. letnik (M)
CATEGORIES:Entry,Standard
COLOR:darkgreen
DESCRIPTION:Predmet: Diplomski seminar (MAT-3)\, Seminar (S)\nLetniki: 3. 
 letnik (M)\nIzvajalci: Primož Potočnik\nProstor: P.02
LOCATION:P.02
ORGANIZER:Primož Potočnik
RELATED-TO:fmf-AFLABS-URNIK:srecanje:6888
X-WR-TIMEZONE:Europe/Ljubljana
END:VEVENT
BEGIN:VEVENT
SUMMARY:Diplomski seminar (MAT-3)\, Seminar (S)
DTSTART;TZID=Europe/Ljubljana:20220510T120000
DTEND;TZID=Europe/Ljubljana:20220510T140000
DTSTAMP:20260419T234927Z
UID:fmf-AFLABS-URNIK:premaknjeno-srecanje:15605
ATTENDEE:3. letnik (M)
CATEGORIES:Entry,Standard
COLOR:darkgreen
DESCRIPTION:Predmet: Diplomski seminar (MAT-3)\, Seminar (S)\nLetniki: 3. 
 letnik (M)\nIzvajalci: Primož Potočnik\nProstor: P.02
LOCATION:P.02
ORGANIZER:Primož Potočnik
RELATED-TO:fmf-AFLABS-URNIK:srecanje:6888
X-WR-TIMEZONE:Europe/Ljubljana
END:VEVENT
BEGIN:VEVENT
SUMMARY:Diplomski seminar (MAT-3)\, Seminar (S)
DTSTART;TZID=Europe/Ljubljana:20220517T120000
DTEND;TZID=Europe/Ljubljana:20220517T140000
DTSTAMP:20260419T234927Z
UID:fmf-AFLABS-URNIK:premaknjeno-srecanje:15606
ATTENDEE:3. letnik (M)
CATEGORIES:Entry,Standard
COLOR:darkgreen
DESCRIPTION:Predmet: Diplomski seminar (MAT-3)\, Seminar (S)\nLetniki: 3. 
 letnik (M)\nIzvajalci: Primož Potočnik\nProstor: P.02
LOCATION:P.02
ORGANIZER:Primož Potočnik
RELATED-TO:fmf-AFLABS-URNIK:srecanje:6888
X-WR-TIMEZONE:Europe/Ljubljana
END:VEVENT
BEGIN:VEVENT
SUMMARY:Diplomski seminar (MAT-3)\, Seminar (S)
DTSTART;TZID=Europe/Ljubljana:20220524T120000
DTEND;TZID=Europe/Ljubljana:20220524T140000
DTSTAMP:20260419T234927Z
UID:fmf-AFLABS-URNIK:premaknjeno-srecanje:15607
ATTENDEE:3. letnik (M)
CATEGORIES:Entry,Standard
COLOR:darkgreen
DESCRIPTION:Predmet: Diplomski seminar (MAT-3)\, Seminar (S)\nLetniki: 3. 
 letnik (M)\nIzvajalci: Primož Potočnik\nProstor: P.02
LOCATION:P.02
ORGANIZER:Primož Potočnik
RELATED-TO:fmf-AFLABS-URNIK:srecanje:6888
X-WR-TIMEZONE:Europe/Ljubljana
END:VEVENT
BEGIN:VEVENT
SUMMARY:Diplomski seminar (MAT-3)\, Seminar (S)
DTSTART;TZID=Europe/Ljubljana:20220531T120000
DTEND;TZID=Europe/Ljubljana:20220531T140000
DTSTAMP:20260419T234927Z
UID:fmf-AFLABS-URNIK:premaknjeno-srecanje:15608
ATTENDEE:3. letnik (M)
CATEGORIES:Entry,Standard
COLOR:darkgreen
DESCRIPTION:Predmet: Diplomski seminar (MAT-3)\, Seminar (S)\nLetniki: 3. 
 letnik (M)\nIzvajalci: Primož Potočnik\nProstor: P.02
LOCATION:P.02
ORGANIZER:Primož Potočnik
RELATED-TO:fmf-AFLABS-URNIK:srecanje:6888
X-WR-TIMEZONE:Europe/Ljubljana
END:VEVENT
BEGIN:VEVENT
SUMMARY:Seminar za diskretno matematiko (MAT-D)\, Seminar (S)
DTSTART;TZID=Europe/Ljubljana:20220215T100000
DTEND;TZID=Europe/Ljubljana:20220215T120000
DTSTAMP:20260419T234927Z
UID:fmf-AFLABS-URNIK:premaknjeno-srecanje:102293
ATTENDEE:doktorski študij (M)
CATEGORIES:Entry,Standard
COLOR:darkgreen
DESCRIPTION:Predmet: Seminar za diskretno matematiko (MAT-D)\, Seminar (S)
 \nLetniki: doktorski študij (M)\nIzvajalci: Primož Potočnik\nProstor: P
 lemljev seminar (IMFM)
LOCATION:Plemljev seminar (IMFM)
ORGANIZER:Primož Potočnik
RELATED-TO:fmf-AFLABS-URNIK:srecanje:7276
X-WR-TIMEZONE:Europe/Ljubljana
END:VEVENT
BEGIN:VEVENT
SUMMARY:Seminar za diskretno matematiko (MAT-D)\, Seminar (S)
DTSTART;TZID=Europe/Ljubljana:20220222T100000
DTEND;TZID=Europe/Ljubljana:20220222T120000
DTSTAMP:20260419T234927Z
UID:fmf-AFLABS-URNIK:premaknjeno-srecanje:102294
ATTENDEE:doktorski študij (M)
CATEGORIES:Entry,Standard
COLOR:darkgreen
DESCRIPTION:Predmet: Seminar za diskretno matematiko (MAT-D)\, Seminar (S)
 \nLetniki: doktorski študij (M)\nIzvajalci: Primož Potočnik\nProstor: P
 lemljev seminar (IMFM)
LOCATION:Plemljev seminar (IMFM)
ORGANIZER:Primož Potočnik
RELATED-TO:fmf-AFLABS-URNIK:srecanje:7276
X-WR-TIMEZONE:Europe/Ljubljana
END:VEVENT
BEGIN:VEVENT
SUMMARY:Seminar za diskretno matematiko (MAT-D)\, Seminar (S)
DTSTART;TZID=Europe/Ljubljana:20220301T100000
DTEND;TZID=Europe/Ljubljana:20220301T120000
DTSTAMP:20260419T234927Z
UID:fmf-AFLABS-URNIK:premaknjeno-srecanje:102295
ATTENDEE:doktorski študij (M)
CATEGORIES:Entry,Standard
COLOR:darkgreen
DESCRIPTION:Predmet: Seminar za diskretno matematiko (MAT-D)\, Seminar (S)
 \nLetniki: doktorski študij (M)\nIzvajalci: Primož Potočnik\nProstor: P
 lemljev seminar (IMFM)
LOCATION:Plemljev seminar (IMFM)
ORGANIZER:Primož Potočnik
RELATED-TO:fmf-AFLABS-URNIK:srecanje:7276
X-WR-TIMEZONE:Europe/Ljubljana
END:VEVENT
BEGIN:VEVENT
SUMMARY:Seminar za diskretno matematiko (MAT-D)\, Seminar (S)
DTSTART;TZID=Europe/Ljubljana:20220308T100000
DTEND;TZID=Europe/Ljubljana:20220308T120000
DTSTAMP:20260419T234927Z
UID:fmf-AFLABS-URNIK:premaknjeno-srecanje:102296
ATTENDEE:doktorski študij (M)
CATEGORIES:Entry,Standard
COLOR:darkgreen
DESCRIPTION:Predmet: Seminar za diskretno matematiko (MAT-D)\, Seminar (S)
 \nLetniki: doktorski študij (M)\nIzvajalci: Primož Potočnik\nProstor: P
 lemljev seminar (IMFM)
LOCATION:Plemljev seminar (IMFM)
ORGANIZER:Primož Potočnik
RELATED-TO:fmf-AFLABS-URNIK:srecanje:7276
X-WR-TIMEZONE:Europe/Ljubljana
END:VEVENT
BEGIN:VEVENT
SUMMARY:Seminar za diskretno matematiko (MAT-D)\, Seminar (S)
DTSTART;TZID=Europe/Ljubljana:20220315T100000
DTEND;TZID=Europe/Ljubljana:20220315T120000
DTSTAMP:20260419T234927Z
UID:fmf-AFLABS-URNIK:premaknjeno-srecanje:102297
ATTENDEE:doktorski študij (M)
CATEGORIES:Entry,Standard
COLOR:darkgreen
DESCRIPTION:Predmet: Seminar za diskretno matematiko (MAT-D)\, Seminar (S)
 \nLetniki: doktorski študij (M)\nIzvajalci: Primož Potočnik\nProstor: P
 lemljev seminar (IMFM)
LOCATION:Plemljev seminar (IMFM)
ORGANIZER:Primož Potočnik
RELATED-TO:fmf-AFLABS-URNIK:srecanje:7276
X-WR-TIMEZONE:Europe/Ljubljana
END:VEVENT
BEGIN:VEVENT
SUMMARY:Seminar za diskretno matematiko (MAT-D)\, Seminar (S)
DTSTART;TZID=Europe/Ljubljana:20220322T100000
DTEND;TZID=Europe/Ljubljana:20220322T120000
DTSTAMP:20260419T234927Z
UID:fmf-AFLABS-URNIK:premaknjeno-srecanje:102298
ATTENDEE:doktorski študij (M)
CATEGORIES:Entry,Standard
COLOR:darkgreen
DESCRIPTION:Predmet: Seminar za diskretno matematiko (MAT-D)\, Seminar (S)
 \nLetniki: doktorski študij (M)\nIzvajalci: Primož Potočnik\nProstor: P
 lemljev seminar (IMFM)
LOCATION:Plemljev seminar (IMFM)
ORGANIZER:Primož Potočnik
RELATED-TO:fmf-AFLABS-URNIK:srecanje:7276
X-WR-TIMEZONE:Europe/Ljubljana
END:VEVENT
BEGIN:VEVENT
SUMMARY:Seminar za diskretno matematiko (MAT-D)\, Seminar (S)
DTSTART;TZID=Europe/Ljubljana:20220329T100000
DTEND;TZID=Europe/Ljubljana:20220329T120000
DTSTAMP:20260419T234927Z
UID:fmf-AFLABS-URNIK:premaknjeno-srecanje:102299
ATTENDEE:doktorski študij (M)
CATEGORIES:Entry,Standard
COLOR:darkgreen
DESCRIPTION:Predmet: Seminar za diskretno matematiko (MAT-D)\, Seminar (S)
 \nLetniki: doktorski študij (M)\nIzvajalci: Primož Potočnik\nProstor: P
 lemljev seminar (IMFM)
LOCATION:Plemljev seminar (IMFM)
ORGANIZER:Primož Potočnik
RELATED-TO:fmf-AFLABS-URNIK:srecanje:7276
X-WR-TIMEZONE:Europe/Ljubljana
END:VEVENT
BEGIN:VEVENT
SUMMARY:Seminar za diskretno matematiko (MAT-D)\, Seminar (S)
DTSTART;TZID=Europe/Ljubljana:20220405T100000
DTEND;TZID=Europe/Ljubljana:20220405T120000
DTSTAMP:20260419T234927Z
UID:fmf-AFLABS-URNIK:premaknjeno-srecanje:102300
ATTENDEE:doktorski študij (M)
CATEGORIES:Entry,Standard
COLOR:darkgreen
DESCRIPTION:Predmet: Seminar za diskretno matematiko (MAT-D)\, Seminar (S)
 \nLetniki: doktorski študij (M)\nIzvajalci: Primož Potočnik\nProstor: P
 lemljev seminar (IMFM)
LOCATION:Plemljev seminar (IMFM)
ORGANIZER:Primož Potočnik
RELATED-TO:fmf-AFLABS-URNIK:srecanje:7276
X-WR-TIMEZONE:Europe/Ljubljana
END:VEVENT
BEGIN:VEVENT
SUMMARY:Seminar za diskretno matematiko (MAT-D)\, Seminar (S)
DTSTART;TZID=Europe/Ljubljana:20220412T100000
DTEND;TZID=Europe/Ljubljana:20220412T120000
DTSTAMP:20260419T234927Z
UID:fmf-AFLABS-URNIK:premaknjeno-srecanje:102301
ATTENDEE:doktorski študij (M)
CATEGORIES:Entry,Standard
COLOR:darkgreen
DESCRIPTION:Predmet: Seminar za diskretno matematiko (MAT-D)\, Seminar (S)
 \nLetniki: doktorski študij (M)\nIzvajalci: Primož Potočnik\nProstor: P
 lemljev seminar (IMFM)
LOCATION:Plemljev seminar (IMFM)
ORGANIZER:Primož Potočnik
RELATED-TO:fmf-AFLABS-URNIK:srecanje:7276
X-WR-TIMEZONE:Europe/Ljubljana
END:VEVENT
BEGIN:VEVENT
SUMMARY:Seminar za diskretno matematiko (MAT-D)\, Seminar (S)
DTSTART;TZID=Europe/Ljubljana:20220419T100000
DTEND;TZID=Europe/Ljubljana:20220419T120000
DTSTAMP:20260419T234927Z
UID:fmf-AFLABS-URNIK:premaknjeno-srecanje:102302
ATTENDEE:doktorski študij (M)
CATEGORIES:Entry,Standard
COLOR:darkgreen
DESCRIPTION:Predmet: Seminar za diskretno matematiko (MAT-D)\, Seminar (S)
 \nLetniki: doktorski študij (M)\nIzvajalci: Primož Potočnik\nProstor: P
 lemljev seminar (IMFM)
LOCATION:Plemljev seminar (IMFM)
ORGANIZER:Primož Potočnik
RELATED-TO:fmf-AFLABS-URNIK:srecanje:7276
X-WR-TIMEZONE:Europe/Ljubljana
END:VEVENT
BEGIN:VEVENT
SUMMARY:Seminar za diskretno matematiko (MAT-D)\, Seminar (S)
DTSTART;TZID=Europe/Ljubljana:20220426T100000
DTEND;TZID=Europe/Ljubljana:20220426T120000
DTSTAMP:20260419T234927Z
UID:fmf-AFLABS-URNIK:premaknjeno-srecanje:102303
ATTENDEE:doktorski študij (M)
CATEGORIES:Entry,Standard
COLOR:darkgreen
DESCRIPTION:Predmet: Seminar za diskretno matematiko (MAT-D)\, Seminar (S)
 \nLetniki: doktorski študij (M)\nIzvajalci: Primož Potočnik\nProstor: P
 lemljev seminar (IMFM)
LOCATION:Plemljev seminar (IMFM)
ORGANIZER:Primož Potočnik
RELATED-TO:fmf-AFLABS-URNIK:srecanje:7276
X-WR-TIMEZONE:Europe/Ljubljana
END:VEVENT
BEGIN:VEVENT
SUMMARY:Seminar za diskretno matematiko (MAT-D)\, Seminar (S)
DTSTART;TZID=Europe/Ljubljana:20220503T100000
DTEND;TZID=Europe/Ljubljana:20220503T120000
DTSTAMP:20260419T234927Z
UID:fmf-AFLABS-URNIK:premaknjeno-srecanje:102304
ATTENDEE:doktorski študij (M)
CATEGORIES:Entry,Standard
COLOR:darkgreen
DESCRIPTION:Predmet: Seminar za diskretno matematiko (MAT-D)\, Seminar (S)
 \nLetniki: doktorski študij (M)\nIzvajalci: Primož Potočnik\nProstor: P
 lemljev seminar (IMFM)
LOCATION:Plemljev seminar (IMFM)
ORGANIZER:Primož Potočnik
RELATED-TO:fmf-AFLABS-URNIK:srecanje:7276
X-WR-TIMEZONE:Europe/Ljubljana
END:VEVENT
BEGIN:VEVENT
SUMMARY:Seminar za diskretno matematiko (MAT-D)\, Seminar (S)
DTSTART;TZID=Europe/Ljubljana:20220510T100000
DTEND;TZID=Europe/Ljubljana:20220510T120000
DTSTAMP:20260419T234927Z
UID:fmf-AFLABS-URNIK:premaknjeno-srecanje:102305
ATTENDEE:doktorski študij (M)
CATEGORIES:Entry,Standard
COLOR:darkgreen
DESCRIPTION:Predmet: Seminar za diskretno matematiko (MAT-D)\, Seminar (S)
 \nLetniki: doktorski študij (M)\nIzvajalci: Primož Potočnik\nProstor: P
 lemljev seminar (IMFM)
LOCATION:Plemljev seminar (IMFM)
ORGANIZER:Primož Potočnik
RELATED-TO:fmf-AFLABS-URNIK:srecanje:7276
X-WR-TIMEZONE:Europe/Ljubljana
END:VEVENT
BEGIN:VEVENT
SUMMARY:Seminar za diskretno matematiko (MAT-D)\, Seminar (S)
DTSTART;TZID=Europe/Ljubljana:20220517T100000
DTEND;TZID=Europe/Ljubljana:20220517T120000
DTSTAMP:20260419T234927Z
UID:fmf-AFLABS-URNIK:premaknjeno-srecanje:102306
ATTENDEE:doktorski študij (M)
CATEGORIES:Entry,Standard
COLOR:darkgreen
DESCRIPTION:Predmet: Seminar za diskretno matematiko (MAT-D)\, Seminar (S)
 \nLetniki: doktorski študij (M)\nIzvajalci: Primož Potočnik\nProstor: P
 lemljev seminar (IMFM)
LOCATION:Plemljev seminar (IMFM)
ORGANIZER:Primož Potočnik
RELATED-TO:fmf-AFLABS-URNIK:srecanje:7276
X-WR-TIMEZONE:Europe/Ljubljana
END:VEVENT
BEGIN:VEVENT
SUMMARY:Seminar za diskretno matematiko (MAT-D)\, Seminar (S)
DTSTART;TZID=Europe/Ljubljana:20220524T100000
DTEND;TZID=Europe/Ljubljana:20220524T120000
DTSTAMP:20260419T234927Z
UID:fmf-AFLABS-URNIK:premaknjeno-srecanje:102307
ATTENDEE:doktorski študij (M)
CATEGORIES:Entry,Standard
COLOR:darkgreen
DESCRIPTION:Predmet: Seminar za diskretno matematiko (MAT-D)\, Seminar (S)
 \nLetniki: doktorski študij (M)\nIzvajalci: Primož Potočnik\nProstor: P
 lemljev seminar (IMFM)
LOCATION:Plemljev seminar (IMFM)
ORGANIZER:Primož Potočnik
RELATED-TO:fmf-AFLABS-URNIK:srecanje:7276
X-WR-TIMEZONE:Europe/Ljubljana
END:VEVENT
BEGIN:VEVENT
SUMMARY:Seminar za diskretno matematiko (MAT-D)\, Seminar (S)
DTSTART;TZID=Europe/Ljubljana:20220531T100000
DTEND;TZID=Europe/Ljubljana:20220531T120000
DTSTAMP:20260419T234927Z
UID:fmf-AFLABS-URNIK:premaknjeno-srecanje:102308
ATTENDEE:doktorski študij (M)
CATEGORIES:Entry,Standard
COLOR:darkgreen
DESCRIPTION:Predmet: Seminar za diskretno matematiko (MAT-D)\, Seminar (S)
 \nLetniki: doktorski študij (M)\nIzvajalci: Primož Potočnik\nProstor: P
 lemljev seminar (IMFM)
LOCATION:Plemljev seminar (IMFM)
ORGANIZER:Primož Potočnik
RELATED-TO:fmf-AFLABS-URNIK:srecanje:7276
X-WR-TIMEZONE:Europe/Ljubljana
END:VEVENT
BEGIN:VEVENT
SUMMARY:Diplomski seminar (MAT-3)\, Seminar (S)
DTSTART;TZID=Europe/Ljubljana:20220216T150000
DTEND;TZID=Europe/Ljubljana:20220216T170000
DTSTAMP:20260419T234927Z
UID:fmf-AFLABS-URNIK:premaknjeno-srecanje:15685
ATTENDEE:3. letnik (M)
CATEGORIES:Entry,Standard
COLOR:darkgreen
DESCRIPTION:Predmet: Diplomski seminar (MAT-3)\, Seminar (S)\nLetniki: 3. 
 letnik (M)\nIzvajalci: Primož Potočnik\nProstor: P.02
LOCATION:P.02
ORGANIZER:Primož Potočnik
RELATED-TO:fmf-AFLABS-URNIK:srecanje:6889
X-WR-TIMEZONE:Europe/Ljubljana
END:VEVENT
BEGIN:VEVENT
SUMMARY:Diplomski seminar (MAT-3)\, Seminar (S)
DTSTART;TZID=Europe/Ljubljana:20220223T150000
DTEND;TZID=Europe/Ljubljana:20220223T170000
DTSTAMP:20260419T234927Z
UID:fmf-AFLABS-URNIK:premaknjeno-srecanje:15686
ATTENDEE:3. letnik (M)
CATEGORIES:Entry,Standard
COLOR:darkgreen
DESCRIPTION:Predmet: Diplomski seminar (MAT-3)\, Seminar (S)\nLetniki: 3. 
 letnik (M)\nIzvajalci: Primož Potočnik\nProstor: P.02
LOCATION:P.02
ORGANIZER:Primož Potočnik
RELATED-TO:fmf-AFLABS-URNIK:srecanje:6889
X-WR-TIMEZONE:Europe/Ljubljana
END:VEVENT
BEGIN:VEVENT
SUMMARY:Diplomski seminar (MAT-3)\, Seminar (S)
DTSTART;TZID=Europe/Ljubljana:20220302T150000
DTEND;TZID=Europe/Ljubljana:20220302T170000
DTSTAMP:20260419T234927Z
UID:fmf-AFLABS-URNIK:premaknjeno-srecanje:15687
ATTENDEE:3. letnik (M)
CATEGORIES:Entry,Standard
COLOR:darkgreen
DESCRIPTION:Predmet: Diplomski seminar (MAT-3)\, Seminar (S)\nLetniki: 3. 
 letnik (M)\nIzvajalci: Primož Potočnik\nProstor: P.02
LOCATION:P.02
ORGANIZER:Primož Potočnik
RELATED-TO:fmf-AFLABS-URNIK:srecanje:6889
X-WR-TIMEZONE:Europe/Ljubljana
END:VEVENT
BEGIN:VEVENT
SUMMARY:Diplomski seminar (MAT-3)\, Seminar (S)
DTSTART;TZID=Europe/Ljubljana:20220309T150000
DTEND;TZID=Europe/Ljubljana:20220309T170000
DTSTAMP:20260419T234927Z
UID:fmf-AFLABS-URNIK:premaknjeno-srecanje:15688
ATTENDEE:3. letnik (M)
CATEGORIES:Entry,Standard
COLOR:darkgreen
DESCRIPTION:Predmet: Diplomski seminar (MAT-3)\, Seminar (S)\nLetniki: 3. 
 letnik (M)\nIzvajalci: Primož Potočnik\nProstor: P.02
LOCATION:P.02
ORGANIZER:Primož Potočnik
RELATED-TO:fmf-AFLABS-URNIK:srecanje:6889
X-WR-TIMEZONE:Europe/Ljubljana
END:VEVENT
BEGIN:VEVENT
SUMMARY:Diplomski seminar (MAT-3)\, Seminar (S)
DTSTART;TZID=Europe/Ljubljana:20220316T150000
DTEND;TZID=Europe/Ljubljana:20220316T170000
DTSTAMP:20260419T234927Z
UID:fmf-AFLABS-URNIK:premaknjeno-srecanje:15689
ATTENDEE:3. letnik (M)
CATEGORIES:Entry,Standard
COLOR:darkgreen
DESCRIPTION:Predmet: Diplomski seminar (MAT-3)\, Seminar (S)\nLetniki: 3. 
 letnik (M)\nIzvajalci: Primož Potočnik\nProstor: P.02
LOCATION:P.02
ORGANIZER:Primož Potočnik
RELATED-TO:fmf-AFLABS-URNIK:srecanje:6889
X-WR-TIMEZONE:Europe/Ljubljana
END:VEVENT
BEGIN:VEVENT
SUMMARY:Diplomski seminar (MAT-3)\, Seminar (S)
DTSTART;TZID=Europe/Ljubljana:20220323T150000
DTEND;TZID=Europe/Ljubljana:20220323T170000
DTSTAMP:20260419T234927Z
UID:fmf-AFLABS-URNIK:premaknjeno-srecanje:15690
ATTENDEE:3. letnik (M)
CATEGORIES:Entry,Standard
COLOR:darkgreen
DESCRIPTION:Predmet: Diplomski seminar (MAT-3)\, Seminar (S)\nLetniki: 3. 
 letnik (M)\nIzvajalci: Primož Potočnik\nProstor: P.02
LOCATION:P.02
ORGANIZER:Primož Potočnik
RELATED-TO:fmf-AFLABS-URNIK:srecanje:6889
X-WR-TIMEZONE:Europe/Ljubljana
END:VEVENT
BEGIN:VEVENT
SUMMARY:Diplomski seminar (MAT-3)\, Seminar (S)
DTSTART;TZID=Europe/Ljubljana:20220330T150000
DTEND;TZID=Europe/Ljubljana:20220330T170000
DTSTAMP:20260419T234927Z
UID:fmf-AFLABS-URNIK:premaknjeno-srecanje:15691
ATTENDEE:3. letnik (M)
CATEGORIES:Entry,Standard
COLOR:darkgreen
DESCRIPTION:Predmet: Diplomski seminar (MAT-3)\, Seminar (S)\nLetniki: 3. 
 letnik (M)\nIzvajalci: Primož Potočnik\nProstor: P.02
LOCATION:P.02
ORGANIZER:Primož Potočnik
RELATED-TO:fmf-AFLABS-URNIK:srecanje:6889
X-WR-TIMEZONE:Europe/Ljubljana
END:VEVENT
BEGIN:VEVENT
SUMMARY:Diplomski seminar (MAT-3)\, Seminar (S)
DTSTART;TZID=Europe/Ljubljana:20220406T150000
DTEND;TZID=Europe/Ljubljana:20220406T170000
DTSTAMP:20260419T234927Z
UID:fmf-AFLABS-URNIK:premaknjeno-srecanje:15692
ATTENDEE:3. letnik (M)
CATEGORIES:Entry,Standard
COLOR:darkgreen
DESCRIPTION:Predmet: Diplomski seminar (MAT-3)\, Seminar (S)\nLetniki: 3. 
 letnik (M)\nIzvajalci: Primož Potočnik\nProstor: P.02
LOCATION:P.02
ORGANIZER:Primož Potočnik
RELATED-TO:fmf-AFLABS-URNIK:srecanje:6889
X-WR-TIMEZONE:Europe/Ljubljana
END:VEVENT
BEGIN:VEVENT
SUMMARY:Diplomski seminar (MAT-3)\, Seminar (S)
DTSTART;TZID=Europe/Ljubljana:20220413T150000
DTEND;TZID=Europe/Ljubljana:20220413T170000
DTSTAMP:20260419T234927Z
UID:fmf-AFLABS-URNIK:premaknjeno-srecanje:15693
ATTENDEE:3. letnik (M)
CATEGORIES:Entry,Standard
COLOR:darkgreen
DESCRIPTION:Predmet: Diplomski seminar (MAT-3)\, Seminar (S)\nLetniki: 3. 
 letnik (M)\nIzvajalci: Primož Potočnik\nProstor: P.02
LOCATION:P.02
ORGANIZER:Primož Potočnik
RELATED-TO:fmf-AFLABS-URNIK:srecanje:6889
X-WR-TIMEZONE:Europe/Ljubljana
END:VEVENT
BEGIN:VEVENT
SUMMARY:Diplomski seminar (MAT-3)\, Seminar (S)
DTSTART;TZID=Europe/Ljubljana:20220420T150000
DTEND;TZID=Europe/Ljubljana:20220420T170000
DTSTAMP:20260419T234927Z
UID:fmf-AFLABS-URNIK:premaknjeno-srecanje:15694
ATTENDEE:3. letnik (M)
CATEGORIES:Entry,Standard
COLOR:darkgreen
DESCRIPTION:Predmet: Diplomski seminar (MAT-3)\, Seminar (S)\nLetniki: 3. 
 letnik (M)\nIzvajalci: Primož Potočnik\nProstor: P.02
LOCATION:P.02
ORGANIZER:Primož Potočnik
RELATED-TO:fmf-AFLABS-URNIK:srecanje:6889
X-WR-TIMEZONE:Europe/Ljubljana
END:VEVENT
BEGIN:VEVENT
SUMMARY:Diplomski seminar (MAT-3)\, Seminar (S)
DTSTART;TZID=Europe/Ljubljana:20220427T150000
DTEND;TZID=Europe/Ljubljana:20220427T170000
DTSTAMP:20260419T234927Z
UID:fmf-AFLABS-URNIK:premaknjeno-srecanje:15695
ATTENDEE:3. letnik (M)
CATEGORIES:Entry,Standard
COLOR:darkgreen
DESCRIPTION:Predmet: Diplomski seminar (MAT-3)\, Seminar (S)\nLetniki: 3. 
 letnik (M)\nIzvajalci: Primož Potočnik\nProstor: P.02
LOCATION:P.02
ORGANIZER:Primož Potočnik
RELATED-TO:fmf-AFLABS-URNIK:srecanje:6889
X-WR-TIMEZONE:Europe/Ljubljana
END:VEVENT
BEGIN:VEVENT
SUMMARY:Diplomski seminar (MAT-3)\, Seminar (S)
DTSTART;TZID=Europe/Ljubljana:20220504T150000
DTEND;TZID=Europe/Ljubljana:20220504T170000
DTSTAMP:20260419T234927Z
UID:fmf-AFLABS-URNIK:premaknjeno-srecanje:15696
ATTENDEE:3. letnik (M)
CATEGORIES:Entry,Standard
COLOR:darkgreen
DESCRIPTION:Predmet: Diplomski seminar (MAT-3)\, Seminar (S)\nLetniki: 3. 
 letnik (M)\nIzvajalci: Primož Potočnik\nProstor: P.02
LOCATION:P.02
ORGANIZER:Primož Potočnik
RELATED-TO:fmf-AFLABS-URNIK:srecanje:6889
X-WR-TIMEZONE:Europe/Ljubljana
END:VEVENT
BEGIN:VEVENT
SUMMARY:Diplomski seminar (MAT-3)\, Seminar (S)
DTSTART;TZID=Europe/Ljubljana:20220511T150000
DTEND;TZID=Europe/Ljubljana:20220511T170000
DTSTAMP:20260419T234927Z
UID:fmf-AFLABS-URNIK:premaknjeno-srecanje:15697
ATTENDEE:3. letnik (M)
CATEGORIES:Entry,Standard
COLOR:darkgreen
DESCRIPTION:Predmet: Diplomski seminar (MAT-3)\, Seminar (S)\nLetniki: 3. 
 letnik (M)\nIzvajalci: Primož Potočnik\nProstor: P.02
LOCATION:P.02
ORGANIZER:Primož Potočnik
RELATED-TO:fmf-AFLABS-URNIK:srecanje:6889
X-WR-TIMEZONE:Europe/Ljubljana
END:VEVENT
BEGIN:VEVENT
SUMMARY:Diplomski seminar (MAT-3)\, Seminar (S)
DTSTART;TZID=Europe/Ljubljana:20220518T150000
DTEND;TZID=Europe/Ljubljana:20220518T170000
DTSTAMP:20260419T234927Z
UID:fmf-AFLABS-URNIK:premaknjeno-srecanje:15698
ATTENDEE:3. letnik (M)
CATEGORIES:Entry,Standard
COLOR:darkgreen
DESCRIPTION:Predmet: Diplomski seminar (MAT-3)\, Seminar (S)\nLetniki: 3. 
 letnik (M)\nIzvajalci: Primož Potočnik\nProstor: P.02
LOCATION:P.02
ORGANIZER:Primož Potočnik
RELATED-TO:fmf-AFLABS-URNIK:srecanje:6889
X-WR-TIMEZONE:Europe/Ljubljana
END:VEVENT
BEGIN:VEVENT
SUMMARY:Diplomski seminar (MAT-3)\, Seminar (S)
DTSTART;TZID=Europe/Ljubljana:20220525T150000
DTEND;TZID=Europe/Ljubljana:20220525T170000
DTSTAMP:20260419T234927Z
UID:fmf-AFLABS-URNIK:premaknjeno-srecanje:15699
ATTENDEE:3. letnik (M)
CATEGORIES:Entry,Standard
COLOR:darkgreen
DESCRIPTION:Predmet: Diplomski seminar (MAT-3)\, Seminar (S)\nLetniki: 3. 
 letnik (M)\nIzvajalci: Primož Potočnik\nProstor: P.02
LOCATION:P.02
ORGANIZER:Primož Potočnik
RELATED-TO:fmf-AFLABS-URNIK:srecanje:6889
X-WR-TIMEZONE:Europe/Ljubljana
END:VEVENT
BEGIN:VEVENT
SUMMARY:Rezervacija
DTSTART;TZID=Europe/Ljubljana:20220330T170000
DTEND;TZID=Europe/Ljubljana:20220330T180000
DTSTAMP:20260419T234927Z
UID:fmf-AFLABS-URNIK:rezervacija:8787
ATTENDEE:3. letnik (M)
CATEGORIES:Reservation
COLOR:royalblue
DESCRIPTION:Predmeti: Diplomski seminar (MAT-3)\nLetniki: 3. letnik (M)\nI
 zvajalci: Primož Potočnik\nProstori: P.02
LOCATION:P.02
ORGANIZER:Primož Potočnik
X-WR-TIMEZONE:Europe/Ljubljana
END:VEVENT
END:VCALENDAR
