BEGIN:VCALENDAR
VERSION:2.0
PRODID:-//AFLabs urnik izvoz - fmf//aflabs.si//SI
DTSTAMP:20260423T071244Z
NAME:UL FMF urnik
REFRESH-INTERVAL:PT1H
SOURCE:https://urnik.fmf.uni-lj.si/teacher/511?day=2022-01-17&export=1
URL:https://urnik.fmf.uni-lj.si/teacher/511?day=2022-01-17&export=1
X-PUBLISHED-TTL:PT1H
X-WR-CALNAME:UL FMF urnik
X-WR-TIMEZONE:Europe/Ljubljana
BEGIN:VTIMEZONE
TZID:Europe/Ljubljana
BEGIN:DAYLIGHT
DTSTART:20260329T020000
RDATE:20260329T020000
RDATE:20270328T020000
TZNAME:CEST
TZOFFSETFROM:+0100
TZOFFSETTO:+0200
END:DAYLIGHT
BEGIN:STANDARD
DTSTART:20261025T030000
RDATE:20261025T030000
RDATE:20271031T030000
TZNAME:CET
TZOFFSETFROM:+0200
TZOFFSETTO:+0100
END:STANDARD
END:VTIMEZONE
BEGIN:VEVENT
SUMMARY:Fizika (FFA - EM Farmacija) ()\, Vaje (V)\, [4]
DTSTART;TZID=Europe/Ljubljana:20211213T140000
DTEND;TZID=Europe/Ljubljana:20211213T160000
DTSTAMP:20260423T071244Z
UID:fmf-AFLABS-URNIK:premaknjeno-srecanje:23438
CATEGORIES:Entry,Standard
COLOR:darkgreen
DESCRIPTION:Predmet: Fizika (FFA - EM Farmacija) ()\, Vaje (V)\, [4]\nLetn
 iki: \nIzvajalci: Tilen Knaflič\nProstor: F4
LOCATION:F4
ORGANIZER:Tilen Knaflič
RELATED-TO:fmf-AFLABS-URNIK:srecanje:6210
X-WR-TIMEZONE:Europe/Ljubljana
END:VEVENT
BEGIN:VEVENT
SUMMARY:Fizika (FFA - EM Farmacija) ()\, Vaje (V)\, [4]
DTSTART;TZID=Europe/Ljubljana:20211220T140000
DTEND;TZID=Europe/Ljubljana:20211220T160000
DTSTAMP:20260423T071244Z
UID:fmf-AFLABS-URNIK:premaknjeno-srecanje:23439
CATEGORIES:Entry,Standard
COLOR:darkgreen
DESCRIPTION:Predmet: Fizika (FFA - EM Farmacija) ()\, Vaje (V)\, [4]\nLetn
 iki: \nIzvajalci: Tilen Knaflič\nProstor: F4
LOCATION:F4
ORGANIZER:Tilen Knaflič
RELATED-TO:fmf-AFLABS-URNIK:srecanje:6210
X-WR-TIMEZONE:Europe/Ljubljana
END:VEVENT
BEGIN:VEVENT
SUMMARY:Fizika (FFA - EM Farmacija) ()\, Vaje (V)\, [4]
DTSTART;TZID=Europe/Ljubljana:20211227T140000
DTEND;TZID=Europe/Ljubljana:20211227T160000
DTSTAMP:20260423T071244Z
UID:fmf-AFLABS-URNIK:premaknjeno-srecanje:23440
CATEGORIES:Entry,Standard
COLOR:darkgreen
DESCRIPTION:Predmet: Fizika (FFA - EM Farmacija) ()\, Vaje (V)\, [4]\nLetn
 iki: \nIzvajalci: Tilen Knaflič\nProstor: F4
LOCATION:F4
ORGANIZER:Tilen Knaflič
RELATED-TO:fmf-AFLABS-URNIK:srecanje:6210
X-WR-TIMEZONE:Europe/Ljubljana
END:VEVENT
BEGIN:VEVENT
SUMMARY:Fizika (FFA - EM Farmacija) ()\, Vaje (V)\, [4]
DTSTART;TZID=Europe/Ljubljana:20220103T140000
DTEND;TZID=Europe/Ljubljana:20220103T160000
DTSTAMP:20260423T071244Z
UID:fmf-AFLABS-URNIK:premaknjeno-srecanje:23441
CATEGORIES:Entry,Standard
COLOR:darkgreen
DESCRIPTION:Predmet: Fizika (FFA - EM Farmacija) ()\, Vaje (V)\, [4]\nLetn
 iki: \nIzvajalci: Tilen Knaflič\nProstor: F4
LOCATION:F4
ORGANIZER:Tilen Knaflič
RELATED-TO:fmf-AFLABS-URNIK:srecanje:6210
X-WR-TIMEZONE:Europe/Ljubljana
END:VEVENT
BEGIN:VEVENT
SUMMARY:Fizika (FFA - EM Farmacija) ()\, Vaje (V)\, [4]
DTSTART;TZID=Europe/Ljubljana:20220110T140000
DTEND;TZID=Europe/Ljubljana:20220110T160000
DTSTAMP:20260423T071244Z
UID:fmf-AFLABS-URNIK:premaknjeno-srecanje:23442
CATEGORIES:Entry,Standard
COLOR:darkgreen
DESCRIPTION:Predmet: Fizika (FFA - EM Farmacija) ()\, Vaje (V)\, [4]\nLetn
 iki: \nIzvajalci: Tilen Knaflič\nProstor: F4
LOCATION:F4
ORGANIZER:Tilen Knaflič
RELATED-TO:fmf-AFLABS-URNIK:srecanje:6210
X-WR-TIMEZONE:Europe/Ljubljana
END:VEVENT
BEGIN:VEVENT
SUMMARY:Uvod v fiziko (APM-1)\, Vaje (V)
DTSTART;TZID=Europe/Ljubljana:20220216T090000
DTEND;TZID=Europe/Ljubljana:20220216T100000
DTSTAMP:20260423T071244Z
UID:fmf-AFLABS-URNIK:premaknjeno-srecanje:115990
ATTENDEE:1. letnik (APM)
CATEGORIES:Entry,Standard
COLOR:darkgreen
DESCRIPTION:Predmet: Uvod v fiziko (APM-1)\, Vaje (V)\nLetniki: 1. letnik 
 (APM)\nIzvajalci: Tilen Knaflič\nProstor: 2.05
LOCATION:2.05
ORGANIZER:Tilen Knaflič
RELATED-TO:fmf-AFLABS-URNIK:srecanje:7337
X-WR-TIMEZONE:Europe/Ljubljana
END:VEVENT
BEGIN:VEVENT
SUMMARY:Rezervacija
DTSTART;TZID=Europe/Ljubljana:20220118T140000
DTEND;TZID=Europe/Ljubljana:20220118T160000
DTSTAMP:20260423T071244Z
UID:fmf-AFLABS-URNIK:rezervacija:8288
CATEGORIES:Reservation
COLOR:royalblue
DESCRIPTION:Predmeti: Fizika (FFA - EM Farmacija) ()\nLetniki: \nIzvajalci
 : Denis Golež\, Tilen Knaflič\, Mitja Šadl\, Rok Venturini\nProstori: 2
 .01\, 2.05\, VFP
LOCATION:2.01\, 2.05\, VFP
ORGANIZER:Denis Golež, Tilen Knaflič, Mitja Šadl, Rok Venturini
X-WR-TIMEZONE:Europe/Ljubljana
END:VEVENT
BEGIN:VEVENT
SUMMARY:Rezervacija
DTSTART;TZID=Europe/Ljubljana:20220118T140000
DTEND;TZID=Europe/Ljubljana:20220118T160000
DTSTAMP:20260423T071244Z
UID:fmf-AFLABS-URNIK:rezervacija:8290
CATEGORIES:Reservation
COLOR:royalblue
DESCRIPTION:Predmeti: Fizika (FFA - EM Farmacija) ()\nLetniki: \nIzvajalci
 : Denis Golež\, Tilen Knaflič\, Mitja Šadl\, Rok Venturini\nProstori: M
 FP
LOCATION:MFP
ORGANIZER:Denis Golež, Tilen Knaflič, Mitja Šadl, Rok Venturini
X-WR-TIMEZONE:Europe/Ljubljana
END:VEVENT
BEGIN:VEVENT
SUMMARY:Rezervacija
DTSTART;TZID=Europe/Ljubljana:20220125T130000
DTEND;TZID=Europe/Ljubljana:20220125T140000
DTSTAMP:20260423T071244Z
UID:fmf-AFLABS-URNIK:rezervacija:8364
CATEGORIES:Reservation
COLOR:royalblue
DESCRIPTION:Predmeti: Fizika (FFA - EM Farmacija) ()\nLetniki: \nIzvajalci
 : Denis Golež\, Tilen Knaflič\, Mitja Šadl\, Rok Venturini\nProstori: V
 FP
LOCATION:VFP
ORGANIZER:Denis Golež, Tilen Knaflič, Mitja Šadl, Rok Venturini
X-WR-TIMEZONE:Europe/Ljubljana
END:VEVENT
BEGIN:VEVENT
SUMMARY:Rezervacija
DTSTART;TZID=Europe/Ljubljana:20220128T100000
DTEND;TZID=Europe/Ljubljana:20220128T120000
DTSTAMP:20260423T071244Z
UID:fmf-AFLABS-URNIK:rezervacija:8401
CATEGORIES:Reservation
COLOR:royalblue
DESCRIPTION:Predmeti: Fizika (FFA - EM Farmacija) ()\nLetniki: \nIzvajalci
 : Denis Golež\, Tilen Knaflič\, Mitja Šadl\, Rok Venturini\nProstori: 2
 .02\, MFP\, P.02
LOCATION:2.02\, MFP\, P.02
ORGANIZER:Denis Golež, Tilen Knaflič, Mitja Šadl, Rok Venturini
X-WR-TIMEZONE:Europe/Ljubljana
END:VEVENT
BEGIN:VEVENT
SUMMARY:Rezervacija
DTSTART;TZID=Europe/Ljubljana:20220204T130000
DTEND;TZID=Europe/Ljubljana:20220204T140000
DTSTAMP:20260423T071244Z
UID:fmf-AFLABS-URNIK:rezervacija:8492
CATEGORIES:Reservation
COLOR:royalblue
DESCRIPTION:Predmeti: Fizika (FFA - EM Farmacija) ()\nLetniki: \nIzvajalci
 : Denis Golež\, Tilen Knaflič\, Mitja Šadl\, Rok Venturini\nProstori: F
 1
LOCATION:F1
ORGANIZER:Denis Golež, Tilen Knaflič, Mitja Šadl, Rok Venturini
X-WR-TIMEZONE:Europe/Ljubljana
END:VEVENT
END:VCALENDAR
