BEGIN:VCALENDAR
VERSION:2.0
PRODID:-//AFLabs urnik izvoz - fmf//aflabs.si//SI
DTSTAMP:20260423T071244Z
NAME:UL FMF urnik
REFRESH-INTERVAL:PT1H
SOURCE:https://urnik.fmf.uni-lj.si/teacher/511?day=2022-02-28&export=1
URL:https://urnik.fmf.uni-lj.si/teacher/511?day=2022-02-28&export=1
X-PUBLISHED-TTL:PT1H
X-WR-CALNAME:UL FMF urnik
X-WR-TIMEZONE:Europe/Ljubljana
BEGIN:VTIMEZONE
TZID:Europe/Ljubljana
BEGIN:DAYLIGHT
DTSTART:20260329T020000
RDATE:20260329T020000
RDATE:20270328T020000
TZNAME:CEST
TZOFFSETFROM:+0100
TZOFFSETTO:+0200
END:DAYLIGHT
BEGIN:STANDARD
DTSTART:20261025T030000
RDATE:20261025T030000
RDATE:20271031T030000
TZNAME:CET
TZOFFSETFROM:+0200
TZOFFSETTO:+0100
END:STANDARD
END:VTIMEZONE
BEGIN:VEVENT
SUMMARY:Uvod v fiziko (APM-1)\, Vaje (V)
DTSTART;TZID=Europe/Ljubljana:20220216T090000
DTEND;TZID=Europe/Ljubljana:20220216T100000
DTSTAMP:20260423T071244Z
UID:fmf-AFLABS-URNIK:premaknjeno-srecanje:115990
ATTENDEE:1. letnik (APM)
CATEGORIES:Entry,Standard
COLOR:darkgreen
DESCRIPTION:Predmet: Uvod v fiziko (APM-1)\, Vaje (V)\nLetniki: 1. letnik 
 (APM)\nIzvajalci: Tilen Knaflič\nProstor: 2.05
LOCATION:2.05
ORGANIZER:Tilen Knaflič
RELATED-TO:fmf-AFLABS-URNIK:srecanje:7337
X-WR-TIMEZONE:Europe/Ljubljana
END:VEVENT
BEGIN:VEVENT
SUMMARY:Uvod v fiziko (APM-1)\, Vaje (V)
DTSTART;TZID=Europe/Ljubljana:20220223T090000
DTEND;TZID=Europe/Ljubljana:20220223T100000
DTSTAMP:20260423T071244Z
UID:fmf-AFLABS-URNIK:premaknjeno-srecanje:115991
ATTENDEE:1. letnik (APM)
CATEGORIES:Entry,Standard
COLOR:darkgreen
DESCRIPTION:Predmet: Uvod v fiziko (APM-1)\, Vaje (V)\nLetniki: 1. letnik 
 (APM)\nIzvajalci: Tilen Knaflič\nProstor: 2.05
LOCATION:2.05
ORGANIZER:Tilen Knaflič
RELATED-TO:fmf-AFLABS-URNIK:srecanje:7337
X-WR-TIMEZONE:Europe/Ljubljana
END:VEVENT
BEGIN:VEVENT
SUMMARY:Uvod v fiziko (APM-1)\, Vaje (V)
DTSTART;TZID=Europe/Ljubljana:20220302T090000
DTEND;TZID=Europe/Ljubljana:20220302T100000
DTSTAMP:20260423T071244Z
UID:fmf-AFLABS-URNIK:premaknjeno-srecanje:115992
ATTENDEE:1. letnik (APM)
CATEGORIES:Entry,Standard
COLOR:darkgreen
DESCRIPTION:Predmet: Uvod v fiziko (APM-1)\, Vaje (V)\nLetniki: 1. letnik 
 (APM)\nIzvajalci: Tilen Knaflič\nProstor: 2.05
LOCATION:2.05
ORGANIZER:Tilen Knaflič
RELATED-TO:fmf-AFLABS-URNIK:srecanje:7337
X-WR-TIMEZONE:Europe/Ljubljana
END:VEVENT
BEGIN:VEVENT
SUMMARY:Uvod v fiziko (APM-1)\, Vaje (V)
DTSTART;TZID=Europe/Ljubljana:20220309T090000
DTEND;TZID=Europe/Ljubljana:20220309T100000
DTSTAMP:20260423T071244Z
UID:fmf-AFLABS-URNIK:premaknjeno-srecanje:115993
ATTENDEE:1. letnik (APM)
CATEGORIES:Entry,Standard
COLOR:darkgreen
DESCRIPTION:Predmet: Uvod v fiziko (APM-1)\, Vaje (V)\nLetniki: 1. letnik 
 (APM)\nIzvajalci: Tilen Knaflič\nProstor: 2.05
LOCATION:2.05
ORGANIZER:Tilen Knaflič
RELATED-TO:fmf-AFLABS-URNIK:srecanje:7337
X-WR-TIMEZONE:Europe/Ljubljana
END:VEVENT
BEGIN:VEVENT
SUMMARY:Uvod v fiziko (APM-1)\, Vaje (V)
DTSTART;TZID=Europe/Ljubljana:20220316T090000
DTEND;TZID=Europe/Ljubljana:20220316T100000
DTSTAMP:20260423T071244Z
UID:fmf-AFLABS-URNIK:premaknjeno-srecanje:115994
ATTENDEE:1. letnik (APM)
CATEGORIES:Entry,Standard
COLOR:darkgreen
DESCRIPTION:Predmet: Uvod v fiziko (APM-1)\, Vaje (V)\nLetniki: 1. letnik 
 (APM)\nIzvajalci: Tilen Knaflič\nProstor: 2.05
LOCATION:2.05
ORGANIZER:Tilen Knaflič
RELATED-TO:fmf-AFLABS-URNIK:srecanje:7337
X-WR-TIMEZONE:Europe/Ljubljana
END:VEVENT
BEGIN:VEVENT
SUMMARY:Uvod v fiziko (APM-1)\, Vaje (V)
DTSTART;TZID=Europe/Ljubljana:20220323T090000
DTEND;TZID=Europe/Ljubljana:20220323T100000
DTSTAMP:20260423T071244Z
UID:fmf-AFLABS-URNIK:premaknjeno-srecanje:115995
ATTENDEE:1. letnik (APM)
CATEGORIES:Entry,Standard
COLOR:darkgreen
DESCRIPTION:Predmet: Uvod v fiziko (APM-1)\, Vaje (V)\nLetniki: 1. letnik 
 (APM)\nIzvajalci: Tilen Knaflič\nProstor: 2.05
LOCATION:2.05
ORGANIZER:Tilen Knaflič
RELATED-TO:fmf-AFLABS-URNIK:srecanje:7337
X-WR-TIMEZONE:Europe/Ljubljana
END:VEVENT
BEGIN:VEVENT
SUMMARY:Uvod v fiziko (APM-1)\, Vaje (V)
DTSTART;TZID=Europe/Ljubljana:20220330T090000
DTEND;TZID=Europe/Ljubljana:20220330T100000
DTSTAMP:20260423T071244Z
UID:fmf-AFLABS-URNIK:premaknjeno-srecanje:115996
ATTENDEE:1. letnik (APM)
CATEGORIES:Entry,Standard
COLOR:darkgreen
DESCRIPTION:Predmet: Uvod v fiziko (APM-1)\, Vaje (V)\nLetniki: 1. letnik 
 (APM)\nIzvajalci: Tilen Knaflič\nProstor: 2.05
LOCATION:2.05
ORGANIZER:Tilen Knaflič
RELATED-TO:fmf-AFLABS-URNIK:srecanje:7337
X-WR-TIMEZONE:Europe/Ljubljana
END:VEVENT
BEGIN:VEVENT
SUMMARY:Uvod v fiziko (APM-1)\, Vaje (V)
DTSTART;TZID=Europe/Ljubljana:20220406T090000
DTEND;TZID=Europe/Ljubljana:20220406T100000
DTSTAMP:20260423T071244Z
UID:fmf-AFLABS-URNIK:premaknjeno-srecanje:115997
ATTENDEE:1. letnik (APM)
CATEGORIES:Entry,Standard
COLOR:darkgreen
DESCRIPTION:Predmet: Uvod v fiziko (APM-1)\, Vaje (V)\nLetniki: 1. letnik 
 (APM)\nIzvajalci: Tilen Knaflič\nProstor: 2.05
LOCATION:2.05
ORGANIZER:Tilen Knaflič
RELATED-TO:fmf-AFLABS-URNIK:srecanje:7337
X-WR-TIMEZONE:Europe/Ljubljana
END:VEVENT
BEGIN:VEVENT
SUMMARY:Uvod v fiziko (APM-1)\, Vaje (V)
DTSTART;TZID=Europe/Ljubljana:20220413T090000
DTEND;TZID=Europe/Ljubljana:20220413T100000
DTSTAMP:20260423T071244Z
UID:fmf-AFLABS-URNIK:premaknjeno-srecanje:115998
ATTENDEE:1. letnik (APM)
CATEGORIES:Entry,Standard
COLOR:darkgreen
DESCRIPTION:Predmet: Uvod v fiziko (APM-1)\, Vaje (V)\nLetniki: 1. letnik 
 (APM)\nIzvajalci: Tilen Knaflič\nProstor: 2.05
LOCATION:2.05
ORGANIZER:Tilen Knaflič
RELATED-TO:fmf-AFLABS-URNIK:srecanje:7337
X-WR-TIMEZONE:Europe/Ljubljana
END:VEVENT
BEGIN:VEVENT
SUMMARY:Uvod v fiziko (APM-1)\, Vaje (V)
DTSTART;TZID=Europe/Ljubljana:20220420T090000
DTEND;TZID=Europe/Ljubljana:20220420T100000
DTSTAMP:20260423T071244Z
UID:fmf-AFLABS-URNIK:premaknjeno-srecanje:115999
ATTENDEE:1. letnik (APM)
CATEGORIES:Entry,Standard
COLOR:darkgreen
DESCRIPTION:Predmet: Uvod v fiziko (APM-1)\, Vaje (V)\nLetniki: 1. letnik 
 (APM)\nIzvajalci: Tilen Knaflič\nProstor: 2.05
LOCATION:2.05
ORGANIZER:Tilen Knaflič
RELATED-TO:fmf-AFLABS-URNIK:srecanje:7337
X-WR-TIMEZONE:Europe/Ljubljana
END:VEVENT
BEGIN:VEVENT
SUMMARY:Uvod v fiziko (APM-1)\, Vaje (V)
DTSTART;TZID=Europe/Ljubljana:20220427T090000
DTEND;TZID=Europe/Ljubljana:20220427T100000
DTSTAMP:20260423T071244Z
UID:fmf-AFLABS-URNIK:premaknjeno-srecanje:116000
ATTENDEE:1. letnik (APM)
CATEGORIES:Entry,Standard
COLOR:darkgreen
DESCRIPTION:Predmet: Uvod v fiziko (APM-1)\, Vaje (V)\nLetniki: 1. letnik 
 (APM)\nIzvajalci: Tilen Knaflič\nProstor: 2.05
LOCATION:2.05
ORGANIZER:Tilen Knaflič
RELATED-TO:fmf-AFLABS-URNIK:srecanje:7337
X-WR-TIMEZONE:Europe/Ljubljana
END:VEVENT
BEGIN:VEVENT
SUMMARY:Uvod v fiziko (APM-1)\, Vaje (V)
DTSTART;TZID=Europe/Ljubljana:20220504T090000
DTEND;TZID=Europe/Ljubljana:20220504T100000
DTSTAMP:20260423T071244Z
UID:fmf-AFLABS-URNIK:premaknjeno-srecanje:116001
ATTENDEE:1. letnik (APM)
CATEGORIES:Entry,Standard
COLOR:darkgreen
DESCRIPTION:Predmet: Uvod v fiziko (APM-1)\, Vaje (V)\nLetniki: 1. letnik 
 (APM)\nIzvajalci: Tilen Knaflič\nProstor: 2.05
LOCATION:2.05
ORGANIZER:Tilen Knaflič
RELATED-TO:fmf-AFLABS-URNIK:srecanje:7337
X-WR-TIMEZONE:Europe/Ljubljana
END:VEVENT
BEGIN:VEVENT
SUMMARY:Uvod v fiziko (APM-1)\, Vaje (V)
DTSTART;TZID=Europe/Ljubljana:20220511T090000
DTEND;TZID=Europe/Ljubljana:20220511T100000
DTSTAMP:20260423T071244Z
UID:fmf-AFLABS-URNIK:premaknjeno-srecanje:116002
ATTENDEE:1. letnik (APM)
CATEGORIES:Entry,Standard
COLOR:darkgreen
DESCRIPTION:Predmet: Uvod v fiziko (APM-1)\, Vaje (V)\nLetniki: 1. letnik 
 (APM)\nIzvajalci: Tilen Knaflič\nProstor: 2.05
LOCATION:2.05
ORGANIZER:Tilen Knaflič
RELATED-TO:fmf-AFLABS-URNIK:srecanje:7337
X-WR-TIMEZONE:Europe/Ljubljana
END:VEVENT
BEGIN:VEVENT
SUMMARY:Uvod v fiziko (APM-1)\, Vaje (V)
DTSTART;TZID=Europe/Ljubljana:20220518T090000
DTEND;TZID=Europe/Ljubljana:20220518T100000
DTSTAMP:20260423T071244Z
UID:fmf-AFLABS-URNIK:premaknjeno-srecanje:116003
ATTENDEE:1. letnik (APM)
CATEGORIES:Entry,Standard
COLOR:darkgreen
DESCRIPTION:Predmet: Uvod v fiziko (APM-1)\, Vaje (V)\nLetniki: 1. letnik 
 (APM)\nIzvajalci: Tilen Knaflič\nProstor: 2.05
LOCATION:2.05
ORGANIZER:Tilen Knaflič
RELATED-TO:fmf-AFLABS-URNIK:srecanje:7337
X-WR-TIMEZONE:Europe/Ljubljana
END:VEVENT
BEGIN:VEVENT
SUMMARY:Uvod v fiziko (APM-1)\, Vaje (V)
DTSTART;TZID=Europe/Ljubljana:20220525T090000
DTEND;TZID=Europe/Ljubljana:20220525T100000
DTSTAMP:20260423T071244Z
UID:fmf-AFLABS-URNIK:premaknjeno-srecanje:116004
ATTENDEE:1. letnik (APM)
CATEGORIES:Entry,Standard
COLOR:darkgreen
DESCRIPTION:Predmet: Uvod v fiziko (APM-1)\, Vaje (V)\nLetniki: 1. letnik 
 (APM)\nIzvajalci: Tilen Knaflič\nProstor: 2.05
LOCATION:2.05
ORGANIZER:Tilen Knaflič
RELATED-TO:fmf-AFLABS-URNIK:srecanje:7337
X-WR-TIMEZONE:Europe/Ljubljana
END:VEVENT
END:VCALENDAR
