BEGIN:VCALENDAR
VERSION:2.0
PRODID:-//AFLabs urnik izvoz - fmf//aflabs.si//SI
DTSTAMP:20260423T185530Z
NAME:UL FMF urnik
REFRESH-INTERVAL:PT1H
SOURCE:https://urnik.fmf.uni-lj.si/teacher/515?day=2020-12-28&export=1
URL:https://urnik.fmf.uni-lj.si/teacher/515?day=2020-12-28&export=1
X-PUBLISHED-TTL:PT1H
X-WR-CALNAME:UL FMF urnik
X-WR-TIMEZONE:Europe/Ljubljana
BEGIN:VTIMEZONE
TZID:Europe/Ljubljana
BEGIN:DAYLIGHT
DTSTART:20260329T020000
RDATE:20260329T020000
RDATE:20270328T020000
TZNAME:CEST
TZOFFSETFROM:+0100
TZOFFSETTO:+0200
END:DAYLIGHT
BEGIN:STANDARD
DTSTART:20261025T030000
RDATE:20261025T030000
RDATE:20271031T030000
TZNAME:CET
TZOFFSETFROM:+0200
TZOFFSETTO:+0100
END:STANDARD
END:VTIMEZONE
BEGIN:VEVENT
SUMMARY:Uvod v funkcionalno analizo (FM-M\, MAT-M\, PM-5)\, Predavanja (P)
DTSTART;TZID=Europe/Ljubljana:20201001T150000
DTEND;TZID=Europe/Ljubljana:20201001T180000
DTSTAMP:20260423T185530Z
UID:fmf-AFLABS-URNIK:premaknjeno-srecanje:116318
ATTENDEE:5. letnik (PM)
ATTENDEE:magistrski študij (FM)
ATTENDEE:magistrski študij (M)
CATEGORIES:Entry,Standard
COLOR:darkgreen
DESCRIPTION:Predmet: Uvod v funkcionalno analizo (FM-M\, MAT-M\, PM-5)\, P
 redavanja (P)\nLetniki: magistrski študij (FM)\, magistrski študij (M)\,
  5. letnik (PM)\nIzvajalci: Igor Klep\nProstor: 2.01
LOCATION:2.01
ORGANIZER:Igor Klep
RELATED-TO:fmf-AFLABS-URNIK:srecanje:5263
X-WR-TIMEZONE:Europe/Ljubljana
END:VEVENT
BEGIN:VEVENT
SUMMARY:Uvod v funkcionalno analizo (FM-M\, MAT-M\, PM-5)\, Predavanja (P)
DTSTART;TZID=Europe/Ljubljana:20201008T150000
DTEND;TZID=Europe/Ljubljana:20201008T180000
DTSTAMP:20260423T185530Z
UID:fmf-AFLABS-URNIK:premaknjeno-srecanje:116319
ATTENDEE:5. letnik (PM)
ATTENDEE:magistrski študij (FM)
ATTENDEE:magistrski študij (M)
CATEGORIES:Entry,Standard
COLOR:darkgreen
DESCRIPTION:Predmet: Uvod v funkcionalno analizo (FM-M\, MAT-M\, PM-5)\, P
 redavanja (P)\nLetniki: magistrski študij (FM)\, magistrski študij (M)\,
  5. letnik (PM)\nIzvajalci: Igor Klep\nProstor: 2.01
LOCATION:2.01
ORGANIZER:Igor Klep
RELATED-TO:fmf-AFLABS-URNIK:srecanje:5263
X-WR-TIMEZONE:Europe/Ljubljana
END:VEVENT
BEGIN:VEVENT
SUMMARY:Uvod v funkcionalno analizo (FM-M\, MAT-M\, PM-5)\, Predavanja (P)
DTSTART;TZID=Europe/Ljubljana:20201015T150000
DTEND;TZID=Europe/Ljubljana:20201015T180000
DTSTAMP:20260423T185530Z
UID:fmf-AFLABS-URNIK:premaknjeno-srecanje:116320
ATTENDEE:5. letnik (PM)
ATTENDEE:magistrski študij (FM)
ATTENDEE:magistrski študij (M)
CATEGORIES:Entry,Standard
COLOR:darkgreen
DESCRIPTION:Predmet: Uvod v funkcionalno analizo (FM-M\, MAT-M\, PM-5)\, P
 redavanja (P)\nLetniki: magistrski študij (FM)\, magistrski študij (M)\,
  5. letnik (PM)\nIzvajalci: Igor Klep\nProstor: 2.01
LOCATION:2.01
ORGANIZER:Igor Klep
RELATED-TO:fmf-AFLABS-URNIK:srecanje:5263
X-WR-TIMEZONE:Europe/Ljubljana
END:VEVENT
BEGIN:VEVENT
SUMMARY:Uvod v funkcionalno analizo (FM-M\, MAT-M\, PM-5)\, Predavanja (P)
DTSTART;TZID=Europe/Ljubljana:20201022T150000
DTEND;TZID=Europe/Ljubljana:20201022T180000
DTSTAMP:20260423T185530Z
UID:fmf-AFLABS-URNIK:premaknjeno-srecanje:116321
ATTENDEE:5. letnik (PM)
ATTENDEE:magistrski študij (FM)
ATTENDEE:magistrski študij (M)
CATEGORIES:Entry,Standard
COLOR:darkgreen
DESCRIPTION:Predmet: Uvod v funkcionalno analizo (FM-M\, MAT-M\, PM-5)\, P
 redavanja (P)\nLetniki: magistrski študij (FM)\, magistrski študij (M)\,
  5. letnik (PM)\nIzvajalci: Igor Klep\nProstor: 2.01
LOCATION:2.01
ORGANIZER:Igor Klep
RELATED-TO:fmf-AFLABS-URNIK:srecanje:5263
X-WR-TIMEZONE:Europe/Ljubljana
END:VEVENT
BEGIN:VEVENT
SUMMARY:Uvod v funkcionalno analizo (FM-M\, MAT-M\, PM-5)\, Predavanja (P)
DTSTART;TZID=Europe/Ljubljana:20201029T150000
DTEND;TZID=Europe/Ljubljana:20201029T180000
DTSTAMP:20260423T185530Z
UID:fmf-AFLABS-URNIK:premaknjeno-srecanje:116322
ATTENDEE:5. letnik (PM)
ATTENDEE:magistrski študij (FM)
ATTENDEE:magistrski študij (M)
CATEGORIES:Entry,Standard
COLOR:darkgreen
DESCRIPTION:Predmet: Uvod v funkcionalno analizo (FM-M\, MAT-M\, PM-5)\, P
 redavanja (P)\nLetniki: magistrski študij (FM)\, magistrski študij (M)\,
  5. letnik (PM)\nIzvajalci: Igor Klep\nProstor: 2.01
LOCATION:2.01
ORGANIZER:Igor Klep
RELATED-TO:fmf-AFLABS-URNIK:srecanje:5263
X-WR-TIMEZONE:Europe/Ljubljana
END:VEVENT
BEGIN:VEVENT
SUMMARY:Uvod v funkcionalno analizo (FM-M\, MAT-M\, PM-5)\, Predavanja (P)
DTSTART;TZID=Europe/Ljubljana:20201105T150000
DTEND;TZID=Europe/Ljubljana:20201105T180000
DTSTAMP:20260423T185530Z
UID:fmf-AFLABS-URNIK:premaknjeno-srecanje:116323
ATTENDEE:5. letnik (PM)
ATTENDEE:magistrski študij (FM)
ATTENDEE:magistrski študij (M)
CATEGORIES:Entry,Standard
COLOR:darkgreen
DESCRIPTION:Predmet: Uvod v funkcionalno analizo (FM-M\, MAT-M\, PM-5)\, P
 redavanja (P)\nLetniki: magistrski študij (FM)\, magistrski študij (M)\,
  5. letnik (PM)\nIzvajalci: Igor Klep\nProstor: 2.01
LOCATION:2.01
ORGANIZER:Igor Klep
RELATED-TO:fmf-AFLABS-URNIK:srecanje:5263
X-WR-TIMEZONE:Europe/Ljubljana
END:VEVENT
BEGIN:VEVENT
SUMMARY:Uvod v funkcionalno analizo (FM-M\, MAT-M\, PM-5)\, Predavanja (P)
DTSTART;TZID=Europe/Ljubljana:20201112T150000
DTEND;TZID=Europe/Ljubljana:20201112T180000
DTSTAMP:20260423T185530Z
UID:fmf-AFLABS-URNIK:premaknjeno-srecanje:116324
ATTENDEE:5. letnik (PM)
ATTENDEE:magistrski študij (FM)
ATTENDEE:magistrski študij (M)
CATEGORIES:Entry,Standard
COLOR:darkgreen
DESCRIPTION:Predmet: Uvod v funkcionalno analizo (FM-M\, MAT-M\, PM-5)\, P
 redavanja (P)\nLetniki: magistrski študij (FM)\, magistrski študij (M)\,
  5. letnik (PM)\nIzvajalci: Igor Klep\nProstor: 2.01
LOCATION:2.01
ORGANIZER:Igor Klep
RELATED-TO:fmf-AFLABS-URNIK:srecanje:5263
X-WR-TIMEZONE:Europe/Ljubljana
END:VEVENT
BEGIN:VEVENT
SUMMARY:Uvod v funkcionalno analizo (FM-M\, MAT-M\, PM-5)\, Predavanja (P)
DTSTART;TZID=Europe/Ljubljana:20201119T150000
DTEND;TZID=Europe/Ljubljana:20201119T180000
DTSTAMP:20260423T185530Z
UID:fmf-AFLABS-URNIK:premaknjeno-srecanje:116325
ATTENDEE:5. letnik (PM)
ATTENDEE:magistrski študij (FM)
ATTENDEE:magistrski študij (M)
CATEGORIES:Entry,Standard
COLOR:darkgreen
DESCRIPTION:Predmet: Uvod v funkcionalno analizo (FM-M\, MAT-M\, PM-5)\, P
 redavanja (P)\nLetniki: magistrski študij (FM)\, magistrski študij (M)\,
  5. letnik (PM)\nIzvajalci: Igor Klep\nProstor: 2.01
LOCATION:2.01
ORGANIZER:Igor Klep
RELATED-TO:fmf-AFLABS-URNIK:srecanje:5263
X-WR-TIMEZONE:Europe/Ljubljana
END:VEVENT
BEGIN:VEVENT
SUMMARY:Uvod v funkcionalno analizo (FM-M\, MAT-M\, PM-5)\, Predavanja (P)
DTSTART;TZID=Europe/Ljubljana:20201126T150000
DTEND;TZID=Europe/Ljubljana:20201126T180000
DTSTAMP:20260423T185530Z
UID:fmf-AFLABS-URNIK:premaknjeno-srecanje:116326
ATTENDEE:5. letnik (PM)
ATTENDEE:magistrski študij (FM)
ATTENDEE:magistrski študij (M)
CATEGORIES:Entry,Standard
COLOR:darkgreen
DESCRIPTION:Predmet: Uvod v funkcionalno analizo (FM-M\, MAT-M\, PM-5)\, P
 redavanja (P)\nLetniki: magistrski študij (FM)\, magistrski študij (M)\,
  5. letnik (PM)\nIzvajalci: Igor Klep\nProstor: 2.01
LOCATION:2.01
ORGANIZER:Igor Klep
RELATED-TO:fmf-AFLABS-URNIK:srecanje:5263
X-WR-TIMEZONE:Europe/Ljubljana
END:VEVENT
BEGIN:VEVENT
SUMMARY:Uvod v funkcionalno analizo (FM-M\, MAT-M\, PM-5)\, Predavanja (P)
DTSTART;TZID=Europe/Ljubljana:20201203T150000
DTEND;TZID=Europe/Ljubljana:20201203T180000
DTSTAMP:20260423T185530Z
UID:fmf-AFLABS-URNIK:premaknjeno-srecanje:116327
ATTENDEE:5. letnik (PM)
ATTENDEE:magistrski študij (FM)
ATTENDEE:magistrski študij (M)
CATEGORIES:Entry,Standard
COLOR:darkgreen
DESCRIPTION:Predmet: Uvod v funkcionalno analizo (FM-M\, MAT-M\, PM-5)\, P
 redavanja (P)\nLetniki: magistrski študij (FM)\, magistrski študij (M)\,
  5. letnik (PM)\nIzvajalci: Igor Klep\nProstor: 2.01
LOCATION:2.01
ORGANIZER:Igor Klep
RELATED-TO:fmf-AFLABS-URNIK:srecanje:5263
X-WR-TIMEZONE:Europe/Ljubljana
END:VEVENT
BEGIN:VEVENT
SUMMARY:Uvod v funkcionalno analizo (FM-M\, MAT-M\, PM-5)\, Predavanja (P)
DTSTART;TZID=Europe/Ljubljana:20201210T150000
DTEND;TZID=Europe/Ljubljana:20201210T180000
DTSTAMP:20260423T185530Z
UID:fmf-AFLABS-URNIK:premaknjeno-srecanje:116328
ATTENDEE:5. letnik (PM)
ATTENDEE:magistrski študij (FM)
ATTENDEE:magistrski študij (M)
CATEGORIES:Entry,Standard
COLOR:darkgreen
DESCRIPTION:Predmet: Uvod v funkcionalno analizo (FM-M\, MAT-M\, PM-5)\, P
 redavanja (P)\nLetniki: magistrski študij (FM)\, magistrski študij (M)\,
  5. letnik (PM)\nIzvajalci: Igor Klep\nProstor: 2.01
LOCATION:2.01
ORGANIZER:Igor Klep
RELATED-TO:fmf-AFLABS-URNIK:srecanje:5263
X-WR-TIMEZONE:Europe/Ljubljana
END:VEVENT
BEGIN:VEVENT
SUMMARY:Uvod v funkcionalno analizo (FM-M\, MAT-M\, PM-5)\, Predavanja (P)
DTSTART;TZID=Europe/Ljubljana:20201217T150000
DTEND;TZID=Europe/Ljubljana:20201217T180000
DTSTAMP:20260423T185530Z
UID:fmf-AFLABS-URNIK:premaknjeno-srecanje:116329
ATTENDEE:5. letnik (PM)
ATTENDEE:magistrski študij (FM)
ATTENDEE:magistrski študij (M)
CATEGORIES:Entry,Standard
COLOR:darkgreen
DESCRIPTION:Predmet: Uvod v funkcionalno analizo (FM-M\, MAT-M\, PM-5)\, P
 redavanja (P)\nLetniki: magistrski študij (FM)\, magistrski študij (M)\,
  5. letnik (PM)\nIzvajalci: Igor Klep\nProstor: 2.01
LOCATION:2.01
ORGANIZER:Igor Klep
RELATED-TO:fmf-AFLABS-URNIK:srecanje:5263
X-WR-TIMEZONE:Europe/Ljubljana
END:VEVENT
BEGIN:VEVENT
SUMMARY:Uvod v funkcionalno analizo (FM-M\, MAT-M\, PM-5)\, Predavanja (P)
DTSTART;TZID=Europe/Ljubljana:20201224T150000
DTEND;TZID=Europe/Ljubljana:20201224T180000
DTSTAMP:20260423T185530Z
UID:fmf-AFLABS-URNIK:premaknjeno-srecanje:116330
ATTENDEE:5. letnik (PM)
ATTENDEE:magistrski študij (FM)
ATTENDEE:magistrski študij (M)
CATEGORIES:Entry,Standard
COLOR:darkgreen
DESCRIPTION:Predmet: Uvod v funkcionalno analizo (FM-M\, MAT-M\, PM-5)\, P
 redavanja (P)\nLetniki: magistrski študij (FM)\, magistrski študij (M)\,
  5. letnik (PM)\nIzvajalci: Igor Klep\nProstor: 2.01
LOCATION:2.01
ORGANIZER:Igor Klep
RELATED-TO:fmf-AFLABS-URNIK:srecanje:5263
X-WR-TIMEZONE:Europe/Ljubljana
END:VEVENT
BEGIN:VEVENT
SUMMARY:Uvod v funkcionalno analizo (FM-M\, MAT-M\, PM-5)\, Predavanja (P)
DTSTART;TZID=Europe/Ljubljana:20201231T150000
DTEND;TZID=Europe/Ljubljana:20201231T180000
DTSTAMP:20260423T185530Z
UID:fmf-AFLABS-URNIK:premaknjeno-srecanje:116331
ATTENDEE:5. letnik (PM)
ATTENDEE:magistrski študij (FM)
ATTENDEE:magistrski študij (M)
CATEGORIES:Entry,Standard
COLOR:darkgreen
DESCRIPTION:Predmet: Uvod v funkcionalno analizo (FM-M\, MAT-M\, PM-5)\, P
 redavanja (P)\nLetniki: magistrski študij (FM)\, magistrski študij (M)\,
  5. letnik (PM)\nIzvajalci: Igor Klep\nProstor: 2.01
LOCATION:2.01
ORGANIZER:Igor Klep
RELATED-TO:fmf-AFLABS-URNIK:srecanje:5263
X-WR-TIMEZONE:Europe/Ljubljana
END:VEVENT
BEGIN:VEVENT
SUMMARY:Uvod v funkcionalno analizo (FM-M\, MAT-M\, PM-5)\, Predavanja (P)
DTSTART;TZID=Europe/Ljubljana:20210107T150000
DTEND;TZID=Europe/Ljubljana:20210107T180000
DTSTAMP:20260423T185530Z
UID:fmf-AFLABS-URNIK:premaknjeno-srecanje:116332
ATTENDEE:5. letnik (PM)
ATTENDEE:magistrski študij (FM)
ATTENDEE:magistrski študij (M)
CATEGORIES:Entry,Standard
COLOR:darkgreen
DESCRIPTION:Predmet: Uvod v funkcionalno analizo (FM-M\, MAT-M\, PM-5)\, P
 redavanja (P)\nLetniki: magistrski študij (FM)\, magistrski študij (M)\,
  5. letnik (PM)\nIzvajalci: Igor Klep\nProstor: 2.01
LOCATION:2.01
ORGANIZER:Igor Klep
RELATED-TO:fmf-AFLABS-URNIK:srecanje:5263
X-WR-TIMEZONE:Europe/Ljubljana
END:VEVENT
BEGIN:VEVENT
SUMMARY:Uvod v funkcionalno analizo (FM-M\, MAT-M\, PM-5)\, Predavanja (P)
DTSTART;TZID=Europe/Ljubljana:20210114T150000
DTEND;TZID=Europe/Ljubljana:20210114T180000
DTSTAMP:20260423T185530Z
UID:fmf-AFLABS-URNIK:premaknjeno-srecanje:116333
ATTENDEE:5. letnik (PM)
ATTENDEE:magistrski študij (FM)
ATTENDEE:magistrski študij (M)
CATEGORIES:Entry,Standard
COLOR:darkgreen
DESCRIPTION:Predmet: Uvod v funkcionalno analizo (FM-M\, MAT-M\, PM-5)\, P
 redavanja (P)\nLetniki: magistrski študij (FM)\, magistrski študij (M)\,
  5. letnik (PM)\nIzvajalci: Igor Klep\nProstor: 2.01
LOCATION:2.01
ORGANIZER:Igor Klep
RELATED-TO:fmf-AFLABS-URNIK:srecanje:5263
X-WR-TIMEZONE:Europe/Ljubljana
END:VEVENT
BEGIN:VEVENT
SUMMARY:Nekomutativna algebra (FM-M\, MAT-M\, PM-5)\, Predavanja (P)
DTSTART;TZID=Europe/Ljubljana:20201005T090000
DTEND;TZID=Europe/Ljubljana:20201005T120000
DTSTAMP:20260423T185530Z
UID:fmf-AFLABS-URNIK:premaknjeno-srecanje:76124
ATTENDEE:5. letnik (PM)
ATTENDEE:magistrski študij (FM)
ATTENDEE:magistrski študij (M)
CATEGORIES:Entry,Standard
COLOR:darkgreen
DESCRIPTION:Predmet: Nekomutativna algebra (FM-M\, MAT-M\, PM-5)\, Predava
 nja (P)\nLetniki: magistrski študij (FM)\, magistrski študij (M)\, 5. le
 tnik (PM)\nIzvajalci: Igor Klep\nProstor: 3.07
LOCATION:3.07
ORGANIZER:Igor Klep
RELATED-TO:fmf-AFLABS-URNIK:srecanje:5035
X-WR-TIMEZONE:Europe/Ljubljana
END:VEVENT
BEGIN:VEVENT
SUMMARY:Nekomutativna algebra (FM-M\, MAT-M\, PM-5)\, Predavanja (P)
DTSTART;TZID=Europe/Ljubljana:20201012T090000
DTEND;TZID=Europe/Ljubljana:20201012T120000
DTSTAMP:20260423T185530Z
UID:fmf-AFLABS-URNIK:premaknjeno-srecanje:76125
ATTENDEE:5. letnik (PM)
ATTENDEE:magistrski študij (FM)
ATTENDEE:magistrski študij (M)
CATEGORIES:Entry,Standard
COLOR:darkgreen
DESCRIPTION:Predmet: Nekomutativna algebra (FM-M\, MAT-M\, PM-5)\, Predava
 nja (P)\nLetniki: magistrski študij (FM)\, magistrski študij (M)\, 5. le
 tnik (PM)\nIzvajalci: Igor Klep\nProstor: 3.07
LOCATION:3.07
ORGANIZER:Igor Klep
RELATED-TO:fmf-AFLABS-URNIK:srecanje:5035
X-WR-TIMEZONE:Europe/Ljubljana
END:VEVENT
BEGIN:VEVENT
SUMMARY:Nekomutativna algebra (FM-M\, MAT-M\, PM-5)\, Predavanja (P)
DTSTART;TZID=Europe/Ljubljana:20201019T090000
DTEND;TZID=Europe/Ljubljana:20201019T120000
DTSTAMP:20260423T185530Z
UID:fmf-AFLABS-URNIK:premaknjeno-srecanje:76126
ATTENDEE:5. letnik (PM)
ATTENDEE:magistrski študij (FM)
ATTENDEE:magistrski študij (M)
CATEGORIES:Entry,Standard
COLOR:darkgreen
DESCRIPTION:Predmet: Nekomutativna algebra (FM-M\, MAT-M\, PM-5)\, Predava
 nja (P)\nLetniki: magistrski študij (FM)\, magistrski študij (M)\, 5. le
 tnik (PM)\nIzvajalci: Igor Klep\nProstor: 3.07
LOCATION:3.07
ORGANIZER:Igor Klep
RELATED-TO:fmf-AFLABS-URNIK:srecanje:5035
X-WR-TIMEZONE:Europe/Ljubljana
END:VEVENT
BEGIN:VEVENT
SUMMARY:Nekomutativna algebra (FM-M\, MAT-M\, PM-5)\, Predavanja (P)
DTSTART;TZID=Europe/Ljubljana:20201026T090000
DTEND;TZID=Europe/Ljubljana:20201026T120000
DTSTAMP:20260423T185530Z
UID:fmf-AFLABS-URNIK:premaknjeno-srecanje:76127
ATTENDEE:5. letnik (PM)
ATTENDEE:magistrski študij (FM)
ATTENDEE:magistrski študij (M)
CATEGORIES:Entry,Standard
COLOR:darkgreen
DESCRIPTION:Predmet: Nekomutativna algebra (FM-M\, MAT-M\, PM-5)\, Predava
 nja (P)\nLetniki: magistrski študij (FM)\, magistrski študij (M)\, 5. le
 tnik (PM)\nIzvajalci: Igor Klep\nProstor: 3.07
LOCATION:3.07
ORGANIZER:Igor Klep
RELATED-TO:fmf-AFLABS-URNIK:srecanje:5035
X-WR-TIMEZONE:Europe/Ljubljana
END:VEVENT
BEGIN:VEVENT
SUMMARY:Nekomutativna algebra (FM-M\, MAT-M\, PM-5)\, Predavanja (P)
DTSTART;TZID=Europe/Ljubljana:20201102T090000
DTEND;TZID=Europe/Ljubljana:20201102T120000
DTSTAMP:20260423T185530Z
UID:fmf-AFLABS-URNIK:premaknjeno-srecanje:76128
ATTENDEE:5. letnik (PM)
ATTENDEE:magistrski študij (FM)
ATTENDEE:magistrski študij (M)
CATEGORIES:Entry,Standard
COLOR:darkgreen
DESCRIPTION:Predmet: Nekomutativna algebra (FM-M\, MAT-M\, PM-5)\, Predava
 nja (P)\nLetniki: magistrski študij (FM)\, magistrski študij (M)\, 5. le
 tnik (PM)\nIzvajalci: Igor Klep\nProstor: 3.07
LOCATION:3.07
ORGANIZER:Igor Klep
RELATED-TO:fmf-AFLABS-URNIK:srecanje:5035
X-WR-TIMEZONE:Europe/Ljubljana
END:VEVENT
BEGIN:VEVENT
SUMMARY:Nekomutativna algebra (FM-M\, MAT-M\, PM-5)\, Predavanja (P)
DTSTART;TZID=Europe/Ljubljana:20201109T090000
DTEND;TZID=Europe/Ljubljana:20201109T120000
DTSTAMP:20260423T185530Z
UID:fmf-AFLABS-URNIK:premaknjeno-srecanje:76129
ATTENDEE:5. letnik (PM)
ATTENDEE:magistrski študij (FM)
ATTENDEE:magistrski študij (M)
CATEGORIES:Entry,Standard
COLOR:darkgreen
DESCRIPTION:Predmet: Nekomutativna algebra (FM-M\, MAT-M\, PM-5)\, Predava
 nja (P)\nLetniki: magistrski študij (FM)\, magistrski študij (M)\, 5. le
 tnik (PM)\nIzvajalci: Igor Klep\nProstor: 3.07
LOCATION:3.07
ORGANIZER:Igor Klep
RELATED-TO:fmf-AFLABS-URNIK:srecanje:5035
X-WR-TIMEZONE:Europe/Ljubljana
END:VEVENT
BEGIN:VEVENT
SUMMARY:Nekomutativna algebra (FM-M\, MAT-M\, PM-5)\, Predavanja (P)
DTSTART;TZID=Europe/Ljubljana:20201116T090000
DTEND;TZID=Europe/Ljubljana:20201116T120000
DTSTAMP:20260423T185530Z
UID:fmf-AFLABS-URNIK:premaknjeno-srecanje:76130
ATTENDEE:5. letnik (PM)
ATTENDEE:magistrski študij (FM)
ATTENDEE:magistrski študij (M)
CATEGORIES:Entry,Standard
COLOR:darkgreen
DESCRIPTION:Predmet: Nekomutativna algebra (FM-M\, MAT-M\, PM-5)\, Predava
 nja (P)\nLetniki: magistrski študij (FM)\, magistrski študij (M)\, 5. le
 tnik (PM)\nIzvajalci: Igor Klep\nProstor: 3.07
LOCATION:3.07
ORGANIZER:Igor Klep
RELATED-TO:fmf-AFLABS-URNIK:srecanje:5035
X-WR-TIMEZONE:Europe/Ljubljana
END:VEVENT
BEGIN:VEVENT
SUMMARY:Nekomutativna algebra (FM-M\, MAT-M\, PM-5)\, Predavanja (P)
DTSTART;TZID=Europe/Ljubljana:20201123T090000
DTEND;TZID=Europe/Ljubljana:20201123T120000
DTSTAMP:20260423T185530Z
UID:fmf-AFLABS-URNIK:premaknjeno-srecanje:76131
ATTENDEE:5. letnik (PM)
ATTENDEE:magistrski študij (FM)
ATTENDEE:magistrski študij (M)
CATEGORIES:Entry,Standard
COLOR:darkgreen
DESCRIPTION:Predmet: Nekomutativna algebra (FM-M\, MAT-M\, PM-5)\, Predava
 nja (P)\nLetniki: magistrski študij (FM)\, magistrski študij (M)\, 5. le
 tnik (PM)\nIzvajalci: Igor Klep\nProstor: 3.07
LOCATION:3.07
ORGANIZER:Igor Klep
RELATED-TO:fmf-AFLABS-URNIK:srecanje:5035
X-WR-TIMEZONE:Europe/Ljubljana
END:VEVENT
BEGIN:VEVENT
SUMMARY:Nekomutativna algebra (FM-M\, MAT-M\, PM-5)\, Predavanja (P)
DTSTART;TZID=Europe/Ljubljana:20201130T090000
DTEND;TZID=Europe/Ljubljana:20201130T120000
DTSTAMP:20260423T185530Z
UID:fmf-AFLABS-URNIK:premaknjeno-srecanje:76132
ATTENDEE:5. letnik (PM)
ATTENDEE:magistrski študij (FM)
ATTENDEE:magistrski študij (M)
CATEGORIES:Entry,Standard
COLOR:darkgreen
DESCRIPTION:Predmet: Nekomutativna algebra (FM-M\, MAT-M\, PM-5)\, Predava
 nja (P)\nLetniki: magistrski študij (FM)\, magistrski študij (M)\, 5. le
 tnik (PM)\nIzvajalci: Igor Klep\nProstor: 3.07
LOCATION:3.07
ORGANIZER:Igor Klep
RELATED-TO:fmf-AFLABS-URNIK:srecanje:5035
X-WR-TIMEZONE:Europe/Ljubljana
END:VEVENT
BEGIN:VEVENT
SUMMARY:Nekomutativna algebra (FM-M\, MAT-M\, PM-5)\, Predavanja (P)
DTSTART;TZID=Europe/Ljubljana:20201207T090000
DTEND;TZID=Europe/Ljubljana:20201207T120000
DTSTAMP:20260423T185530Z
UID:fmf-AFLABS-URNIK:premaknjeno-srecanje:76133
ATTENDEE:5. letnik (PM)
ATTENDEE:magistrski študij (FM)
ATTENDEE:magistrski študij (M)
CATEGORIES:Entry,Standard
COLOR:darkgreen
DESCRIPTION:Predmet: Nekomutativna algebra (FM-M\, MAT-M\, PM-5)\, Predava
 nja (P)\nLetniki: magistrski študij (FM)\, magistrski študij (M)\, 5. le
 tnik (PM)\nIzvajalci: Igor Klep\nProstor: 3.07
LOCATION:3.07
ORGANIZER:Igor Klep
RELATED-TO:fmf-AFLABS-URNIK:srecanje:5035
X-WR-TIMEZONE:Europe/Ljubljana
END:VEVENT
BEGIN:VEVENT
SUMMARY:Nekomutativna algebra (FM-M\, MAT-M\, PM-5)\, Predavanja (P)
DTSTART;TZID=Europe/Ljubljana:20201214T090000
DTEND;TZID=Europe/Ljubljana:20201214T120000
DTSTAMP:20260423T185530Z
UID:fmf-AFLABS-URNIK:premaknjeno-srecanje:76134
ATTENDEE:5. letnik (PM)
ATTENDEE:magistrski študij (FM)
ATTENDEE:magistrski študij (M)
CATEGORIES:Entry,Standard
COLOR:darkgreen
DESCRIPTION:Predmet: Nekomutativna algebra (FM-M\, MAT-M\, PM-5)\, Predava
 nja (P)\nLetniki: magistrski študij (FM)\, magistrski študij (M)\, 5. le
 tnik (PM)\nIzvajalci: Igor Klep\nProstor: 3.07
LOCATION:3.07
ORGANIZER:Igor Klep
RELATED-TO:fmf-AFLABS-URNIK:srecanje:5035
X-WR-TIMEZONE:Europe/Ljubljana
END:VEVENT
BEGIN:VEVENT
SUMMARY:Nekomutativna algebra (FM-M\, MAT-M\, PM-5)\, Predavanja (P)
DTSTART;TZID=Europe/Ljubljana:20201221T090000
DTEND;TZID=Europe/Ljubljana:20201221T120000
DTSTAMP:20260423T185530Z
UID:fmf-AFLABS-URNIK:premaknjeno-srecanje:76135
ATTENDEE:5. letnik (PM)
ATTENDEE:magistrski študij (FM)
ATTENDEE:magistrski študij (M)
CATEGORIES:Entry,Standard
COLOR:darkgreen
DESCRIPTION:Predmet: Nekomutativna algebra (FM-M\, MAT-M\, PM-5)\, Predava
 nja (P)\nLetniki: magistrski študij (FM)\, magistrski študij (M)\, 5. le
 tnik (PM)\nIzvajalci: Igor Klep\nProstor: 3.07
LOCATION:3.07
ORGANIZER:Igor Klep
RELATED-TO:fmf-AFLABS-URNIK:srecanje:5035
X-WR-TIMEZONE:Europe/Ljubljana
END:VEVENT
BEGIN:VEVENT
SUMMARY:Nekomutativna algebra (FM-M\, MAT-M\, PM-5)\, Predavanja (P)
DTSTART;TZID=Europe/Ljubljana:20201228T090000
DTEND;TZID=Europe/Ljubljana:20201228T120000
DTSTAMP:20260423T185530Z
UID:fmf-AFLABS-URNIK:premaknjeno-srecanje:76136
ATTENDEE:5. letnik (PM)
ATTENDEE:magistrski študij (FM)
ATTENDEE:magistrski študij (M)
CATEGORIES:Entry,Standard
COLOR:darkgreen
DESCRIPTION:Predmet: Nekomutativna algebra (FM-M\, MAT-M\, PM-5)\, Predava
 nja (P)\nLetniki: magistrski študij (FM)\, magistrski študij (M)\, 5. le
 tnik (PM)\nIzvajalci: Igor Klep\nProstor: 3.07
LOCATION:3.07
ORGANIZER:Igor Klep
RELATED-TO:fmf-AFLABS-URNIK:srecanje:5035
X-WR-TIMEZONE:Europe/Ljubljana
END:VEVENT
BEGIN:VEVENT
SUMMARY:Nekomutativna algebra (FM-M\, MAT-M\, PM-5)\, Predavanja (P)
DTSTART;TZID=Europe/Ljubljana:20210104T090000
DTEND;TZID=Europe/Ljubljana:20210104T120000
DTSTAMP:20260423T185530Z
UID:fmf-AFLABS-URNIK:premaknjeno-srecanje:76137
ATTENDEE:5. letnik (PM)
ATTENDEE:magistrski študij (FM)
ATTENDEE:magistrski študij (M)
CATEGORIES:Entry,Standard
COLOR:darkgreen
DESCRIPTION:Predmet: Nekomutativna algebra (FM-M\, MAT-M\, PM-5)\, Predava
 nja (P)\nLetniki: magistrski študij (FM)\, magistrski študij (M)\, 5. le
 tnik (PM)\nIzvajalci: Igor Klep\nProstor: 3.07
LOCATION:3.07
ORGANIZER:Igor Klep
RELATED-TO:fmf-AFLABS-URNIK:srecanje:5035
X-WR-TIMEZONE:Europe/Ljubljana
END:VEVENT
BEGIN:VEVENT
SUMMARY:Nekomutativna algebra (FM-M\, MAT-M\, PM-5)\, Predavanja (P)
DTSTART;TZID=Europe/Ljubljana:20210111T090000
DTEND;TZID=Europe/Ljubljana:20210111T120000
DTSTAMP:20260423T185530Z
UID:fmf-AFLABS-URNIK:premaknjeno-srecanje:76138
ATTENDEE:5. letnik (PM)
ATTENDEE:magistrski študij (FM)
ATTENDEE:magistrski študij (M)
CATEGORIES:Entry,Standard
COLOR:darkgreen
DESCRIPTION:Predmet: Nekomutativna algebra (FM-M\, MAT-M\, PM-5)\, Predava
 nja (P)\nLetniki: magistrski študij (FM)\, magistrski študij (M)\, 5. le
 tnik (PM)\nIzvajalci: Igor Klep\nProstor: 3.07
LOCATION:3.07
ORGANIZER:Igor Klep
RELATED-TO:fmf-AFLABS-URNIK:srecanje:5035
X-WR-TIMEZONE:Europe/Ljubljana
END:VEVENT
BEGIN:VEVENT
SUMMARY:Rezervacija
DTSTART;TZID=Europe/Ljubljana:20201006T150000
DTEND;TZID=Europe/Ljubljana:20201006T170000
DTSTAMP:20260423T185530Z
UID:fmf-AFLABS-URNIK:rezervacija:6497
CATEGORIES:Reservation
COLOR:royalblue
DESCRIPTION:Predmeti: \nLetniki: \nIzvajalci: Igor Klep\, Tea Štrekelj\nP
 rostori: 3.06
LOCATION:3.06
ORGANIZER:Igor Klep, Tea Štrekelj
X-WR-TIMEZONE:Europe/Ljubljana
END:VEVENT
BEGIN:VEVENT
SUMMARY:Rezervacija
DTSTART;TZID=Europe/Ljubljana:20210120T100000
DTEND;TZID=Europe/Ljubljana:20210120T130000
DTSTAMP:20260423T185530Z
UID:fmf-AFLABS-URNIK:rezervacija:6569
CATEGORIES:Reservation
COLOR:royalblue
DESCRIPTION:Predmeti: \nLetniki: \nIzvajalci: Igor Klep\, Tea Štrekelj\nP
 rostori: 2.05
LOCATION:2.05
ORGANIZER:Igor Klep, Tea Štrekelj
X-WR-TIMEZONE:Europe/Ljubljana
END:VEVENT
BEGIN:VEVENT
SUMMARY:Rezervacija
DTSTART;TZID=Europe/Ljubljana:20210129T100000
DTEND;TZID=Europe/Ljubljana:20210129T120000
DTSTAMP:20260423T185530Z
UID:fmf-AFLABS-URNIK:rezervacija:6575
CATEGORIES:Reservation
COLOR:royalblue
DESCRIPTION:Predmeti: \nLetniki: \nIzvajalci: Igor Klep\nProstori: 2.05
LOCATION:2.05
ORGANIZER:Igor Klep
X-WR-TIMEZONE:Europe/Ljubljana
END:VEVENT
END:VCALENDAR
