BEGIN:VCALENDAR
VERSION:2.0
PRODID:-//AFLabs urnik izvoz - fmf//aflabs.si//SI
DTSTAMP:20260422T221701Z
NAME:UL FMF urnik
REFRESH-INTERVAL:PT1H
SOURCE:https://urnik.fmf.uni-lj.si/teacher/515?day=2021-05-17&export=1
URL:https://urnik.fmf.uni-lj.si/teacher/515?day=2021-05-17&export=1
X-PUBLISHED-TTL:PT1H
X-WR-CALNAME:UL FMF urnik
X-WR-TIMEZONE:Europe/Ljubljana
BEGIN:VTIMEZONE
TZID:Europe/Ljubljana
BEGIN:DAYLIGHT
DTSTART:20260329T020000
RDATE:20260329T020000
RDATE:20270328T020000
TZNAME:CEST
TZOFFSETFROM:+0100
TZOFFSETTO:+0200
END:DAYLIGHT
BEGIN:STANDARD
DTSTART:20261025T030000
RDATE:20261025T030000
RDATE:20271031T030000
TZNAME:CET
TZOFFSETFROM:+0200
TZOFFSETTO:+0100
END:STANDARD
END:VTIMEZONE
BEGIN:VEVENT
SUMMARY:Algebra 3 (FM-3\, MAT-3\, PM-4)\, Predavanja (P)
DTSTART;TZID=Europe/Ljubljana:20210218T140000
DTEND;TZID=Europe/Ljubljana:20210218T150000
DTSTAMP:20260422T221701Z
UID:fmf-AFLABS-URNIK:premaknjeno-srecanje:3201
ATTENDEE:3. letnik (FM)
ATTENDEE:3. letnik (M)
ATTENDEE:4. letnik (PM)
CATEGORIES:Entry,Standard
COLOR:darkgreen
DESCRIPTION:Predmet: Algebra 3 (FM-3\, MAT-3\, PM-4)\, Predavanja (P)\nLet
 niki: 3. letnik (FM)\, 3. letnik (M)\, 4. letnik (PM)\nIzvajalci: Igor Kle
 p\nProstor: 2.05
LOCATION:2.05
ORGANIZER:Igor Klep
RELATED-TO:fmf-AFLABS-URNIK:srecanje:6078
X-WR-TIMEZONE:Europe/Ljubljana
END:VEVENT
BEGIN:VEVENT
SUMMARY:Algebra 3 (FM-3\, MAT-3\, PM-4)\, Predavanja (P)
DTSTART;TZID=Europe/Ljubljana:20210225T140000
DTEND;TZID=Europe/Ljubljana:20210225T150000
DTSTAMP:20260422T221701Z
UID:fmf-AFLABS-URNIK:premaknjeno-srecanje:3202
ATTENDEE:3. letnik (FM)
ATTENDEE:3. letnik (M)
ATTENDEE:4. letnik (PM)
CATEGORIES:Entry,Standard
COLOR:darkgreen
DESCRIPTION:Predmet: Algebra 3 (FM-3\, MAT-3\, PM-4)\, Predavanja (P)\nLet
 niki: 3. letnik (FM)\, 3. letnik (M)\, 4. letnik (PM)\nIzvajalci: Igor Kle
 p\nProstor: 2.05
LOCATION:2.05
ORGANIZER:Igor Klep
RELATED-TO:fmf-AFLABS-URNIK:srecanje:6078
X-WR-TIMEZONE:Europe/Ljubljana
END:VEVENT
BEGIN:VEVENT
SUMMARY:Algebra 3 (FM-3\, MAT-3\, PM-4)\, Predavanja (P)
DTSTART;TZID=Europe/Ljubljana:20210304T140000
DTEND;TZID=Europe/Ljubljana:20210304T150000
DTSTAMP:20260422T221701Z
UID:fmf-AFLABS-URNIK:premaknjeno-srecanje:3203
ATTENDEE:3. letnik (FM)
ATTENDEE:3. letnik (M)
ATTENDEE:4. letnik (PM)
CATEGORIES:Entry,Standard
COLOR:darkgreen
DESCRIPTION:Predmet: Algebra 3 (FM-3\, MAT-3\, PM-4)\, Predavanja (P)\nLet
 niki: 3. letnik (FM)\, 3. letnik (M)\, 4. letnik (PM)\nIzvajalci: Igor Kle
 p\nProstor: 2.05
LOCATION:2.05
ORGANIZER:Igor Klep
RELATED-TO:fmf-AFLABS-URNIK:srecanje:6078
X-WR-TIMEZONE:Europe/Ljubljana
END:VEVENT
BEGIN:VEVENT
SUMMARY:Algebra 3 (FM-3\, MAT-3\, PM-4)\, Predavanja (P)
DTSTART;TZID=Europe/Ljubljana:20210311T140000
DTEND;TZID=Europe/Ljubljana:20210311T150000
DTSTAMP:20260422T221701Z
UID:fmf-AFLABS-URNIK:premaknjeno-srecanje:3204
ATTENDEE:3. letnik (FM)
ATTENDEE:3. letnik (M)
ATTENDEE:4. letnik (PM)
CATEGORIES:Entry,Standard
COLOR:darkgreen
DESCRIPTION:Predmet: Algebra 3 (FM-3\, MAT-3\, PM-4)\, Predavanja (P)\nLet
 niki: 3. letnik (FM)\, 3. letnik (M)\, 4. letnik (PM)\nIzvajalci: Igor Kle
 p\nProstor: 2.05
LOCATION:2.05
ORGANIZER:Igor Klep
RELATED-TO:fmf-AFLABS-URNIK:srecanje:6078
X-WR-TIMEZONE:Europe/Ljubljana
END:VEVENT
BEGIN:VEVENT
SUMMARY:Algebra 3 (FM-3\, MAT-3\, PM-4)\, Predavanja (P)
DTSTART;TZID=Europe/Ljubljana:20210318T140000
DTEND;TZID=Europe/Ljubljana:20210318T150000
DTSTAMP:20260422T221701Z
UID:fmf-AFLABS-URNIK:premaknjeno-srecanje:3205
ATTENDEE:3. letnik (FM)
ATTENDEE:3. letnik (M)
ATTENDEE:4. letnik (PM)
CATEGORIES:Entry,Standard
COLOR:darkgreen
DESCRIPTION:Predmet: Algebra 3 (FM-3\, MAT-3\, PM-4)\, Predavanja (P)\nLet
 niki: 3. letnik (FM)\, 3. letnik (M)\, 4. letnik (PM)\nIzvajalci: Igor Kle
 p\nProstor: 2.05
LOCATION:2.05
ORGANIZER:Igor Klep
RELATED-TO:fmf-AFLABS-URNIK:srecanje:6078
X-WR-TIMEZONE:Europe/Ljubljana
END:VEVENT
BEGIN:VEVENT
SUMMARY:Algebra 3 (FM-3\, MAT-3\, PM-4)\, Predavanja (P)
DTSTART;TZID=Europe/Ljubljana:20210325T140000
DTEND;TZID=Europe/Ljubljana:20210325T150000
DTSTAMP:20260422T221701Z
UID:fmf-AFLABS-URNIK:premaknjeno-srecanje:3206
ATTENDEE:3. letnik (FM)
ATTENDEE:3. letnik (M)
ATTENDEE:4. letnik (PM)
CATEGORIES:Entry,Standard
COLOR:darkgreen
DESCRIPTION:Predmet: Algebra 3 (FM-3\, MAT-3\, PM-4)\, Predavanja (P)\nLet
 niki: 3. letnik (FM)\, 3. letnik (M)\, 4. letnik (PM)\nIzvajalci: Igor Kle
 p\nProstor: 2.05
LOCATION:2.05
ORGANIZER:Igor Klep
RELATED-TO:fmf-AFLABS-URNIK:srecanje:6078
X-WR-TIMEZONE:Europe/Ljubljana
END:VEVENT
BEGIN:VEVENT
SUMMARY:Algebra 3 (FM-3\, MAT-3\, PM-4)\, Predavanja (P)
DTSTART;TZID=Europe/Ljubljana:20210401T140000
DTEND;TZID=Europe/Ljubljana:20210401T150000
DTSTAMP:20260422T221701Z
UID:fmf-AFLABS-URNIK:premaknjeno-srecanje:3207
ATTENDEE:3. letnik (FM)
ATTENDEE:3. letnik (M)
ATTENDEE:4. letnik (PM)
CATEGORIES:Entry,Standard
COLOR:darkgreen
DESCRIPTION:Predmet: Algebra 3 (FM-3\, MAT-3\, PM-4)\, Predavanja (P)\nLet
 niki: 3. letnik (FM)\, 3. letnik (M)\, 4. letnik (PM)\nIzvajalci: Igor Kle
 p\nProstor: 2.05
LOCATION:2.05
ORGANIZER:Igor Klep
RELATED-TO:fmf-AFLABS-URNIK:srecanje:6078
X-WR-TIMEZONE:Europe/Ljubljana
END:VEVENT
BEGIN:VEVENT
SUMMARY:Algebra 3 (FM-3\, MAT-3\, PM-4)\, Predavanja (P)
DTSTART;TZID=Europe/Ljubljana:20210408T140000
DTEND;TZID=Europe/Ljubljana:20210408T150000
DTSTAMP:20260422T221701Z
UID:fmf-AFLABS-URNIK:premaknjeno-srecanje:3208
ATTENDEE:3. letnik (FM)
ATTENDEE:3. letnik (M)
ATTENDEE:4. letnik (PM)
CATEGORIES:Entry,Standard
COLOR:darkgreen
DESCRIPTION:Predmet: Algebra 3 (FM-3\, MAT-3\, PM-4)\, Predavanja (P)\nLet
 niki: 3. letnik (FM)\, 3. letnik (M)\, 4. letnik (PM)\nIzvajalci: Igor Kle
 p\nProstor: 2.05
LOCATION:2.05
ORGANIZER:Igor Klep
RELATED-TO:fmf-AFLABS-URNIK:srecanje:6078
X-WR-TIMEZONE:Europe/Ljubljana
END:VEVENT
BEGIN:VEVENT
SUMMARY:Algebra 3 (FM-3\, MAT-3\, PM-4)\, Predavanja (P)
DTSTART;TZID=Europe/Ljubljana:20210415T140000
DTEND;TZID=Europe/Ljubljana:20210415T150000
DTSTAMP:20260422T221701Z
UID:fmf-AFLABS-URNIK:premaknjeno-srecanje:3209
ATTENDEE:3. letnik (FM)
ATTENDEE:3. letnik (M)
ATTENDEE:4. letnik (PM)
CATEGORIES:Entry,Standard
COLOR:darkgreen
DESCRIPTION:Predmet: Algebra 3 (FM-3\, MAT-3\, PM-4)\, Predavanja (P)\nLet
 niki: 3. letnik (FM)\, 3. letnik (M)\, 4. letnik (PM)\nIzvajalci: Igor Kle
 p\nProstor: 2.05
LOCATION:2.05
ORGANIZER:Igor Klep
RELATED-TO:fmf-AFLABS-URNIK:srecanje:6078
X-WR-TIMEZONE:Europe/Ljubljana
END:VEVENT
BEGIN:VEVENT
SUMMARY:Algebra 3 (FM-3\, MAT-3\, PM-4)\, Predavanja (P)
DTSTART;TZID=Europe/Ljubljana:20210422T140000
DTEND;TZID=Europe/Ljubljana:20210422T150000
DTSTAMP:20260422T221701Z
UID:fmf-AFLABS-URNIK:premaknjeno-srecanje:3210
ATTENDEE:3. letnik (FM)
ATTENDEE:3. letnik (M)
ATTENDEE:4. letnik (PM)
CATEGORIES:Entry,Standard
COLOR:darkgreen
DESCRIPTION:Predmet: Algebra 3 (FM-3\, MAT-3\, PM-4)\, Predavanja (P)\nLet
 niki: 3. letnik (FM)\, 3. letnik (M)\, 4. letnik (PM)\nIzvajalci: Igor Kle
 p\nProstor: 2.05
LOCATION:2.05
ORGANIZER:Igor Klep
RELATED-TO:fmf-AFLABS-URNIK:srecanje:6078
X-WR-TIMEZONE:Europe/Ljubljana
END:VEVENT
BEGIN:VEVENT
SUMMARY:Algebra 3 (FM-3\, MAT-3\, PM-4)\, Predavanja (P)
DTSTART;TZID=Europe/Ljubljana:20210429T140000
DTEND;TZID=Europe/Ljubljana:20210429T150000
DTSTAMP:20260422T221701Z
UID:fmf-AFLABS-URNIK:premaknjeno-srecanje:3211
ATTENDEE:3. letnik (FM)
ATTENDEE:3. letnik (M)
ATTENDEE:4. letnik (PM)
CATEGORIES:Entry,Standard
COLOR:darkgreen
DESCRIPTION:Predmet: Algebra 3 (FM-3\, MAT-3\, PM-4)\, Predavanja (P)\nLet
 niki: 3. letnik (FM)\, 3. letnik (M)\, 4. letnik (PM)\nIzvajalci: Igor Kle
 p\nProstor: 2.05
LOCATION:2.05
ORGANIZER:Igor Klep
RELATED-TO:fmf-AFLABS-URNIK:srecanje:6078
X-WR-TIMEZONE:Europe/Ljubljana
END:VEVENT
BEGIN:VEVENT
SUMMARY:Algebra 3 (FM-3\, MAT-3\, PM-4)\, Predavanja (P)
DTSTART;TZID=Europe/Ljubljana:20210506T140000
DTEND;TZID=Europe/Ljubljana:20210506T150000
DTSTAMP:20260422T221701Z
UID:fmf-AFLABS-URNIK:premaknjeno-srecanje:3212
ATTENDEE:3. letnik (FM)
ATTENDEE:3. letnik (M)
ATTENDEE:4. letnik (PM)
CATEGORIES:Entry,Standard
COLOR:darkgreen
DESCRIPTION:Predmet: Algebra 3 (FM-3\, MAT-3\, PM-4)\, Predavanja (P)\nLet
 niki: 3. letnik (FM)\, 3. letnik (M)\, 4. letnik (PM)\nIzvajalci: Igor Kle
 p\nProstor: 2.05
LOCATION:2.05
ORGANIZER:Igor Klep
RELATED-TO:fmf-AFLABS-URNIK:srecanje:6078
X-WR-TIMEZONE:Europe/Ljubljana
END:VEVENT
BEGIN:VEVENT
SUMMARY:Algebra 3 (FM-3\, MAT-3\, PM-4)\, Predavanja (P)
DTSTART;TZID=Europe/Ljubljana:20210513T140000
DTEND;TZID=Europe/Ljubljana:20210513T150000
DTSTAMP:20260422T221701Z
UID:fmf-AFLABS-URNIK:premaknjeno-srecanje:3213
ATTENDEE:3. letnik (FM)
ATTENDEE:3. letnik (M)
ATTENDEE:4. letnik (PM)
CATEGORIES:Entry,Standard
COLOR:darkgreen
DESCRIPTION:Predmet: Algebra 3 (FM-3\, MAT-3\, PM-4)\, Predavanja (P)\nLet
 niki: 3. letnik (FM)\, 3. letnik (M)\, 4. letnik (PM)\nIzvajalci: Igor Kle
 p\nProstor: 2.05
LOCATION:2.05
ORGANIZER:Igor Klep
RELATED-TO:fmf-AFLABS-URNIK:srecanje:6078
X-WR-TIMEZONE:Europe/Ljubljana
END:VEVENT
BEGIN:VEVENT
SUMMARY:Algebra 3 (FM-3\, MAT-3\, PM-4)\, Predavanja (P)
DTSTART;TZID=Europe/Ljubljana:20210520T140000
DTEND;TZID=Europe/Ljubljana:20210520T150000
DTSTAMP:20260422T221701Z
UID:fmf-AFLABS-URNIK:premaknjeno-srecanje:3214
ATTENDEE:3. letnik (FM)
ATTENDEE:3. letnik (M)
ATTENDEE:4. letnik (PM)
CATEGORIES:Entry,Standard
COLOR:darkgreen
DESCRIPTION:Predmet: Algebra 3 (FM-3\, MAT-3\, PM-4)\, Predavanja (P)\nLet
 niki: 3. letnik (FM)\, 3. letnik (M)\, 4. letnik (PM)\nIzvajalci: Igor Kle
 p\nProstor: 2.05
LOCATION:2.05
ORGANIZER:Igor Klep
RELATED-TO:fmf-AFLABS-URNIK:srecanje:6078
X-WR-TIMEZONE:Europe/Ljubljana
END:VEVENT
BEGIN:VEVENT
SUMMARY:Algebra 3 (FM-3\, MAT-3\, PM-4)\, Predavanja (P)
DTSTART;TZID=Europe/Ljubljana:20210527T140000
DTEND;TZID=Europe/Ljubljana:20210527T150000
DTSTAMP:20260422T221701Z
UID:fmf-AFLABS-URNIK:premaknjeno-srecanje:3215
ATTENDEE:3. letnik (FM)
ATTENDEE:3. letnik (M)
ATTENDEE:4. letnik (PM)
CATEGORIES:Entry,Standard
COLOR:darkgreen
DESCRIPTION:Predmet: Algebra 3 (FM-3\, MAT-3\, PM-4)\, Predavanja (P)\nLet
 niki: 3. letnik (FM)\, 3. letnik (M)\, 4. letnik (PM)\nIzvajalci: Igor Kle
 p\nProstor: 2.05
LOCATION:2.05
ORGANIZER:Igor Klep
RELATED-TO:fmf-AFLABS-URNIK:srecanje:6078
X-WR-TIMEZONE:Europe/Ljubljana
END:VEVENT
BEGIN:VEVENT
SUMMARY:Algebra 3 (FM-3\, MAT-3\, PM-4)\, Predavanja (P)
DTSTART;TZID=Europe/Ljubljana:20210219T100000
DTEND;TZID=Europe/Ljubljana:20210219T120000
DTSTAMP:20260422T221701Z
UID:fmf-AFLABS-URNIK:premaknjeno-srecanje:3277
ATTENDEE:3. letnik (FM)
ATTENDEE:3. letnik (M)
ATTENDEE:4. letnik (PM)
CATEGORIES:Entry,Standard
COLOR:darkgreen
DESCRIPTION:Predmet: Algebra 3 (FM-3\, MAT-3\, PM-4)\, Predavanja (P)\nLet
 niki: 3. letnik (FM)\, 3. letnik (M)\, 4. letnik (PM)\nIzvajalci: Igor Kle
 p\nProstor: 2.03
LOCATION:2.03
ORGANIZER:Igor Klep
RELATED-TO:fmf-AFLABS-URNIK:srecanje:5445
X-WR-TIMEZONE:Europe/Ljubljana
END:VEVENT
BEGIN:VEVENT
SUMMARY:Algebra 3 (FM-3\, MAT-3\, PM-4)\, Predavanja (P)
DTSTART;TZID=Europe/Ljubljana:20210226T100000
DTEND;TZID=Europe/Ljubljana:20210226T120000
DTSTAMP:20260422T221701Z
UID:fmf-AFLABS-URNIK:premaknjeno-srecanje:3278
ATTENDEE:3. letnik (FM)
ATTENDEE:3. letnik (M)
ATTENDEE:4. letnik (PM)
CATEGORIES:Entry,Standard
COLOR:darkgreen
DESCRIPTION:Predmet: Algebra 3 (FM-3\, MAT-3\, PM-4)\, Predavanja (P)\nLet
 niki: 3. letnik (FM)\, 3. letnik (M)\, 4. letnik (PM)\nIzvajalci: Igor Kle
 p\nProstor: 2.03
LOCATION:2.03
ORGANIZER:Igor Klep
RELATED-TO:fmf-AFLABS-URNIK:srecanje:5445
X-WR-TIMEZONE:Europe/Ljubljana
END:VEVENT
BEGIN:VEVENT
SUMMARY:Algebra 3 (FM-3\, MAT-3\, PM-4)\, Predavanja (P)
DTSTART;TZID=Europe/Ljubljana:20210305T100000
DTEND;TZID=Europe/Ljubljana:20210305T120000
DTSTAMP:20260422T221701Z
UID:fmf-AFLABS-URNIK:premaknjeno-srecanje:3279
ATTENDEE:3. letnik (FM)
ATTENDEE:3. letnik (M)
ATTENDEE:4. letnik (PM)
CATEGORIES:Entry,Standard
COLOR:darkgreen
DESCRIPTION:Predmet: Algebra 3 (FM-3\, MAT-3\, PM-4)\, Predavanja (P)\nLet
 niki: 3. letnik (FM)\, 3. letnik (M)\, 4. letnik (PM)\nIzvajalci: Igor Kle
 p\nProstor: 2.03
LOCATION:2.03
ORGANIZER:Igor Klep
RELATED-TO:fmf-AFLABS-URNIK:srecanje:5445
X-WR-TIMEZONE:Europe/Ljubljana
END:VEVENT
BEGIN:VEVENT
SUMMARY:Algebra 3 (FM-3\, MAT-3\, PM-4)\, Predavanja (P)
DTSTART;TZID=Europe/Ljubljana:20210312T100000
DTEND;TZID=Europe/Ljubljana:20210312T120000
DTSTAMP:20260422T221701Z
UID:fmf-AFLABS-URNIK:premaknjeno-srecanje:3280
ATTENDEE:3. letnik (FM)
ATTENDEE:3. letnik (M)
ATTENDEE:4. letnik (PM)
CATEGORIES:Entry,Standard
COLOR:darkgreen
DESCRIPTION:Predmet: Algebra 3 (FM-3\, MAT-3\, PM-4)\, Predavanja (P)\nLet
 niki: 3. letnik (FM)\, 3. letnik (M)\, 4. letnik (PM)\nIzvajalci: Igor Kle
 p\nProstor: 2.03
LOCATION:2.03
ORGANIZER:Igor Klep
RELATED-TO:fmf-AFLABS-URNIK:srecanje:5445
X-WR-TIMEZONE:Europe/Ljubljana
END:VEVENT
BEGIN:VEVENT
SUMMARY:Algebra 3 (FM-3\, MAT-3\, PM-4)\, Predavanja (P)
DTSTART;TZID=Europe/Ljubljana:20210319T100000
DTEND;TZID=Europe/Ljubljana:20210319T120000
DTSTAMP:20260422T221701Z
UID:fmf-AFLABS-URNIK:premaknjeno-srecanje:3281
ATTENDEE:3. letnik (FM)
ATTENDEE:3. letnik (M)
ATTENDEE:4. letnik (PM)
CATEGORIES:Entry,Standard
COLOR:darkgreen
DESCRIPTION:Predmet: Algebra 3 (FM-3\, MAT-3\, PM-4)\, Predavanja (P)\nLet
 niki: 3. letnik (FM)\, 3. letnik (M)\, 4. letnik (PM)\nIzvajalci: Igor Kle
 p\nProstor: 2.03
LOCATION:2.03
ORGANIZER:Igor Klep
RELATED-TO:fmf-AFLABS-URNIK:srecanje:5445
X-WR-TIMEZONE:Europe/Ljubljana
END:VEVENT
BEGIN:VEVENT
SUMMARY:Algebra 3 (FM-3\, MAT-3\, PM-4)\, Predavanja (P)
DTSTART;TZID=Europe/Ljubljana:20210326T100000
DTEND;TZID=Europe/Ljubljana:20210326T120000
DTSTAMP:20260422T221701Z
UID:fmf-AFLABS-URNIK:premaknjeno-srecanje:3282
ATTENDEE:3. letnik (FM)
ATTENDEE:3. letnik (M)
ATTENDEE:4. letnik (PM)
CATEGORIES:Entry,Standard
COLOR:darkgreen
DESCRIPTION:Predmet: Algebra 3 (FM-3\, MAT-3\, PM-4)\, Predavanja (P)\nLet
 niki: 3. letnik (FM)\, 3. letnik (M)\, 4. letnik (PM)\nIzvajalci: Igor Kle
 p\nProstor: 2.03
LOCATION:2.03
ORGANIZER:Igor Klep
RELATED-TO:fmf-AFLABS-URNIK:srecanje:5445
X-WR-TIMEZONE:Europe/Ljubljana
END:VEVENT
BEGIN:VEVENT
SUMMARY:Algebra 3 (FM-3\, MAT-3\, PM-4)\, Predavanja (P)
DTSTART;TZID=Europe/Ljubljana:20210402T100000
DTEND;TZID=Europe/Ljubljana:20210402T120000
DTSTAMP:20260422T221701Z
UID:fmf-AFLABS-URNIK:premaknjeno-srecanje:3283
ATTENDEE:3. letnik (FM)
ATTENDEE:3. letnik (M)
ATTENDEE:4. letnik (PM)
CATEGORIES:Entry,Standard
COLOR:darkgreen
DESCRIPTION:Predmet: Algebra 3 (FM-3\, MAT-3\, PM-4)\, Predavanja (P)\nLet
 niki: 3. letnik (FM)\, 3. letnik (M)\, 4. letnik (PM)\nIzvajalci: Igor Kle
 p\nProstor: 2.03
LOCATION:2.03
ORGANIZER:Igor Klep
RELATED-TO:fmf-AFLABS-URNIK:srecanje:5445
X-WR-TIMEZONE:Europe/Ljubljana
END:VEVENT
BEGIN:VEVENT
SUMMARY:Algebra 3 (FM-3\, MAT-3\, PM-4)\, Predavanja (P)
DTSTART;TZID=Europe/Ljubljana:20210409T100000
DTEND;TZID=Europe/Ljubljana:20210409T120000
DTSTAMP:20260422T221701Z
UID:fmf-AFLABS-URNIK:premaknjeno-srecanje:3284
ATTENDEE:3. letnik (FM)
ATTENDEE:3. letnik (M)
ATTENDEE:4. letnik (PM)
CATEGORIES:Entry,Standard
COLOR:darkgreen
DESCRIPTION:Predmet: Algebra 3 (FM-3\, MAT-3\, PM-4)\, Predavanja (P)\nLet
 niki: 3. letnik (FM)\, 3. letnik (M)\, 4. letnik (PM)\nIzvajalci: Igor Kle
 p\nProstor: 2.03
LOCATION:2.03
ORGANIZER:Igor Klep
RELATED-TO:fmf-AFLABS-URNIK:srecanje:5445
X-WR-TIMEZONE:Europe/Ljubljana
END:VEVENT
BEGIN:VEVENT
SUMMARY:Algebra 3 (FM-3\, MAT-3\, PM-4)\, Predavanja (P)
DTSTART;TZID=Europe/Ljubljana:20210416T100000
DTEND;TZID=Europe/Ljubljana:20210416T120000
DTSTAMP:20260422T221701Z
UID:fmf-AFLABS-URNIK:premaknjeno-srecanje:3285
ATTENDEE:3. letnik (FM)
ATTENDEE:3. letnik (M)
ATTENDEE:4. letnik (PM)
CATEGORIES:Entry,Standard
COLOR:darkgreen
DESCRIPTION:Predmet: Algebra 3 (FM-3\, MAT-3\, PM-4)\, Predavanja (P)\nLet
 niki: 3. letnik (FM)\, 3. letnik (M)\, 4. letnik (PM)\nIzvajalci: Igor Kle
 p\nProstor: 2.03
LOCATION:2.03
ORGANIZER:Igor Klep
RELATED-TO:fmf-AFLABS-URNIK:srecanje:5445
X-WR-TIMEZONE:Europe/Ljubljana
END:VEVENT
BEGIN:VEVENT
SUMMARY:Algebra 3 (FM-3\, MAT-3\, PM-4)\, Predavanja (P)
DTSTART;TZID=Europe/Ljubljana:20210423T100000
DTEND;TZID=Europe/Ljubljana:20210423T120000
DTSTAMP:20260422T221701Z
UID:fmf-AFLABS-URNIK:premaknjeno-srecanje:3286
ATTENDEE:3. letnik (FM)
ATTENDEE:3. letnik (M)
ATTENDEE:4. letnik (PM)
CATEGORIES:Entry,Standard
COLOR:darkgreen
DESCRIPTION:Predmet: Algebra 3 (FM-3\, MAT-3\, PM-4)\, Predavanja (P)\nLet
 niki: 3. letnik (FM)\, 3. letnik (M)\, 4. letnik (PM)\nIzvajalci: Igor Kle
 p\nProstor: 2.03
LOCATION:2.03
ORGANIZER:Igor Klep
RELATED-TO:fmf-AFLABS-URNIK:srecanje:5445
X-WR-TIMEZONE:Europe/Ljubljana
END:VEVENT
BEGIN:VEVENT
SUMMARY:Algebra 3 (FM-3\, MAT-3\, PM-4)\, Predavanja (P)
DTSTART;TZID=Europe/Ljubljana:20210430T100000
DTEND;TZID=Europe/Ljubljana:20210430T120000
DTSTAMP:20260422T221701Z
UID:fmf-AFLABS-URNIK:premaknjeno-srecanje:3287
ATTENDEE:3. letnik (FM)
ATTENDEE:3. letnik (M)
ATTENDEE:4. letnik (PM)
CATEGORIES:Entry,Standard
COLOR:darkgreen
DESCRIPTION:Predmet: Algebra 3 (FM-3\, MAT-3\, PM-4)\, Predavanja (P)\nLet
 niki: 3. letnik (FM)\, 3. letnik (M)\, 4. letnik (PM)\nIzvajalci: Igor Kle
 p\nProstor: 2.03
LOCATION:2.03
ORGANIZER:Igor Klep
RELATED-TO:fmf-AFLABS-URNIK:srecanje:5445
X-WR-TIMEZONE:Europe/Ljubljana
END:VEVENT
BEGIN:VEVENT
SUMMARY:Algebra 3 (FM-3\, MAT-3\, PM-4)\, Predavanja (P)
DTSTART;TZID=Europe/Ljubljana:20210507T100000
DTEND;TZID=Europe/Ljubljana:20210507T120000
DTSTAMP:20260422T221701Z
UID:fmf-AFLABS-URNIK:premaknjeno-srecanje:3288
ATTENDEE:3. letnik (FM)
ATTENDEE:3. letnik (M)
ATTENDEE:4. letnik (PM)
CATEGORIES:Entry,Standard
COLOR:darkgreen
DESCRIPTION:Predmet: Algebra 3 (FM-3\, MAT-3\, PM-4)\, Predavanja (P)\nLet
 niki: 3. letnik (FM)\, 3. letnik (M)\, 4. letnik (PM)\nIzvajalci: Igor Kle
 p\nProstor: 2.03
LOCATION:2.03
ORGANIZER:Igor Klep
RELATED-TO:fmf-AFLABS-URNIK:srecanje:5445
X-WR-TIMEZONE:Europe/Ljubljana
END:VEVENT
BEGIN:VEVENT
SUMMARY:Algebra 3 (FM-3\, MAT-3\, PM-4)\, Predavanja (P)
DTSTART;TZID=Europe/Ljubljana:20210514T100000
DTEND;TZID=Europe/Ljubljana:20210514T120000
DTSTAMP:20260422T221701Z
UID:fmf-AFLABS-URNIK:premaknjeno-srecanje:3289
ATTENDEE:3. letnik (FM)
ATTENDEE:3. letnik (M)
ATTENDEE:4. letnik (PM)
CATEGORIES:Entry,Standard
COLOR:darkgreen
DESCRIPTION:Predmet: Algebra 3 (FM-3\, MAT-3\, PM-4)\, Predavanja (P)\nLet
 niki: 3. letnik (FM)\, 3. letnik (M)\, 4. letnik (PM)\nIzvajalci: Igor Kle
 p\nProstor: 2.03
LOCATION:2.03
ORGANIZER:Igor Klep
RELATED-TO:fmf-AFLABS-URNIK:srecanje:5445
X-WR-TIMEZONE:Europe/Ljubljana
END:VEVENT
BEGIN:VEVENT
SUMMARY:Algebra 3 (FM-3\, MAT-3\, PM-4)\, Predavanja (P)
DTSTART;TZID=Europe/Ljubljana:20210521T100000
DTEND;TZID=Europe/Ljubljana:20210521T120000
DTSTAMP:20260422T221701Z
UID:fmf-AFLABS-URNIK:premaknjeno-srecanje:3290
ATTENDEE:3. letnik (FM)
ATTENDEE:3. letnik (M)
ATTENDEE:4. letnik (PM)
CATEGORIES:Entry,Standard
COLOR:darkgreen
DESCRIPTION:Predmet: Algebra 3 (FM-3\, MAT-3\, PM-4)\, Predavanja (P)\nLet
 niki: 3. letnik (FM)\, 3. letnik (M)\, 4. letnik (PM)\nIzvajalci: Igor Kle
 p\nProstor: 2.03
LOCATION:2.03
ORGANIZER:Igor Klep
RELATED-TO:fmf-AFLABS-URNIK:srecanje:5445
X-WR-TIMEZONE:Europe/Ljubljana
END:VEVENT
BEGIN:VEVENT
SUMMARY:Algebra 3 (FM-3\, MAT-3\, PM-4)\, Predavanja (P)
DTSTART;TZID=Europe/Ljubljana:20210528T100000
DTEND;TZID=Europe/Ljubljana:20210528T120000
DTSTAMP:20260422T221701Z
UID:fmf-AFLABS-URNIK:premaknjeno-srecanje:3291
ATTENDEE:3. letnik (FM)
ATTENDEE:3. letnik (M)
ATTENDEE:4. letnik (PM)
CATEGORIES:Entry,Standard
COLOR:darkgreen
DESCRIPTION:Predmet: Algebra 3 (FM-3\, MAT-3\, PM-4)\, Predavanja (P)\nLet
 niki: 3. letnik (FM)\, 3. letnik (M)\, 4. letnik (PM)\nIzvajalci: Igor Kle
 p\nProstor: 2.03
LOCATION:2.03
ORGANIZER:Igor Klep
RELATED-TO:fmf-AFLABS-URNIK:srecanje:5445
X-WR-TIMEZONE:Europe/Ljubljana
END:VEVENT
END:VCALENDAR
