BEGIN:VCALENDAR
VERSION:2.0
PRODID:-//AFLabs urnik izvoz - fmf//aflabs.si//SI
DTSTAMP:20260420T141057Z
NAME:UL FMF urnik
REFRESH-INTERVAL:PT1H
SOURCE:https://urnik.fmf.uni-lj.si/teacher/515?day=2022-01-24&export=1
URL:https://urnik.fmf.uni-lj.si/teacher/515?day=2022-01-24&export=1
X-PUBLISHED-TTL:PT1H
X-WR-CALNAME:UL FMF urnik
X-WR-TIMEZONE:Europe/Ljubljana
BEGIN:VTIMEZONE
TZID:Europe/Ljubljana
BEGIN:DAYLIGHT
DTSTART:20260329T020000
RDATE:20260329T020000
RDATE:20270328T020000
TZNAME:CEST
TZOFFSETFROM:+0100
TZOFFSETTO:+0200
END:DAYLIGHT
BEGIN:STANDARD
DTSTART:20261025T030000
RDATE:20261025T030000
RDATE:20271031T030000
TZNAME:CET
TZOFFSETFROM:+0200
TZOFFSETTO:+0100
END:STANDARD
END:VTIMEZONE
BEGIN:VEVENT
SUMMARY:REZ FM ()\, Ostalo (O)
DTSTART;TZID=Europe/Ljubljana:20211220T150000
DTEND;TZID=Europe/Ljubljana:20211220T170000
DTSTAMP:20260420T141057Z
UID:fmf-AFLABS-URNIK:premaknjeno-srecanje:89759
CATEGORIES:Entry,Standard
COLOR:darkgreen
DESCRIPTION:Predmet: REZ FM ()\, Ostalo (O)\nLetniki: \nIzvajalci: Igor Kl
 ep\nProstor: P.02
LOCATION:P.02
ORGANIZER:Igor Klep
RELATED-TO:fmf-AFLABS-URNIK:srecanje:6794
X-WR-TIMEZONE:Europe/Ljubljana
END:VEVENT
BEGIN:VEVENT
SUMMARY:REZ FM ()\, Ostalo (O)
DTSTART;TZID=Europe/Ljubljana:20211227T150000
DTEND;TZID=Europe/Ljubljana:20211227T170000
DTSTAMP:20260420T141057Z
UID:fmf-AFLABS-URNIK:premaknjeno-srecanje:89760
CATEGORIES:Entry,Standard
COLOR:darkgreen
DESCRIPTION:Predmet: REZ FM ()\, Ostalo (O)\nLetniki: \nIzvajalci: Igor Kl
 ep\nProstor: P.02
LOCATION:P.02
ORGANIZER:Igor Klep
RELATED-TO:fmf-AFLABS-URNIK:srecanje:6794
X-WR-TIMEZONE:Europe/Ljubljana
END:VEVENT
BEGIN:VEVENT
SUMMARY:REZ FM ()\, Ostalo (O)
DTSTART;TZID=Europe/Ljubljana:20220103T150000
DTEND;TZID=Europe/Ljubljana:20220103T170000
DTSTAMP:20260420T141057Z
UID:fmf-AFLABS-URNIK:premaknjeno-srecanje:89761
CATEGORIES:Entry,Standard
COLOR:darkgreen
DESCRIPTION:Predmet: REZ FM ()\, Ostalo (O)\nLetniki: \nIzvajalci: Igor Kl
 ep\nProstor: P.02
LOCATION:P.02
ORGANIZER:Igor Klep
RELATED-TO:fmf-AFLABS-URNIK:srecanje:6794
X-WR-TIMEZONE:Europe/Ljubljana
END:VEVENT
BEGIN:VEVENT
SUMMARY:REZ FM ()\, Ostalo (O)
DTSTART;TZID=Europe/Ljubljana:20220110T150000
DTEND;TZID=Europe/Ljubljana:20220110T170000
DTSTAMP:20260420T141057Z
UID:fmf-AFLABS-URNIK:premaknjeno-srecanje:89762
CATEGORIES:Entry,Standard
COLOR:darkgreen
DESCRIPTION:Predmet: REZ FM ()\, Ostalo (O)\nLetniki: \nIzvajalci: Igor Kl
 ep\nProstor: P.02
LOCATION:P.02
ORGANIZER:Igor Klep
RELATED-TO:fmf-AFLABS-URNIK:srecanje:6794
X-WR-TIMEZONE:Europe/Ljubljana
END:VEVENT
BEGIN:VEVENT
SUMMARY:Komutativna algebra (FM-M\, MAT-M\, PM-5)\, Predavanja (P)
DTSTART;TZID=Europe/Ljubljana:20220214T120000
DTEND;TZID=Europe/Ljubljana:20220214T150000
DTSTAMP:20260420T141057Z
UID:fmf-AFLABS-URNIK:premaknjeno-srecanje:54961
ATTENDEE:5. letnik (PM)
ATTENDEE:magistrski študij (FM)
ATTENDEE:magistrski študij (M)
CATEGORIES:Entry,Standard
COLOR:darkgreen
DESCRIPTION:Predmet: Komutativna algebra (FM-M\, MAT-M\, PM-5)\, Predavanj
 a (P)\nLetniki: magistrski študij (FM)\, magistrski študij (M)\, 5. letn
 ik (PM)\nIzvajalci: Igor Klep\nProstor: 3.07
LOCATION:3.07
ORGANIZER:Igor Klep
RELATED-TO:fmf-AFLABS-URNIK:srecanje:7064
X-WR-TIMEZONE:Europe/Ljubljana
END:VEVENT
BEGIN:VEVENT
SUMMARY:Komutativna algebra (FM-M\, MAT-M\, PM-5)\, Predavanja (P)
DTSTART;TZID=Europe/Ljubljana:20220221T120000
DTEND;TZID=Europe/Ljubljana:20220221T150000
DTSTAMP:20260420T141057Z
UID:fmf-AFLABS-URNIK:premaknjeno-srecanje:54962
ATTENDEE:5. letnik (PM)
ATTENDEE:magistrski študij (FM)
ATTENDEE:magistrski študij (M)
CATEGORIES:Entry,Standard
COLOR:darkgreen
DESCRIPTION:Predmet: Komutativna algebra (FM-M\, MAT-M\, PM-5)\, Predavanj
 a (P)\nLetniki: magistrski študij (FM)\, magistrski študij (M)\, 5. letn
 ik (PM)\nIzvajalci: Igor Klep\nProstor: 3.07
LOCATION:3.07
ORGANIZER:Igor Klep
RELATED-TO:fmf-AFLABS-URNIK:srecanje:7064
X-WR-TIMEZONE:Europe/Ljubljana
END:VEVENT
BEGIN:VEVENT
SUMMARY:Komutativna algebra (FM-M\, MAT-M\, PM-5)\, Predavanja (P)
DTSTART;TZID=Europe/Ljubljana:20220228T120000
DTEND;TZID=Europe/Ljubljana:20220228T150000
DTSTAMP:20260420T141057Z
UID:fmf-AFLABS-URNIK:premaknjeno-srecanje:54963
ATTENDEE:5. letnik (PM)
ATTENDEE:magistrski študij (FM)
ATTENDEE:magistrski študij (M)
CATEGORIES:Entry,Standard
COLOR:darkgreen
DESCRIPTION:Predmet: Komutativna algebra (FM-M\, MAT-M\, PM-5)\, Predavanj
 a (P)\nLetniki: magistrski študij (FM)\, magistrski študij (M)\, 5. letn
 ik (PM)\nIzvajalci: Igor Klep\nProstor: 3.07
LOCATION:3.07
ORGANIZER:Igor Klep
RELATED-TO:fmf-AFLABS-URNIK:srecanje:7064
X-WR-TIMEZONE:Europe/Ljubljana
END:VEVENT
BEGIN:VEVENT
SUMMARY:Funkcionalna analiza (FM-M\, MAT-M\, PM-5)\, Predavanja (P)
DTSTART;TZID=Europe/Ljubljana:20220215T130000
DTEND;TZID=Europe/Ljubljana:20220215T160000
DTSTAMP:20260420T141057Z
UID:fmf-AFLABS-URNIK:premaknjeno-srecanje:38016
ATTENDEE:5. letnik (PM)
ATTENDEE:magistrski študij (FM)
ATTENDEE:magistrski študij (M)
CATEGORIES:Entry,Standard
COLOR:darkgreen
DESCRIPTION:Predmet: Funkcionalna analiza (FM-M\, MAT-M\, PM-5)\, Predavan
 ja (P)\nLetniki: magistrski študij (FM)\, magistrski študij (M)\, 5. let
 nik (PM)\nIzvajalci: Igor Klep\nProstor: Na daljavo
LOCATION:Na daljavo
ORGANIZER:Igor Klep
RELATED-TO:fmf-AFLABS-URNIK:srecanje:6975
X-WR-TIMEZONE:Europe/Ljubljana
END:VEVENT
BEGIN:VEVENT
SUMMARY:Funkcionalna analiza (FM-M\, MAT-M\, PM-5)\, Predavanja (P)
DTSTART;TZID=Europe/Ljubljana:20220222T130000
DTEND;TZID=Europe/Ljubljana:20220222T160000
DTSTAMP:20260420T141057Z
UID:fmf-AFLABS-URNIK:premaknjeno-srecanje:38017
ATTENDEE:5. letnik (PM)
ATTENDEE:magistrski študij (FM)
ATTENDEE:magistrski študij (M)
CATEGORIES:Entry,Standard
COLOR:darkgreen
DESCRIPTION:Predmet: Funkcionalna analiza (FM-M\, MAT-M\, PM-5)\, Predavan
 ja (P)\nLetniki: magistrski študij (FM)\, magistrski študij (M)\, 5. let
 nik (PM)\nIzvajalci: Igor Klep\nProstor: Na daljavo
LOCATION:Na daljavo
ORGANIZER:Igor Klep
RELATED-TO:fmf-AFLABS-URNIK:srecanje:6975
X-WR-TIMEZONE:Europe/Ljubljana
END:VEVENT
BEGIN:VEVENT
SUMMARY:Rezervacija
DTSTART;TZID=Europe/Ljubljana:20220124T100000
DTEND;TZID=Europe/Ljubljana:20220124T140000
DTSTAMP:20260420T141057Z
UID:fmf-AFLABS-URNIK:rezervacija:8347
CATEGORIES:Reservation
COLOR:royalblue
DESCRIPTION:Predmeti: \nLetniki: \nIzvajalci: Igor Klep\nProstori: P.01
LOCATION:P.01
ORGANIZER:Igor Klep
X-WR-TIMEZONE:Europe/Ljubljana
END:VEVENT
BEGIN:VEVENT
SUMMARY:Rezervacija
DTSTART;TZID=Europe/Ljubljana:20220125T150000
DTEND;TZID=Europe/Ljubljana:20220125T180000
DTSTAMP:20260420T141057Z
UID:fmf-AFLABS-URNIK:rezervacija:8368
CATEGORIES:Reservation
COLOR:royalblue
DESCRIPTION:Predmeti: \nLetniki: \nIzvajalci: Igor Klep\nProstori: P.01
LOCATION:P.01
ORGANIZER:Igor Klep
X-WR-TIMEZONE:Europe/Ljubljana
END:VEVENT
END:VCALENDAR
