BEGIN:VCALENDAR
VERSION:2.0
PRODID:-//AFLabs urnik izvoz - fmf//aflabs.si//SI
DTSTAMP:20260423T145424Z
NAME:UL FMF urnik
REFRESH-INTERVAL:PT1H
SOURCE:https://urnik.fmf.uni-lj.si/teacher/518?day=2021-02-01&export=1
URL:https://urnik.fmf.uni-lj.si/teacher/518?day=2021-02-01&export=1
X-PUBLISHED-TTL:PT1H
X-WR-CALNAME:UL FMF urnik
X-WR-TIMEZONE:Europe/Ljubljana
BEGIN:VTIMEZONE
TZID:Europe/Ljubljana
BEGIN:DAYLIGHT
DTSTART:20260329T020000
RDATE:20260329T020000
RDATE:20270328T020000
TZNAME:CEST
TZOFFSETFROM:+0100
TZOFFSETTO:+0200
END:DAYLIGHT
BEGIN:STANDARD
DTSTART:20261025T030000
RDATE:20261025T030000
RDATE:20271031T030000
TZNAME:CET
TZOFFSETFROM:+0200
TZOFFSETTO:+0100
END:STANDARD
END:VTIMEZONE
BEGIN:VEVENT
SUMMARY:Višja kvantna mehanika (FIZ-M1\, FIZ-M2)\, Predavanja (P)
DTSTART;TZID=Europe/Ljubljana:20201228T140000
DTEND;TZID=Europe/Ljubljana:20201228T170000
DTSTAMP:20260423T145424Z
UID:fmf-AFLABS-URNIK:premaknjeno-srecanje:120291
ATTENDEE:1. letnik (Fizika, 2. stopnja)
ATTENDEE:2. letnik (Fizika, 2. stopnja)
CATEGORIES:Entry,Standard
COLOR:darkgreen
DESCRIPTION:Predmet: Višja kvantna mehanika (FIZ-M1\, FIZ-M2)\, Predavanj
 a (P)\nLetniki: 1. letnik (Fizika\, 2. stopnja)\, 2. letnik (Fizika\, 2. s
 topnja)\nIzvajalci: Tomaž Prosen\, Lev Vidmar\nProstor: MFP
LOCATION:MFP
ORGANIZER:Tomaž Prosen, Lev Vidmar
RELATED-TO:fmf-AFLABS-URNIK:srecanje:5282
X-WR-TIMEZONE:Europe/Ljubljana
END:VEVENT
BEGIN:VEVENT
SUMMARY:Višja kvantna mehanika (FIZ-M1\, FIZ-M2)\, Predavanja (P)
DTSTART;TZID=Europe/Ljubljana:20210104T140000
DTEND;TZID=Europe/Ljubljana:20210104T170000
DTSTAMP:20260423T145424Z
UID:fmf-AFLABS-URNIK:premaknjeno-srecanje:120292
ATTENDEE:1. letnik (Fizika, 2. stopnja)
ATTENDEE:2. letnik (Fizika, 2. stopnja)
CATEGORIES:Entry,Standard
COLOR:darkgreen
DESCRIPTION:Predmet: Višja kvantna mehanika (FIZ-M1\, FIZ-M2)\, Predavanj
 a (P)\nLetniki: 1. letnik (Fizika\, 2. stopnja)\, 2. letnik (Fizika\, 2. s
 topnja)\nIzvajalci: Tomaž Prosen\, Lev Vidmar\nProstor: MFP
LOCATION:MFP
ORGANIZER:Tomaž Prosen, Lev Vidmar
RELATED-TO:fmf-AFLABS-URNIK:srecanje:5282
X-WR-TIMEZONE:Europe/Ljubljana
END:VEVENT
BEGIN:VEVENT
SUMMARY:Višja kvantna mehanika (FIZ-M1\, FIZ-M2)\, Predavanja (P)
DTSTART;TZID=Europe/Ljubljana:20210111T140000
DTEND;TZID=Europe/Ljubljana:20210111T170000
DTSTAMP:20260423T145424Z
UID:fmf-AFLABS-URNIK:premaknjeno-srecanje:120293
ATTENDEE:1. letnik (Fizika, 2. stopnja)
ATTENDEE:2. letnik (Fizika, 2. stopnja)
CATEGORIES:Entry,Standard
COLOR:darkgreen
DESCRIPTION:Predmet: Višja kvantna mehanika (FIZ-M1\, FIZ-M2)\, Predavanj
 a (P)\nLetniki: 1. letnik (Fizika\, 2. stopnja)\, 2. letnik (Fizika\, 2. s
 topnja)\nIzvajalci: Tomaž Prosen\, Lev Vidmar\nProstor: MFP
LOCATION:MFP
ORGANIZER:Tomaž Prosen, Lev Vidmar
RELATED-TO:fmf-AFLABS-URNIK:srecanje:5282
X-WR-TIMEZONE:Europe/Ljubljana
END:VEVENT
BEGIN:VEVENT
SUMMARY:Fizika (BF biol.) ()\, Predavanja (P)
DTSTART;TZID=Europe/Ljubljana:20210101T140000
DTEND;TZID=Europe/Ljubljana:20210101T170000
DTSTAMP:20260423T145424Z
UID:fmf-AFLABS-URNIK:premaknjeno-srecanje:21106
CATEGORIES:Entry,Standard
COLOR:darkgreen
DESCRIPTION:Predmet: Fizika (BF biol.) ()\, Predavanja (P)\nLetniki: \nIzv
 ajalci: Lev Vidmar\nProstor: VFP
LOCATION:VFP
ORGANIZER:Lev Vidmar
RELATED-TO:fmf-AFLABS-URNIK:srecanje:4738
X-WR-TIMEZONE:Europe/Ljubljana
END:VEVENT
BEGIN:VEVENT
SUMMARY:Fizika (BF biol.) ()\, Predavanja (P)
DTSTART;TZID=Europe/Ljubljana:20210108T140000
DTEND;TZID=Europe/Ljubljana:20210108T170000
DTSTAMP:20260423T145424Z
UID:fmf-AFLABS-URNIK:premaknjeno-srecanje:21107
CATEGORIES:Entry,Standard
COLOR:darkgreen
DESCRIPTION:Predmet: Fizika (BF biol.) ()\, Predavanja (P)\nLetniki: \nIzv
 ajalci: Lev Vidmar\nProstor: VFP
LOCATION:VFP
ORGANIZER:Lev Vidmar
RELATED-TO:fmf-AFLABS-URNIK:srecanje:4738
X-WR-TIMEZONE:Europe/Ljubljana
END:VEVENT
BEGIN:VEVENT
SUMMARY:Fizika (BF biol.) ()\, Predavanja (P)
DTSTART;TZID=Europe/Ljubljana:20210115T140000
DTEND;TZID=Europe/Ljubljana:20210115T170000
DTSTAMP:20260423T145424Z
UID:fmf-AFLABS-URNIK:premaknjeno-srecanje:21108
CATEGORIES:Entry,Standard
COLOR:darkgreen
DESCRIPTION:Predmet: Fizika (BF biol.) ()\, Predavanja (P)\nLetniki: \nIzv
 ajalci: Lev Vidmar\nProstor: VFP
LOCATION:VFP
ORGANIZER:Lev Vidmar
RELATED-TO:fmf-AFLABS-URNIK:srecanje:4738
X-WR-TIMEZONE:Europe/Ljubljana
END:VEVENT
BEGIN:VEVENT
SUMMARY:Simetrije v fiziki (FIZ-M1)\, Predavanja (P)
DTSTART;TZID=Europe/Ljubljana:20210101T080000
DTEND;TZID=Europe/Ljubljana:20210101T100000
DTSTAMP:20260423T145424Z
UID:fmf-AFLABS-URNIK:premaknjeno-srecanje:103665
ATTENDEE:1. letnik (Fizika, 2. stopnja)
CATEGORIES:Entry,Standard
COLOR:darkgreen
DESCRIPTION:Predmet: Simetrije v fiziki (FIZ-M1)\, Predavanja (P)\nLetniki
 : 1. letnik (Fizika\, 2. stopnja)\nIzvajalci: Jernej Fesel Kamenik\, Lev V
 idmar\nProstor: F4
LOCATION:F4
ORGANIZER:Jernej Fesel Kamenik, Lev Vidmar
RELATED-TO:fmf-AFLABS-URNIK:srecanje:5191
X-WR-TIMEZONE:Europe/Ljubljana
END:VEVENT
BEGIN:VEVENT
SUMMARY:Simetrije v fiziki (FIZ-M1)\, Predavanja (P)
DTSTART;TZID=Europe/Ljubljana:20210108T080000
DTEND;TZID=Europe/Ljubljana:20210108T100000
DTSTAMP:20260423T145424Z
UID:fmf-AFLABS-URNIK:premaknjeno-srecanje:103666
ATTENDEE:1. letnik (Fizika, 2. stopnja)
CATEGORIES:Entry,Standard
COLOR:darkgreen
DESCRIPTION:Predmet: Simetrije v fiziki (FIZ-M1)\, Predavanja (P)\nLetniki
 : 1. letnik (Fizika\, 2. stopnja)\nIzvajalci: Jernej Fesel Kamenik\, Lev V
 idmar\nProstor: F4
LOCATION:F4
ORGANIZER:Jernej Fesel Kamenik, Lev Vidmar
RELATED-TO:fmf-AFLABS-URNIK:srecanje:5191
X-WR-TIMEZONE:Europe/Ljubljana
END:VEVENT
BEGIN:VEVENT
SUMMARY:Simetrije v fiziki (FIZ-M1)\, Predavanja (P)
DTSTART;TZID=Europe/Ljubljana:20210115T080000
DTEND;TZID=Europe/Ljubljana:20210115T100000
DTSTAMP:20260423T145424Z
UID:fmf-AFLABS-URNIK:premaknjeno-srecanje:103667
ATTENDEE:1. letnik (Fizika, 2. stopnja)
CATEGORIES:Entry,Standard
COLOR:darkgreen
DESCRIPTION:Predmet: Simetrije v fiziki (FIZ-M1)\, Predavanja (P)\nLetniki
 : 1. letnik (Fizika\, 2. stopnja)\nIzvajalci: Jernej Fesel Kamenik\, Lev V
 idmar\nProstor: F4
LOCATION:F4
ORGANIZER:Jernej Fesel Kamenik, Lev Vidmar
RELATED-TO:fmf-AFLABS-URNIK:srecanje:5191
X-WR-TIMEZONE:Europe/Ljubljana
END:VEVENT
BEGIN:VEVENT
SUMMARY:Simetrije v fiziki (FIZ-M1)\, Vaje (V)
DTSTART;TZID=Europe/Ljubljana:20210101T100000
DTEND;TZID=Europe/Ljubljana:20210101T110000
DTSTAMP:20260423T145424Z
UID:fmf-AFLABS-URNIK:premaknjeno-srecanje:103743
ATTENDEE:1. letnik (Fizika, 2. stopnja)
CATEGORIES:Entry,Standard
COLOR:darkgreen
DESCRIPTION:Predmet: Simetrije v fiziki (FIZ-M1)\, Vaje (V)\nLetniki: 1. l
 etnik (Fizika\, 2. stopnja)\nIzvajalci: Jernej Fesel Kamenik\, Lev Vidmar\
 nProstor: F4
LOCATION:F4
ORGANIZER:Jernej Fesel Kamenik, Lev Vidmar
RELATED-TO:fmf-AFLABS-URNIK:srecanje:5192
X-WR-TIMEZONE:Europe/Ljubljana
END:VEVENT
BEGIN:VEVENT
SUMMARY:Simetrije v fiziki (FIZ-M1)\, Vaje (V)
DTSTART;TZID=Europe/Ljubljana:20210108T100000
DTEND;TZID=Europe/Ljubljana:20210108T110000
DTSTAMP:20260423T145424Z
UID:fmf-AFLABS-URNIK:premaknjeno-srecanje:103744
ATTENDEE:1. letnik (Fizika, 2. stopnja)
CATEGORIES:Entry,Standard
COLOR:darkgreen
DESCRIPTION:Predmet: Simetrije v fiziki (FIZ-M1)\, Vaje (V)\nLetniki: 1. l
 etnik (Fizika\, 2. stopnja)\nIzvajalci: Jernej Fesel Kamenik\, Lev Vidmar\
 nProstor: F4
LOCATION:F4
ORGANIZER:Jernej Fesel Kamenik, Lev Vidmar
RELATED-TO:fmf-AFLABS-URNIK:srecanje:5192
X-WR-TIMEZONE:Europe/Ljubljana
END:VEVENT
BEGIN:VEVENT
SUMMARY:Simetrije v fiziki (FIZ-M1)\, Vaje (V)
DTSTART;TZID=Europe/Ljubljana:20210115T100000
DTEND;TZID=Europe/Ljubljana:20210115T110000
DTSTAMP:20260423T145424Z
UID:fmf-AFLABS-URNIK:premaknjeno-srecanje:103745
ATTENDEE:1. letnik (Fizika, 2. stopnja)
CATEGORIES:Entry,Standard
COLOR:darkgreen
DESCRIPTION:Predmet: Simetrije v fiziki (FIZ-M1)\, Vaje (V)\nLetniki: 1. l
 etnik (Fizika\, 2. stopnja)\nIzvajalci: Jernej Fesel Kamenik\, Lev Vidmar\
 nProstor: F4
LOCATION:F4
ORGANIZER:Jernej Fesel Kamenik, Lev Vidmar
RELATED-TO:fmf-AFLABS-URNIK:srecanje:5192
X-WR-TIMEZONE:Europe/Ljubljana
END:VEVENT
BEGIN:VEVENT
SUMMARY:Rezervacija
DTSTART;TZID=Europe/Ljubljana:20210122T140000
DTEND;TZID=Europe/Ljubljana:20210122T170000
DTSTAMP:20260423T145424Z
UID:fmf-AFLABS-URNIK:rezervacija:6572
CATEGORIES:Reservation
COLOR:royalblue
DESCRIPTION:Predmeti: \nLetniki: \nIzvajalci: Lev Vidmar\nProstori: VFP
LOCATION:VFP
ORGANIZER:Lev Vidmar
X-WR-TIMEZONE:Europe/Ljubljana
END:VEVENT
END:VCALENDAR
