BEGIN:VCALENDAR
VERSION:2.0
PRODID:-//AFLabs urnik izvoz - fmf//aflabs.si//SI
DTSTAMP:20260424T162657Z
NAME:UL FMF urnik
REFRESH-INTERVAL:PT1H
SOURCE:https://urnik.fmf.uni-lj.si/teacher/518?day=2021-08-30&export=1
URL:https://urnik.fmf.uni-lj.si/teacher/518?day=2021-08-30&export=1
X-PUBLISHED-TTL:PT1H
X-WR-CALNAME:UL FMF urnik
X-WR-TIMEZONE:Europe/Ljubljana
BEGIN:VTIMEZONE
TZID:Europe/Ljubljana
BEGIN:DAYLIGHT
DTSTART:20260329T020000
RDATE:20260329T020000
RDATE:20270328T020000
TZNAME:CEST
TZOFFSETFROM:+0100
TZOFFSETTO:+0200
END:DAYLIGHT
BEGIN:STANDARD
DTSTART:20261025T030000
RDATE:20261025T030000
RDATE:20271031T030000
TZNAME:CET
TZOFFSETFROM:+0200
TZOFFSETTO:+0100
END:STANDARD
END:VTIMEZONE
BEGIN:VEVENT
SUMMARY:Fizika (BF biol.) ()\, Predavanja (P)
DTSTART;TZID=Europe/Ljubljana:20211001T130000
DTEND;TZID=Europe/Ljubljana:20211001T160000
DTSTAMP:20260424T162657Z
UID:fmf-AFLABS-URNIK:premaknjeno-srecanje:21046
CATEGORIES:Entry,Standard
COLOR:darkgreen
DESCRIPTION:Predmet: Fizika (BF biol.) ()\, Predavanja (P)\nLetniki: \nIzv
 ajalci: Lev Vidmar\nProstor: MFP
LOCATION:MFP
ORGANIZER:Lev Vidmar
RELATED-TO:fmf-AFLABS-URNIK:srecanje:6188
X-WR-TIMEZONE:Europe/Ljubljana
END:VEVENT
BEGIN:VEVENT
SUMMARY:Simetrije v fiziki (FIZ-M1)\, Predavanja (P)
DTSTART;TZID=Europe/Ljubljana:20211004T130000
DTEND;TZID=Europe/Ljubljana:20211004T150000
DTSTAMP:20260424T162657Z
UID:fmf-AFLABS-URNIK:premaknjeno-srecanje:103605
ATTENDEE:1. letnik (Fizika, 2. stopnja)
CATEGORIES:Entry,Standard
COLOR:darkgreen
DESCRIPTION:Predmet: Simetrije v fiziki (FIZ-M1)\, Predavanja (P)\nLetniki
 : 1. letnik (Fizika\, 2. stopnja)\nIzvajalci: Jernej Fesel Kamenik\, Lev V
 idmar\nProstor: F3
LOCATION:F3
ORGANIZER:Jernej Fesel Kamenik, Lev Vidmar
RELATED-TO:fmf-AFLABS-URNIK:srecanje:6740
X-WR-TIMEZONE:Europe/Ljubljana
END:VEVENT
BEGIN:VEVENT
SUMMARY:Simetrije v fiziki (FIZ-M1)\, Vaje (V)
DTSTART;TZID=Europe/Ljubljana:20211004T150000
DTEND;TZID=Europe/Ljubljana:20211004T160000
DTSTAMP:20260424T162657Z
UID:fmf-AFLABS-URNIK:premaknjeno-srecanje:103683
ATTENDEE:1. letnik (Fizika, 2. stopnja)
CATEGORIES:Entry,Standard
COLOR:darkgreen
DESCRIPTION:Predmet: Simetrije v fiziki (FIZ-M1)\, Vaje (V)\nLetniki: 1. l
 etnik (Fizika\, 2. stopnja)\nIzvajalci: Jernej Fesel Kamenik\, Lev Vidmar\
 nProstor: F3
LOCATION:F3
ORGANIZER:Jernej Fesel Kamenik, Lev Vidmar
RELATED-TO:fmf-AFLABS-URNIK:srecanje:6741
X-WR-TIMEZONE:Europe/Ljubljana
END:VEVENT
BEGIN:VEVENT
SUMMARY:Rezervacija
DTSTART;TZID=Europe/Ljubljana:20210825T090000
DTEND;TZID=Europe/Ljubljana:20210825T130000
DTSTAMP:20260424T162657Z
UID:fmf-AFLABS-URNIK:rezervacija:7487
CATEGORIES:Reservation
COLOR:royalblue
DESCRIPTION:Predmeti: \nLetniki: \nIzvajalci: Lev Vidmar\nProstori: F2
LOCATION:F2
ORGANIZER:Lev Vidmar
X-WR-TIMEZONE:Europe/Ljubljana
END:VEVENT
BEGIN:VEVENT
SUMMARY:Rezervacija
DTSTART;TZID=Europe/Ljubljana:20210827T090000
DTEND;TZID=Europe/Ljubljana:20210827T130000
DTSTAMP:20260424T162657Z
UID:fmf-AFLABS-URNIK:rezervacija:7530
CATEGORIES:Reservation
COLOR:royalblue
DESCRIPTION:Predmeti: \nLetniki: \nIzvajalci: Lev Vidmar\nProstori: F2
LOCATION:F2
ORGANIZER:Lev Vidmar
X-WR-TIMEZONE:Europe/Ljubljana
END:VEVENT
BEGIN:VEVENT
SUMMARY:Rezervacija
DTSTART;TZID=Europe/Ljubljana:20210831T090000
DTEND;TZID=Europe/Ljubljana:20210831T100000
DTSTAMP:20260424T162657Z
UID:fmf-AFLABS-URNIK:rezervacija:7579
CATEGORIES:Reservation
COLOR:royalblue
DESCRIPTION:Predmeti: \nLetniki: \nIzvajalci: Lev Vidmar\nProstori: F3
LOCATION:F3
ORGANIZER:Lev Vidmar
X-WR-TIMEZONE:Europe/Ljubljana
END:VEVENT
BEGIN:VEVENT
SUMMARY:Rezervacija
DTSTART;TZID=Europe/Ljubljana:20210906T090000
DTEND;TZID=Europe/Ljubljana:20210906T100000
DTSTAMP:20260424T162657Z
UID:fmf-AFLABS-URNIK:rezervacija:7691
CATEGORIES:Reservation
COLOR:royalblue
DESCRIPTION:Predmeti: \nLetniki: \nIzvajalci: Lev Vidmar\nProstori: F3
LOCATION:F3
ORGANIZER:Lev Vidmar
X-WR-TIMEZONE:Europe/Ljubljana
END:VEVENT
BEGIN:VEVENT
SUMMARY:Rezervacija
DTSTART;TZID=Europe/Ljubljana:20210913T080000
DTEND;TZID=Europe/Ljubljana:20210913T100000
DTSTAMP:20260424T162657Z
UID:fmf-AFLABS-URNIK:rezervacija:7842
CATEGORIES:Reservation
COLOR:royalblue
DESCRIPTION:Predmeti: \nLetniki: \nIzvajalci: Lev Vidmar\nProstori: F3
LOCATION:F3
ORGANIZER:Lev Vidmar
X-WR-TIMEZONE:Europe/Ljubljana
END:VEVENT
END:VCALENDAR
