BEGIN:VCALENDAR
VERSION:2.0
PRODID:-//AFLabs urnik izvoz - fmf//aflabs.si//SI
DTSTAMP:20260426T035910Z
NAME:UL FMF urnik
REFRESH-INTERVAL:PT1H
SOURCE:https://urnik.fmf.uni-lj.si/teacher/523?day=2022-01-17&export=1
URL:https://urnik.fmf.uni-lj.si/teacher/523?day=2022-01-17&export=1
X-PUBLISHED-TTL:PT1H
X-WR-CALNAME:UL FMF urnik
X-WR-TIMEZONE:Europe/Ljubljana
BEGIN:VTIMEZONE
TZID:Europe/Ljubljana
BEGIN:DAYLIGHT
DTSTART:20260329T020000
RDATE:20260329T020000
RDATE:20270328T020000
TZNAME:CEST
TZOFFSETFROM:+0100
TZOFFSETTO:+0200
END:DAYLIGHT
BEGIN:STANDARD
DTSTART:20261025T030000
RDATE:20261025T030000
RDATE:20271031T030000
TZNAME:CET
TZOFFSETFROM:+0200
TZOFFSETTO:+0100
END:STANDARD
END:VTIMEZONE
BEGIN:VEVENT
SUMMARY:Fizika (FRI) ()\, Vaje (V)\, [1]
DTSTART;TZID=Europe/Ljubljana:20211215T080000
DTEND;TZID=Europe/Ljubljana:20211215T100000
DTSTAMP:20260426T035910Z
UID:fmf-AFLABS-URNIK:premaknjeno-srecanje:26382
CATEGORIES:Entry,Standard
COLOR:darkgreen
DESCRIPTION:Predmet: Fizika (FRI) ()\, Vaje (V)\, [1]\nLetniki: \nIzvajalc
 i: Jaka Vodeb\nProstor: FRI
LOCATION:FRI
ORGANIZER:Jaka Vodeb
RELATED-TO:fmf-AFLABS-URNIK:srecanje:6230
X-WR-TIMEZONE:Europe/Ljubljana
END:VEVENT
BEGIN:VEVENT
SUMMARY:Fizika (FRI) ()\, Vaje (V)\, [1]
DTSTART;TZID=Europe/Ljubljana:20211222T080000
DTEND;TZID=Europe/Ljubljana:20211222T100000
DTSTAMP:20260426T035910Z
UID:fmf-AFLABS-URNIK:premaknjeno-srecanje:26383
CATEGORIES:Entry,Standard
COLOR:darkgreen
DESCRIPTION:Predmet: Fizika (FRI) ()\, Vaje (V)\, [1]\nLetniki: \nIzvajalc
 i: Jaka Vodeb\nProstor: FRI
LOCATION:FRI
ORGANIZER:Jaka Vodeb
RELATED-TO:fmf-AFLABS-URNIK:srecanje:6230
X-WR-TIMEZONE:Europe/Ljubljana
END:VEVENT
BEGIN:VEVENT
SUMMARY:Fizika (FRI) ()\, Vaje (V)\, [1]
DTSTART;TZID=Europe/Ljubljana:20211229T080000
DTEND;TZID=Europe/Ljubljana:20211229T100000
DTSTAMP:20260426T035910Z
UID:fmf-AFLABS-URNIK:premaknjeno-srecanje:26384
CATEGORIES:Entry,Standard
COLOR:darkgreen
DESCRIPTION:Predmet: Fizika (FRI) ()\, Vaje (V)\, [1]\nLetniki: \nIzvajalc
 i: Jaka Vodeb\nProstor: FRI
LOCATION:FRI
ORGANIZER:Jaka Vodeb
RELATED-TO:fmf-AFLABS-URNIK:srecanje:6230
X-WR-TIMEZONE:Europe/Ljubljana
END:VEVENT
BEGIN:VEVENT
SUMMARY:Fizika (FRI) ()\, Vaje (V)\, [1]
DTSTART;TZID=Europe/Ljubljana:20220105T080000
DTEND;TZID=Europe/Ljubljana:20220105T100000
DTSTAMP:20260426T035910Z
UID:fmf-AFLABS-URNIK:premaknjeno-srecanje:26385
CATEGORIES:Entry,Standard
COLOR:darkgreen
DESCRIPTION:Predmet: Fizika (FRI) ()\, Vaje (V)\, [1]\nLetniki: \nIzvajalc
 i: Jaka Vodeb\nProstor: FRI
LOCATION:FRI
ORGANIZER:Jaka Vodeb
RELATED-TO:fmf-AFLABS-URNIK:srecanje:6230
X-WR-TIMEZONE:Europe/Ljubljana
END:VEVENT
BEGIN:VEVENT
SUMMARY:Fizika (FRI) ()\, Vaje (V)\, [1]
DTSTART;TZID=Europe/Ljubljana:20220112T080000
DTEND;TZID=Europe/Ljubljana:20220112T100000
DTSTAMP:20260426T035910Z
UID:fmf-AFLABS-URNIK:premaknjeno-srecanje:26386
CATEGORIES:Entry,Standard
COLOR:darkgreen
DESCRIPTION:Predmet: Fizika (FRI) ()\, Vaje (V)\, [1]\nLetniki: \nIzvajalc
 i: Jaka Vodeb\nProstor: FRI
LOCATION:FRI
ORGANIZER:Jaka Vodeb
RELATED-TO:fmf-AFLABS-URNIK:srecanje:6230
X-WR-TIMEZONE:Europe/Ljubljana
END:VEVENT
BEGIN:VEVENT
SUMMARY:Fizika (FRI) ()\, Vaje (V)\, [2]
DTSTART;TZID=Europe/Ljubljana:20211216T080000
DTEND;TZID=Europe/Ljubljana:20211216T100000
DTSTAMP:20260426T035910Z
UID:fmf-AFLABS-URNIK:premaknjeno-srecanje:26476
CATEGORIES:Entry,Standard
COLOR:darkgreen
DESCRIPTION:Predmet: Fizika (FRI) ()\, Vaje (V)\, [2]\nLetniki: \nIzvajalc
 i: Jaka Vodeb\nProstor: FRI
LOCATION:FRI
ORGANIZER:Jaka Vodeb
RELATED-TO:fmf-AFLABS-URNIK:srecanje:6231
X-WR-TIMEZONE:Europe/Ljubljana
END:VEVENT
BEGIN:VEVENT
SUMMARY:Fizika (FRI) ()\, Vaje (V)\, [2]
DTSTART;TZID=Europe/Ljubljana:20211223T080000
DTEND;TZID=Europe/Ljubljana:20211223T100000
DTSTAMP:20260426T035910Z
UID:fmf-AFLABS-URNIK:premaknjeno-srecanje:26477
CATEGORIES:Entry,Standard
COLOR:darkgreen
DESCRIPTION:Predmet: Fizika (FRI) ()\, Vaje (V)\, [2]\nLetniki: \nIzvajalc
 i: Jaka Vodeb\nProstor: FRI
LOCATION:FRI
ORGANIZER:Jaka Vodeb
RELATED-TO:fmf-AFLABS-URNIK:srecanje:6231
X-WR-TIMEZONE:Europe/Ljubljana
END:VEVENT
BEGIN:VEVENT
SUMMARY:Fizika (FRI) ()\, Vaje (V)\, [2]
DTSTART;TZID=Europe/Ljubljana:20211230T080000
DTEND;TZID=Europe/Ljubljana:20211230T100000
DTSTAMP:20260426T035910Z
UID:fmf-AFLABS-URNIK:premaknjeno-srecanje:26478
CATEGORIES:Entry,Standard
COLOR:darkgreen
DESCRIPTION:Predmet: Fizika (FRI) ()\, Vaje (V)\, [2]\nLetniki: \nIzvajalc
 i: Jaka Vodeb\nProstor: FRI
LOCATION:FRI
ORGANIZER:Jaka Vodeb
RELATED-TO:fmf-AFLABS-URNIK:srecanje:6231
X-WR-TIMEZONE:Europe/Ljubljana
END:VEVENT
BEGIN:VEVENT
SUMMARY:Fizika (FRI) ()\, Vaje (V)\, [2]
DTSTART;TZID=Europe/Ljubljana:20220106T080000
DTEND;TZID=Europe/Ljubljana:20220106T100000
DTSTAMP:20260426T035910Z
UID:fmf-AFLABS-URNIK:premaknjeno-srecanje:26479
CATEGORIES:Entry,Standard
COLOR:darkgreen
DESCRIPTION:Predmet: Fizika (FRI) ()\, Vaje (V)\, [2]\nLetniki: \nIzvajalc
 i: Jaka Vodeb\nProstor: FRI
LOCATION:FRI
ORGANIZER:Jaka Vodeb
RELATED-TO:fmf-AFLABS-URNIK:srecanje:6231
X-WR-TIMEZONE:Europe/Ljubljana
END:VEVENT
BEGIN:VEVENT
SUMMARY:Fizika (FRI) ()\, Vaje (V)\, [2]
DTSTART;TZID=Europe/Ljubljana:20220113T080000
DTEND;TZID=Europe/Ljubljana:20220113T100000
DTSTAMP:20260426T035910Z
UID:fmf-AFLABS-URNIK:premaknjeno-srecanje:26480
CATEGORIES:Entry,Standard
COLOR:darkgreen
DESCRIPTION:Predmet: Fizika (FRI) ()\, Vaje (V)\, [2]\nLetniki: \nIzvajalc
 i: Jaka Vodeb\nProstor: FRI
LOCATION:FRI
ORGANIZER:Jaka Vodeb
RELATED-TO:fmf-AFLABS-URNIK:srecanje:6231
X-WR-TIMEZONE:Europe/Ljubljana
END:VEVENT
BEGIN:VEVENT
SUMMARY:Rezervacija
DTSTART;TZID=Europe/Ljubljana:20220112T180000
DTEND;TZID=Europe/Ljubljana:20220112T200000
DTSTAMP:20260426T035910Z
UID:fmf-AFLABS-URNIK:rezervacija:8230
CATEGORIES:Reservation
COLOR:royalblue
DESCRIPTION:Predmeti: \nLetniki: \nIzvajalci: Žiga Gosar\, Andrej Lozar\,
  Andrej Petelin\, Jaka Vodeb\nProstori: VFP
LOCATION:VFP
ORGANIZER:Žiga Gosar, Andrej Lozar, Andrej Petelin, Jaka Vodeb
X-WR-TIMEZONE:Europe/Ljubljana
END:VEVENT
BEGIN:VEVENT
SUMMARY:Rezervacija
DTSTART;TZID=Europe/Ljubljana:20220112T180000
DTEND;TZID=Europe/Ljubljana:20220112T200000
DTSTAMP:20260426T035910Z
UID:fmf-AFLABS-URNIK:rezervacija:8231
CATEGORIES:Reservation
COLOR:royalblue
DESCRIPTION:Predmeti: \nLetniki: \nIzvajalci: Žiga Gosar\, Andrej Lozar\,
  Andrej Petelin\, Jaka Vodeb\nProstori: MFP
LOCATION:MFP
ORGANIZER:Žiga Gosar, Andrej Lozar, Andrej Petelin, Jaka Vodeb
X-WR-TIMEZONE:Europe/Ljubljana
END:VEVENT
END:VCALENDAR
