BEGIN:VCALENDAR
VERSION:2.0
PRODID:-//AFLabs urnik izvoz - fmf//aflabs.si//SI
DTSTAMP:20260424T101325Z
NAME:UL FMF urnik
REFRESH-INTERVAL:PT1H
SOURCE:https://urnik.fmf.uni-lj.si/teacher/529?day=2023-01-30&export=1
URL:https://urnik.fmf.uni-lj.si/teacher/529?day=2023-01-30&export=1
X-PUBLISHED-TTL:PT1H
X-WR-CALNAME:UL FMF urnik
X-WR-TIMEZONE:Europe/Ljubljana
BEGIN:VTIMEZONE
TZID:Europe/Ljubljana
BEGIN:DAYLIGHT
DTSTART:20260329T020000
RDATE:20260329T020000
RDATE:20270328T020000
TZNAME:CEST
TZOFFSETFROM:+0100
TZOFFSETTO:+0200
END:DAYLIGHT
BEGIN:STANDARD
DTSTART:20261025T030000
RDATE:20261025T030000
RDATE:20271031T030000
TZNAME:CET
TZOFFSETFROM:+0200
TZOFFSETTO:+0100
END:STANDARD
END:VTIMEZONE
BEGIN:VEVENT
SUMMARY:Jedrska termohidravlika (JET-1\, JET-2)\, Predavanja (P)
DTSTART;TZID=Europe/Ljubljana:20221227T140000
DTEND;TZID=Europe/Ljubljana:20221227T160000
DTSTAMP:20260424T101325Z
UID:fmf-AFLABS-URNIK:premaknjeno-srecanje:45462
ATTENDEE:1. letnik (Jedrska tehnika, 2. stopnja)
ATTENDEE:2. letnik (Jedrska tehnika, 2. stopnja)
CATEGORIES:Entry,Standard
COLOR:darkgreen
DESCRIPTION:Predmet: Jedrska termohidravlika (JET-1\, JET-2)\, Predavanja 
 (P)\nLetniki: 1. letnik (Jedrska tehnika\, 2. stopnja)\, 2. letnik (Jedrsk
 a tehnika\, 2. stopnja)\nIzvajalci: Ivo Kljenak\nProstor: F5
LOCATION:F5
ORGANIZER:Ivo Kljenak
RELATED-TO:fmf-AFLABS-URNIK:srecanje:7684
X-WR-TIMEZONE:Europe/Ljubljana
END:VEVENT
BEGIN:VEVENT
SUMMARY:Jedrska termohidravlika (JET-1\, JET-2)\, Predavanja (P)
DTSTART;TZID=Europe/Ljubljana:20230103T140000
DTEND;TZID=Europe/Ljubljana:20230103T160000
DTSTAMP:20260424T101325Z
UID:fmf-AFLABS-URNIK:premaknjeno-srecanje:45463
ATTENDEE:1. letnik (Jedrska tehnika, 2. stopnja)
ATTENDEE:2. letnik (Jedrska tehnika, 2. stopnja)
CATEGORIES:Entry,Standard
COLOR:darkgreen
DESCRIPTION:Predmet: Jedrska termohidravlika (JET-1\, JET-2)\, Predavanja 
 (P)\nLetniki: 1. letnik (Jedrska tehnika\, 2. stopnja)\, 2. letnik (Jedrsk
 a tehnika\, 2. stopnja)\nIzvajalci: Ivo Kljenak\nProstor: F5
LOCATION:F5
ORGANIZER:Ivo Kljenak
RELATED-TO:fmf-AFLABS-URNIK:srecanje:7684
X-WR-TIMEZONE:Europe/Ljubljana
END:VEVENT
BEGIN:VEVENT
SUMMARY:Jedrska termohidravlika (JET-1\, JET-2)\, Predavanja (P)
DTSTART;TZID=Europe/Ljubljana:20230110T140000
DTEND;TZID=Europe/Ljubljana:20230110T160000
DTSTAMP:20260424T101325Z
UID:fmf-AFLABS-URNIK:premaknjeno-srecanje:45464
ATTENDEE:1. letnik (Jedrska tehnika, 2. stopnja)
ATTENDEE:2. letnik (Jedrska tehnika, 2. stopnja)
CATEGORIES:Entry,Standard
COLOR:darkgreen
DESCRIPTION:Predmet: Jedrska termohidravlika (JET-1\, JET-2)\, Predavanja 
 (P)\nLetniki: 1. letnik (Jedrska tehnika\, 2. stopnja)\, 2. letnik (Jedrsk
 a tehnika\, 2. stopnja)\nIzvajalci: Ivo Kljenak\nProstor: F5
LOCATION:F5
ORGANIZER:Ivo Kljenak
RELATED-TO:fmf-AFLABS-URNIK:srecanje:7684
X-WR-TIMEZONE:Europe/Ljubljana
END:VEVENT
BEGIN:VEVENT
SUMMARY:Jedrska varnost (JET-1\, JET-2)\, Predavanja (P)
DTSTART;TZID=Europe/Ljubljana:20221230T110000
DTEND;TZID=Europe/Ljubljana:20221230T130000
DTSTAMP:20260424T101325Z
UID:fmf-AFLABS-URNIK:premaknjeno-srecanje:45602
ATTENDEE:1. letnik (Jedrska tehnika, 2. stopnja)
ATTENDEE:2. letnik (Jedrska tehnika, 2. stopnja)
CATEGORIES:Entry,Standard
COLOR:darkgreen
DESCRIPTION:Predmet: Jedrska varnost (JET-1\, JET-2)\, Predavanja (P)\nLet
 niki: 1. letnik (Jedrska tehnika\, 2. stopnja)\, 2. letnik (Jedrska tehnik
 a\, 2. stopnja)\nIzvajalci: Leon Cizelj\, Ivo Kljenak\, Damijan Škrk\, Iz
 tok Tiselj\nProstor: F7
LOCATION:F7
ORGANIZER:Leon Cizelj, Ivo Kljenak, Damijan Škrk, Iztok Tiselj
RELATED-TO:fmf-AFLABS-URNIK:srecanje:7686
X-WR-TIMEZONE:Europe/Ljubljana
END:VEVENT
BEGIN:VEVENT
SUMMARY:Jedrska varnost (JET-1\, JET-2)\, Predavanja (P)
DTSTART;TZID=Europe/Ljubljana:20230106T110000
DTEND;TZID=Europe/Ljubljana:20230106T130000
DTSTAMP:20260424T101325Z
UID:fmf-AFLABS-URNIK:premaknjeno-srecanje:45603
ATTENDEE:1. letnik (Jedrska tehnika, 2. stopnja)
ATTENDEE:2. letnik (Jedrska tehnika, 2. stopnja)
CATEGORIES:Entry,Standard
COLOR:darkgreen
DESCRIPTION:Predmet: Jedrska varnost (JET-1\, JET-2)\, Predavanja (P)\nLet
 niki: 1. letnik (Jedrska tehnika\, 2. stopnja)\, 2. letnik (Jedrska tehnik
 a\, 2. stopnja)\nIzvajalci: Leon Cizelj\, Ivo Kljenak\, Damijan Škrk\, Iz
 tok Tiselj\nProstor: F7
LOCATION:F7
ORGANIZER:Leon Cizelj, Ivo Kljenak, Damijan Škrk, Iztok Tiselj
RELATED-TO:fmf-AFLABS-URNIK:srecanje:7686
X-WR-TIMEZONE:Europe/Ljubljana
END:VEVENT
BEGIN:VEVENT
SUMMARY:Jedrska varnost (JET-1\, JET-2)\, Predavanja (P)
DTSTART;TZID=Europe/Ljubljana:20230113T110000
DTEND;TZID=Europe/Ljubljana:20230113T130000
DTSTAMP:20260424T101325Z
UID:fmf-AFLABS-URNIK:premaknjeno-srecanje:45604
ATTENDEE:1. letnik (Jedrska tehnika, 2. stopnja)
ATTENDEE:2. letnik (Jedrska tehnika, 2. stopnja)
CATEGORIES:Entry,Standard
COLOR:darkgreen
DESCRIPTION:Predmet: Jedrska varnost (JET-1\, JET-2)\, Predavanja (P)\nLet
 niki: 1. letnik (Jedrska tehnika\, 2. stopnja)\, 2. letnik (Jedrska tehnik
 a\, 2. stopnja)\nIzvajalci: Leon Cizelj\, Ivo Kljenak\, Damijan Škrk\, Iz
 tok Tiselj\nProstor: F7
LOCATION:F7
ORGANIZER:Leon Cizelj, Ivo Kljenak, Damijan Škrk, Iztok Tiselj
RELATED-TO:fmf-AFLABS-URNIK:srecanje:7686
X-WR-TIMEZONE:Europe/Ljubljana
END:VEVENT
BEGIN:VEVENT
SUMMARY:Rezervacija
DTSTART;TZID=Europe/Ljubljana:20230117T140000
DTEND;TZID=Europe/Ljubljana:20230117T160000
DTSTAMP:20260424T101325Z
UID:fmf-AFLABS-URNIK:rezervacija:10903
ATTENDEE:1. letnik (Jedrska tehnika, 2. stopnja)
ATTENDEE:2. letnik (Jedrska tehnika, 2. stopnja)
CATEGORIES:Reservation
COLOR:royalblue
DESCRIPTION:Predmeti: Jedrska termohidravlika (JET-1\, JET-2)\nLetniki: 1.
  letnik (Jedrska tehnika\, 2. stopnja)\, 2. letnik (Jedrska tehnika\, 2. s
 topnja)\nIzvajalci: Ivo Kljenak\nProstori: F5
LOCATION:F5
ORGANIZER:Ivo Kljenak
X-WR-TIMEZONE:Europe/Ljubljana
END:VEVENT
BEGIN:VEVENT
SUMMARY:Rezervacija
DTSTART;TZID=Europe/Ljubljana:20230206T090000
DTEND;TZID=Europe/Ljubljana:20230206T140000
DTSTAMP:20260424T101325Z
UID:fmf-AFLABS-URNIK:rezervacija:11177
ATTENDEE:1. letnik (Jedrska tehnika, 2. stopnja)
ATTENDEE:2. letnik (Jedrska tehnika, 2. stopnja)
CATEGORIES:Reservation
COLOR:royalblue
DESCRIPTION:Predmeti: Jedrska termohidravlika (JET-1\, JET-2)\nLetniki: 1.
  letnik (Jedrska tehnika\, 2. stopnja)\, 2. letnik (Jedrska tehnika\, 2. s
 topnja)\nIzvajalci: Ivo Kljenak\nProstori: F4
LOCATION:F4
ORGANIZER:Ivo Kljenak
X-WR-TIMEZONE:Europe/Ljubljana
END:VEVENT
BEGIN:VEVENT
SUMMARY:Rezervacija
DTSTART;TZID=Europe/Ljubljana:20230207T110000
DTEND;TZID=Europe/Ljubljana:20230207T130000
DTSTAMP:20260424T101325Z
UID:fmf-AFLABS-URNIK:rezervacija:11207
ATTENDEE:1. letnik (Jedrska tehnika, 2. stopnja)
ATTENDEE:2. letnik (Jedrska tehnika, 2. stopnja)
CATEGORIES:Reservation
COLOR:royalblue
DESCRIPTION:Predmeti: Jedrska termohidravlika (JET-1\, JET-2)\nLetniki: 1.
  letnik (Jedrska tehnika\, 2. stopnja)\, 2. letnik (Jedrska tehnika\, 2. s
 topnja)\nIzvajalci: Ivo Kljenak\nProstori: F5
LOCATION:F5
ORGANIZER:Ivo Kljenak
X-WR-TIMEZONE:Europe/Ljubljana
END:VEVENT
END:VCALENDAR
