BEGIN:VCALENDAR
VERSION:2.0
PRODID:-//AFLabs urnik izvoz - fmf//aflabs.si//SI
DTSTAMP:20260423T235831Z
NAME:UL FMF urnik
REFRESH-INTERVAL:PT1H
SOURCE:https://urnik.fmf.uni-lj.si/teacher/529?day=2025-01-13&export=1
URL:https://urnik.fmf.uni-lj.si/teacher/529?day=2025-01-13&export=1
X-PUBLISHED-TTL:PT1H
X-WR-CALNAME:UL FMF urnik
X-WR-TIMEZONE:Europe/Ljubljana
BEGIN:VTIMEZONE
TZID:Europe/Ljubljana
BEGIN:DAYLIGHT
DTSTART:20260329T020000
RDATE:20260329T020000
RDATE:20270328T020000
TZNAME:CEST
TZOFFSETFROM:+0100
TZOFFSETTO:+0200
END:DAYLIGHT
BEGIN:STANDARD
DTSTART:20261025T030000
RDATE:20261025T030000
RDATE:20271031T030000
TZNAME:CET
TZOFFSETFROM:+0200
TZOFFSETTO:+0100
END:STANDARD
END:VTIMEZONE
BEGIN:VEVENT
SUMMARY:Jedrska termohidravlika (JET-1\, JET-2)\, Predavanja (P)
DTSTART;TZID=Europe/Ljubljana:20241001T140000
DTEND;TZID=Europe/Ljubljana:20241001T160000
DTSTAMP:20260423T235831Z
UID:fmf-AFLABS-URNIK:premaknjeno-srecanje:180562
ATTENDEE:1. letnik (Jedrska tehnika, 2. stopnja)
ATTENDEE:2. letnik (Jedrska tehnika, 2. stopnja)
CATEGORIES:Entry,Standard
COLOR:darkgreen
DESCRIPTION:Predmet: Jedrska termohidravlika (JET-1\, JET-2)\, Predavanja 
 (P)\nLetniki: 1. letnik (Jedrska tehnika\, 2. stopnja)\, 2. letnik (Jedrsk
 a tehnika\, 2. stopnja)\nIzvajalci: Ivo Kljenak\nProstor: F5
LOCATION:F5
ORGANIZER:Ivo Kljenak
RELATED-TO:fmf-AFLABS-URNIK:srecanje:13757
X-WR-TIMEZONE:Europe/Ljubljana
END:VEVENT
BEGIN:VEVENT
SUMMARY:Jedrska termohidravlika (JET-1\, JET-2)\, Predavanja (P)
DTSTART;TZID=Europe/Ljubljana:20241008T140000
DTEND;TZID=Europe/Ljubljana:20241008T160000
DTSTAMP:20260423T235831Z
UID:fmf-AFLABS-URNIK:premaknjeno-srecanje:180563
ATTENDEE:1. letnik (Jedrska tehnika, 2. stopnja)
ATTENDEE:2. letnik (Jedrska tehnika, 2. stopnja)
CATEGORIES:Entry,Standard
COLOR:darkgreen
DESCRIPTION:Predmet: Jedrska termohidravlika (JET-1\, JET-2)\, Predavanja 
 (P)\nLetniki: 1. letnik (Jedrska tehnika\, 2. stopnja)\, 2. letnik (Jedrsk
 a tehnika\, 2. stopnja)\nIzvajalci: Ivo Kljenak\nProstor: F5
LOCATION:F5
ORGANIZER:Ivo Kljenak
RELATED-TO:fmf-AFLABS-URNIK:srecanje:13757
X-WR-TIMEZONE:Europe/Ljubljana
END:VEVENT
BEGIN:VEVENT
SUMMARY:Jedrska termohidravlika (JET-1\, JET-2)\, Predavanja (P)
DTSTART;TZID=Europe/Ljubljana:20241015T140000
DTEND;TZID=Europe/Ljubljana:20241015T160000
DTSTAMP:20260423T235831Z
UID:fmf-AFLABS-URNIK:premaknjeno-srecanje:180564
ATTENDEE:1. letnik (Jedrska tehnika, 2. stopnja)
ATTENDEE:2. letnik (Jedrska tehnika, 2. stopnja)
CATEGORIES:Entry,Standard
COLOR:darkgreen
DESCRIPTION:Predmet: Jedrska termohidravlika (JET-1\, JET-2)\, Predavanja 
 (P)\nLetniki: 1. letnik (Jedrska tehnika\, 2. stopnja)\, 2. letnik (Jedrsk
 a tehnika\, 2. stopnja)\nIzvajalci: Ivo Kljenak\nProstor: F5
LOCATION:F5
ORGANIZER:Ivo Kljenak
RELATED-TO:fmf-AFLABS-URNIK:srecanje:13757
X-WR-TIMEZONE:Europe/Ljubljana
END:VEVENT
BEGIN:VEVENT
SUMMARY:Jedrska termohidravlika (JET-1\, JET-2)\, Predavanja (P)
DTSTART;TZID=Europe/Ljubljana:20241022T140000
DTEND;TZID=Europe/Ljubljana:20241022T160000
DTSTAMP:20260423T235831Z
UID:fmf-AFLABS-URNIK:premaknjeno-srecanje:180565
ATTENDEE:1. letnik (Jedrska tehnika, 2. stopnja)
ATTENDEE:2. letnik (Jedrska tehnika, 2. stopnja)
CATEGORIES:Entry,Standard
COLOR:darkgreen
DESCRIPTION:Predmet: Jedrska termohidravlika (JET-1\, JET-2)\, Predavanja 
 (P)\nLetniki: 1. letnik (Jedrska tehnika\, 2. stopnja)\, 2. letnik (Jedrsk
 a tehnika\, 2. stopnja)\nIzvajalci: Ivo Kljenak\nProstor: F5
LOCATION:F5
ORGANIZER:Ivo Kljenak
RELATED-TO:fmf-AFLABS-URNIK:srecanje:13757
X-WR-TIMEZONE:Europe/Ljubljana
END:VEVENT
BEGIN:VEVENT
SUMMARY:Jedrska termohidravlika (JET-1\, JET-2)\, Predavanja (P)
DTSTART;TZID=Europe/Ljubljana:20241029T140000
DTEND;TZID=Europe/Ljubljana:20241029T160000
DTSTAMP:20260423T235831Z
UID:fmf-AFLABS-URNIK:premaknjeno-srecanje:180566
ATTENDEE:1. letnik (Jedrska tehnika, 2. stopnja)
ATTENDEE:2. letnik (Jedrska tehnika, 2. stopnja)
CATEGORIES:Entry,Standard
COLOR:darkgreen
DESCRIPTION:Predmet: Jedrska termohidravlika (JET-1\, JET-2)\, Predavanja 
 (P)\nLetniki: 1. letnik (Jedrska tehnika\, 2. stopnja)\, 2. letnik (Jedrsk
 a tehnika\, 2. stopnja)\nIzvajalci: Ivo Kljenak\nProstor: F5
LOCATION:F5
ORGANIZER:Ivo Kljenak
RELATED-TO:fmf-AFLABS-URNIK:srecanje:13757
X-WR-TIMEZONE:Europe/Ljubljana
END:VEVENT
BEGIN:VEVENT
SUMMARY:Jedrska termohidravlika (JET-1\, JET-2)\, Predavanja (P)
DTSTART;TZID=Europe/Ljubljana:20241105T140000
DTEND;TZID=Europe/Ljubljana:20241105T160000
DTSTAMP:20260423T235831Z
UID:fmf-AFLABS-URNIK:premaknjeno-srecanje:180567
ATTENDEE:1. letnik (Jedrska tehnika, 2. stopnja)
ATTENDEE:2. letnik (Jedrska tehnika, 2. stopnja)
CATEGORIES:Entry,Standard
COLOR:darkgreen
DESCRIPTION:Predmet: Jedrska termohidravlika (JET-1\, JET-2)\, Predavanja 
 (P)\nLetniki: 1. letnik (Jedrska tehnika\, 2. stopnja)\, 2. letnik (Jedrsk
 a tehnika\, 2. stopnja)\nIzvajalci: Ivo Kljenak\nProstor: F5
LOCATION:F5
ORGANIZER:Ivo Kljenak
RELATED-TO:fmf-AFLABS-URNIK:srecanje:13757
X-WR-TIMEZONE:Europe/Ljubljana
END:VEVENT
BEGIN:VEVENT
SUMMARY:Jedrska termohidravlika (JET-1\, JET-2)\, Predavanja (P)
DTSTART;TZID=Europe/Ljubljana:20241112T140000
DTEND;TZID=Europe/Ljubljana:20241112T160000
DTSTAMP:20260423T235831Z
UID:fmf-AFLABS-URNIK:premaknjeno-srecanje:180568
ATTENDEE:1. letnik (Jedrska tehnika, 2. stopnja)
ATTENDEE:2. letnik (Jedrska tehnika, 2. stopnja)
CATEGORIES:Entry,Standard
COLOR:darkgreen
DESCRIPTION:Predmet: Jedrska termohidravlika (JET-1\, JET-2)\, Predavanja 
 (P)\nLetniki: 1. letnik (Jedrska tehnika\, 2. stopnja)\, 2. letnik (Jedrsk
 a tehnika\, 2. stopnja)\nIzvajalci: Ivo Kljenak\nProstor: F5
LOCATION:F5
ORGANIZER:Ivo Kljenak
RELATED-TO:fmf-AFLABS-URNIK:srecanje:13757
X-WR-TIMEZONE:Europe/Ljubljana
END:VEVENT
BEGIN:VEVENT
SUMMARY:Jedrska termohidravlika (JET-1\, JET-2)\, Predavanja (P)
DTSTART;TZID=Europe/Ljubljana:20241119T140000
DTEND;TZID=Europe/Ljubljana:20241119T160000
DTSTAMP:20260423T235831Z
UID:fmf-AFLABS-URNIK:premaknjeno-srecanje:180569
ATTENDEE:1. letnik (Jedrska tehnika, 2. stopnja)
ATTENDEE:2. letnik (Jedrska tehnika, 2. stopnja)
CATEGORIES:Entry,Standard
COLOR:darkgreen
DESCRIPTION:Predmet: Jedrska termohidravlika (JET-1\, JET-2)\, Predavanja 
 (P)\nLetniki: 1. letnik (Jedrska tehnika\, 2. stopnja)\, 2. letnik (Jedrsk
 a tehnika\, 2. stopnja)\nIzvajalci: Ivo Kljenak\nProstor: F5
LOCATION:F5
ORGANIZER:Ivo Kljenak
RELATED-TO:fmf-AFLABS-URNIK:srecanje:13757
X-WR-TIMEZONE:Europe/Ljubljana
END:VEVENT
BEGIN:VEVENT
SUMMARY:Jedrska termohidravlika (JET-1\, JET-2)\, Predavanja (P)
DTSTART;TZID=Europe/Ljubljana:20241126T140000
DTEND;TZID=Europe/Ljubljana:20241126T160000
DTSTAMP:20260423T235831Z
UID:fmf-AFLABS-URNIK:premaknjeno-srecanje:180570
ATTENDEE:1. letnik (Jedrska tehnika, 2. stopnja)
ATTENDEE:2. letnik (Jedrska tehnika, 2. stopnja)
CATEGORIES:Entry,Standard
COLOR:darkgreen
DESCRIPTION:Predmet: Jedrska termohidravlika (JET-1\, JET-2)\, Predavanja 
 (P)\nLetniki: 1. letnik (Jedrska tehnika\, 2. stopnja)\, 2. letnik (Jedrsk
 a tehnika\, 2. stopnja)\nIzvajalci: Ivo Kljenak\nProstor: F5
LOCATION:F5
ORGANIZER:Ivo Kljenak
RELATED-TO:fmf-AFLABS-URNIK:srecanje:13757
X-WR-TIMEZONE:Europe/Ljubljana
END:VEVENT
BEGIN:VEVENT
SUMMARY:Jedrska termohidravlika (JET-1\, JET-2)\, Predavanja (P)
DTSTART;TZID=Europe/Ljubljana:20241203T140000
DTEND;TZID=Europe/Ljubljana:20241203T160000
DTSTAMP:20260423T235831Z
UID:fmf-AFLABS-URNIK:premaknjeno-srecanje:180571
ATTENDEE:1. letnik (Jedrska tehnika, 2. stopnja)
ATTENDEE:2. letnik (Jedrska tehnika, 2. stopnja)
CATEGORIES:Entry,Standard
COLOR:darkgreen
DESCRIPTION:Predmet: Jedrska termohidravlika (JET-1\, JET-2)\, Predavanja 
 (P)\nLetniki: 1. letnik (Jedrska tehnika\, 2. stopnja)\, 2. letnik (Jedrsk
 a tehnika\, 2. stopnja)\nIzvajalci: Ivo Kljenak\nProstor: F5
LOCATION:F5
ORGANIZER:Ivo Kljenak
RELATED-TO:fmf-AFLABS-URNIK:srecanje:13757
X-WR-TIMEZONE:Europe/Ljubljana
END:VEVENT
BEGIN:VEVENT
SUMMARY:Jedrska termohidravlika (JET-1\, JET-2)\, Predavanja (P)
DTSTART;TZID=Europe/Ljubljana:20241210T140000
DTEND;TZID=Europe/Ljubljana:20241210T160000
DTSTAMP:20260423T235831Z
UID:fmf-AFLABS-URNIK:premaknjeno-srecanje:180572
ATTENDEE:1. letnik (Jedrska tehnika, 2. stopnja)
ATTENDEE:2. letnik (Jedrska tehnika, 2. stopnja)
CATEGORIES:Entry,Standard
COLOR:darkgreen
DESCRIPTION:Predmet: Jedrska termohidravlika (JET-1\, JET-2)\, Predavanja 
 (P)\nLetniki: 1. letnik (Jedrska tehnika\, 2. stopnja)\, 2. letnik (Jedrsk
 a tehnika\, 2. stopnja)\nIzvajalci: Ivo Kljenak\nProstor: F5
LOCATION:F5
ORGANIZER:Ivo Kljenak
RELATED-TO:fmf-AFLABS-URNIK:srecanje:13757
X-WR-TIMEZONE:Europe/Ljubljana
END:VEVENT
BEGIN:VEVENT
SUMMARY:Jedrska termohidravlika (JET-1\, JET-2)\, Predavanja (P)
DTSTART;TZID=Europe/Ljubljana:20241217T140000
DTEND;TZID=Europe/Ljubljana:20241217T160000
DTSTAMP:20260423T235831Z
UID:fmf-AFLABS-URNIK:premaknjeno-srecanje:180573
ATTENDEE:1. letnik (Jedrska tehnika, 2. stopnja)
ATTENDEE:2. letnik (Jedrska tehnika, 2. stopnja)
CATEGORIES:Entry,Standard
COLOR:darkgreen
DESCRIPTION:Predmet: Jedrska termohidravlika (JET-1\, JET-2)\, Predavanja 
 (P)\nLetniki: 1. letnik (Jedrska tehnika\, 2. stopnja)\, 2. letnik (Jedrsk
 a tehnika\, 2. stopnja)\nIzvajalci: Ivo Kljenak\nProstor: F5
LOCATION:F5
ORGANIZER:Ivo Kljenak
RELATED-TO:fmf-AFLABS-URNIK:srecanje:13757
X-WR-TIMEZONE:Europe/Ljubljana
END:VEVENT
BEGIN:VEVENT
SUMMARY:Jedrska termohidravlika (JET-1\, JET-2)\, Predavanja (P)
DTSTART;TZID=Europe/Ljubljana:20241224T140000
DTEND;TZID=Europe/Ljubljana:20241224T160000
DTSTAMP:20260423T235831Z
UID:fmf-AFLABS-URNIK:premaknjeno-srecanje:180574
ATTENDEE:1. letnik (Jedrska tehnika, 2. stopnja)
ATTENDEE:2. letnik (Jedrska tehnika, 2. stopnja)
CATEGORIES:Entry,Standard
COLOR:darkgreen
DESCRIPTION:Predmet: Jedrska termohidravlika (JET-1\, JET-2)\, Predavanja 
 (P)\nLetniki: 1. letnik (Jedrska tehnika\, 2. stopnja)\, 2. letnik (Jedrsk
 a tehnika\, 2. stopnja)\nIzvajalci: Ivo Kljenak\nProstor: F5
LOCATION:F5
ORGANIZER:Ivo Kljenak
RELATED-TO:fmf-AFLABS-URNIK:srecanje:13757
X-WR-TIMEZONE:Europe/Ljubljana
END:VEVENT
BEGIN:VEVENT
SUMMARY:Jedrska termohidravlika (JET-1\, JET-2)\, Predavanja (P)
DTSTART;TZID=Europe/Ljubljana:20241231T140000
DTEND;TZID=Europe/Ljubljana:20241231T160000
DTSTAMP:20260423T235831Z
UID:fmf-AFLABS-URNIK:premaknjeno-srecanje:180575
ATTENDEE:1. letnik (Jedrska tehnika, 2. stopnja)
ATTENDEE:2. letnik (Jedrska tehnika, 2. stopnja)
CATEGORIES:Entry,Standard
COLOR:darkgreen
DESCRIPTION:Predmet: Jedrska termohidravlika (JET-1\, JET-2)\, Predavanja 
 (P)\nLetniki: 1. letnik (Jedrska tehnika\, 2. stopnja)\, 2. letnik (Jedrsk
 a tehnika\, 2. stopnja)\nIzvajalci: Ivo Kljenak\nProstor: F5
LOCATION:F5
ORGANIZER:Ivo Kljenak
RELATED-TO:fmf-AFLABS-URNIK:srecanje:13757
X-WR-TIMEZONE:Europe/Ljubljana
END:VEVENT
BEGIN:VEVENT
SUMMARY:Jedrska termohidravlika (JET-1\, JET-2)\, Predavanja (P)
DTSTART;TZID=Europe/Ljubljana:20250107T140000
DTEND;TZID=Europe/Ljubljana:20250107T160000
DTSTAMP:20260423T235831Z
UID:fmf-AFLABS-URNIK:premaknjeno-srecanje:180576
ATTENDEE:1. letnik (Jedrska tehnika, 2. stopnja)
ATTENDEE:2. letnik (Jedrska tehnika, 2. stopnja)
CATEGORIES:Entry,Standard
COLOR:darkgreen
DESCRIPTION:Predmet: Jedrska termohidravlika (JET-1\, JET-2)\, Predavanja 
 (P)\nLetniki: 1. letnik (Jedrska tehnika\, 2. stopnja)\, 2. letnik (Jedrsk
 a tehnika\, 2. stopnja)\nIzvajalci: Ivo Kljenak\nProstor: F5
LOCATION:F5
ORGANIZER:Ivo Kljenak
RELATED-TO:fmf-AFLABS-URNIK:srecanje:13757
X-WR-TIMEZONE:Europe/Ljubljana
END:VEVENT
BEGIN:VEVENT
SUMMARY:Jedrska termohidravlika (JET-1\, JET-2)\, Predavanja (P)
DTSTART;TZID=Europe/Ljubljana:20250114T140000
DTEND;TZID=Europe/Ljubljana:20250114T160000
DTSTAMP:20260423T235831Z
UID:fmf-AFLABS-URNIK:premaknjeno-srecanje:186840
ATTENDEE:1. letnik (Jedrska tehnika, 2. stopnja)
ATTENDEE:2. letnik (Jedrska tehnika, 2. stopnja)
CATEGORIES:Entry,Standard
COLOR:darkgreen
DESCRIPTION:Predmet: Jedrska termohidravlika (JET-1\, JET-2)\, Predavanja 
 (P)\nLetniki: 1. letnik (Jedrska tehnika\, 2. stopnja)\, 2. letnik (Jedrsk
 a tehnika\, 2. stopnja)\nIzvajalci: Ivo Kljenak\nProstor: F5
LOCATION:F5
ORGANIZER:Ivo Kljenak
RELATED-TO:fmf-AFLABS-URNIK:srecanje:13757
X-WR-TIMEZONE:Europe/Ljubljana
END:VEVENT
BEGIN:VEVENT
SUMMARY:Nadomeščanje
DTSTART;TZID=Europe/Ljubljana:20241108T100000
DTEND;TZID=Europe/Ljubljana:20241108T120000
DTSTAMP:20260423T235831Z
UID:fmf-AFLABS-URNIK:rezervacija:19382
ATTENDEE:1. letnik (Jedrska tehnika, 2. stopnja)
ATTENDEE:2. letnik (Jedrska tehnika, 2. stopnja)
CATEGORIES:Reservation
COLOR:royalblue
DESCRIPTION:Predmeti: Jedrska termohidravlika (JET-1\, JET-2)\nLetniki: 1.
  letnik (Jedrska tehnika\, 2. stopnja)\, 2. letnik (Jedrska tehnika\, 2. s
 topnja)\nIzvajalci: Ivo Kljenak\nProstori: F2
LOCATION:F2
ORGANIZER:Ivo Kljenak
X-WR-TIMEZONE:Europe/Ljubljana
END:VEVENT
BEGIN:VEVENT
SUMMARY:Nadomeščanje
DTSTART;TZID=Europe/Ljubljana:20241115T100000
DTEND;TZID=Europe/Ljubljana:20241115T120000
DTSTAMP:20260423T235831Z
UID:fmf-AFLABS-URNIK:rezervacija:19383
ATTENDEE:1. letnik (Jedrska tehnika, 2. stopnja)
ATTENDEE:2. letnik (Jedrska tehnika, 2. stopnja)
CATEGORIES:Reservation
COLOR:royalblue
DESCRIPTION:Predmeti: Jedrska termohidravlika (JET-1\, JET-2)\nLetniki: 1.
  letnik (Jedrska tehnika\, 2. stopnja)\, 2. letnik (Jedrska tehnika\, 2. s
 topnja)\nIzvajalci: Ivo Kljenak\nProstori: F2
LOCATION:F2
ORGANIZER:Ivo Kljenak
X-WR-TIMEZONE:Europe/Ljubljana
END:VEVENT
BEGIN:VEVENT
SUMMARY:Nadomeščanje
DTSTART;TZID=Europe/Ljubljana:20241122T100000
DTEND;TZID=Europe/Ljubljana:20241122T120000
DTSTAMP:20260423T235831Z
UID:fmf-AFLABS-URNIK:rezervacija:19384
ATTENDEE:1. letnik (Jedrska tehnika, 2. stopnja)
ATTENDEE:2. letnik (Jedrska tehnika, 2. stopnja)
CATEGORIES:Reservation
COLOR:royalblue
DESCRIPTION:Predmeti: Jedrska termohidravlika (JET-1\, JET-2)\nLetniki: 1.
  letnik (Jedrska tehnika\, 2. stopnja)\, 2. letnik (Jedrska tehnika\, 2. s
 topnja)\nIzvajalci: Ivo Kljenak\nProstori: F2
LOCATION:F2
ORGANIZER:Ivo Kljenak
X-WR-TIMEZONE:Europe/Ljubljana
END:VEVENT
BEGIN:VEVENT
SUMMARY:Nadomeščanje 4
DTSTART;TZID=Europe/Ljubljana:20241213T100000
DTEND;TZID=Europe/Ljubljana:20241213T120000
DTSTAMP:20260423T235831Z
UID:fmf-AFLABS-URNIK:rezervacija:19385
ATTENDEE:1. letnik (Jedrska tehnika, 2. stopnja)
ATTENDEE:2. letnik (Jedrska tehnika, 2. stopnja)
CATEGORIES:Reservation
COLOR:royalblue
DESCRIPTION:Predmeti: Jedrska termohidravlika (JET-1\, JET-2)\nLetniki: 1.
  letnik (Jedrska tehnika\, 2. stopnja)\, 2. letnik (Jedrska tehnika\, 2. s
 topnja)\nIzvajalci: Ivo Kljenak\nProstori: F2
LOCATION:F2
ORGANIZER:Ivo Kljenak
X-WR-TIMEZONE:Europe/Ljubljana
END:VEVENT
BEGIN:VEVENT
SUMMARY:Nadomeščanje
DTSTART;TZID=Europe/Ljubljana:20241220T100000
DTEND;TZID=Europe/Ljubljana:20241220T120000
DTSTAMP:20260423T235831Z
UID:fmf-AFLABS-URNIK:rezervacija:20085
ATTENDEE:1. letnik (Jedrska tehnika, 2. stopnja)
ATTENDEE:2. letnik (Jedrska tehnika, 2. stopnja)
CATEGORIES:Reservation
COLOR:royalblue
DESCRIPTION:Predmeti: Jedrska termohidravlika (JET-1\, JET-2)\nLetniki: 1.
  letnik (Jedrska tehnika\, 2. stopnja)\, 2. letnik (Jedrska tehnika\, 2. s
 topnja)\nIzvajalci: Ivo Kljenak\nProstori: F2
LOCATION:F2
ORGANIZER:Ivo Kljenak
X-WR-TIMEZONE:Europe/Ljubljana
END:VEVENT
BEGIN:VEVENT
SUMMARY:Jedrska termohidravlika - Predavanja - Nadomeščanje
DTSTART;TZID=Europe/Ljubljana:20241223T100000
DTEND;TZID=Europe/Ljubljana:20241223T120000
DTSTAMP:20260423T235831Z
UID:fmf-AFLABS-URNIK:rezervacija:20226
ATTENDEE:1. letnik (Jedrska tehnika, 2. stopnja)
ATTENDEE:2. letnik (Jedrska tehnika, 2. stopnja)
CATEGORIES:Reservation
COLOR:royalblue
DESCRIPTION:Predmeti: Jedrska termohidravlika (JET-1\, JET-2)\nLetniki: 1.
  letnik (Jedrska tehnika\, 2. stopnja)\, 2. letnik (Jedrska tehnika\, 2. s
 topnja)\nIzvajalci: Ivo Kljenak\nProstori: F8
LOCATION:F8
ORGANIZER:Ivo Kljenak
X-WR-TIMEZONE:Europe/Ljubljana
END:VEVENT
BEGIN:VEVENT
SUMMARY:Jedrska termohidravlika - Pisni izpit
DTSTART;TZID=Europe/Ljubljana:20250121T110000
DTEND;TZID=Europe/Ljubljana:20250121T150000
DTSTAMP:20260423T235831Z
UID:fmf-AFLABS-URNIK:rezervacija:20304
ATTENDEE:1. letnik (Jedrska tehnika, 2. stopnja)
ATTENDEE:2. letnik (Jedrska tehnika, 2. stopnja)
CATEGORIES:Reservation
COLOR:royalblue
DESCRIPTION:Predmeti: Jedrska termohidravlika (JET-1\, JET-2)\nLetniki: 1.
  letnik (Jedrska tehnika\, 2. stopnja)\, 2. letnik (Jedrska tehnika\, 2. s
 topnja)\nIzvajalci: Ivo Kljenak\nProstori: F5
LOCATION:F5
ORGANIZER:Ivo Kljenak
X-WR-TIMEZONE:Europe/Ljubljana
END:VEVENT
BEGIN:VEVENT
SUMMARY:Jedrska termohidravlika - Ustni izpit
DTSTART;TZID=Europe/Ljubljana:20250123T100000
DTEND;TZID=Europe/Ljubljana:20250123T120000
DTSTAMP:20260423T235831Z
UID:fmf-AFLABS-URNIK:rezervacija:20307
ATTENDEE:1. letnik (Jedrska tehnika, 2. stopnja)
ATTENDEE:2. letnik (Jedrska tehnika, 2. stopnja)
CATEGORIES:Reservation
COLOR:royalblue
DESCRIPTION:Predmeti: Jedrska termohidravlika (JET-1\, JET-2)\nLetniki: 1.
  letnik (Jedrska tehnika\, 2. stopnja)\, 2. letnik (Jedrska tehnika\, 2. s
 topnja)\nIzvajalci: Ivo Kljenak\nProstori: F3
LOCATION:F3
ORGANIZER:Ivo Kljenak
X-WR-TIMEZONE:Europe/Ljubljana
END:VEVENT
BEGIN:VEVENT
SUMMARY:Jedrska termohidravlika - Ustni izpit
DTSTART;TZID=Europe/Ljubljana:20250213T110000
DTEND;TZID=Europe/Ljubljana:20250213T130000
DTSTAMP:20260423T235831Z
UID:fmf-AFLABS-URNIK:rezervacija:20697
ATTENDEE:1. letnik (Jedrska tehnika, 2. stopnja)
ATTENDEE:2. letnik (Jedrska tehnika, 2. stopnja)
ATTENDEE:doktorski študij (M)
CATEGORIES:Reservation
COLOR:royalblue
DESCRIPTION:Predmeti:  (MAT-D)\, Jedrska termohidravlika (JET-1\, JET-2)\n
 Letniki: 1. letnik (Jedrska tehnika\, 2. stopnja)\, 2. letnik (Jedrska teh
 nika\, 2. stopnja)\, doktorski študij (M)\nIzvajalci: Ivo Kljenak\nProsto
 ri: F3
LOCATION:F3
ORGANIZER:Ivo Kljenak
X-WR-TIMEZONE:Europe/Ljubljana
END:VEVENT
BEGIN:VEVENT
SUMMARY:Jedrska termohidravlika - Pisni izpit
DTSTART;TZID=Europe/Ljubljana:20250211T110000
DTEND;TZID=Europe/Ljubljana:20250211T150000
DTSTAMP:20260423T235831Z
UID:fmf-AFLABS-URNIK:rezervacija:20698
ATTENDEE:1. letnik (Jedrska tehnika, 2. stopnja)
ATTENDEE:2. letnik (Jedrska tehnika, 2. stopnja)
CATEGORIES:Reservation
COLOR:royalblue
DESCRIPTION:Predmeti: Jedrska termohidravlika (JET-1\, JET-2)\nLetniki: 1.
  letnik (Jedrska tehnika\, 2. stopnja)\, 2. letnik (Jedrska tehnika\, 2. s
 topnja)\nIzvajalci: Ivo Kljenak\nProstori: F4
LOCATION:F4
ORGANIZER:Ivo Kljenak
X-WR-TIMEZONE:Europe/Ljubljana
END:VEVENT
END:VCALENDAR
