BEGIN:VCALENDAR
VERSION:2.0
PRODID:-//AFLabs urnik izvoz - fmf//aflabs.si//SI
DTSTAMP:20260420T201743Z
NAME:UL FMF urnik
REFRESH-INTERVAL:PT1H
SOURCE:https://urnik.fmf.uni-lj.si/teacher/529?day=2026-02-02&export=1
URL:https://urnik.fmf.uni-lj.si/teacher/529?day=2026-02-02&export=1
X-PUBLISHED-TTL:PT1H
X-WR-CALNAME:UL FMF urnik
X-WR-TIMEZONE:Europe/Ljubljana
BEGIN:VTIMEZONE
TZID:Europe/Ljubljana
BEGIN:DAYLIGHT
DTSTART:20260329T020000
RDATE:20260329T020000
RDATE:20270328T020000
TZNAME:CEST
TZOFFSETFROM:+0100
TZOFFSETTO:+0200
END:DAYLIGHT
BEGIN:STANDARD
DTSTART:20261025T030000
RDATE:20261025T030000
RDATE:20271031T030000
TZNAME:CET
TZOFFSETFROM:+0200
TZOFFSETTO:+0100
END:STANDARD
END:VTIMEZONE
BEGIN:VEVENT
SUMMARY:Jedrska varnost - 1. izpitni rok - Pisni izpit
DTSTART;TZID=Europe/Ljubljana:20260128T100000
DTEND;TZID=Europe/Ljubljana:20260128T120000
DTSTAMP:20260420T201743Z
UID:fmf-AFLABS-URNIK:rezervacija:26102
ATTENDEE:1. letnik (Jedrska tehnika, 2. stopnja)
ATTENDEE:2. letnik (Jedrska tehnika, 2. stopnja)
CATEGORIES:Reservation
COLOR:royalblue
DESCRIPTION:Predmeti: Jedrska varnost (JET-1\, JET-2)\nLetniki: 1. letnik 
 (Jedrska tehnika\, 2. stopnja)\, 2. letnik (Jedrska tehnika\, 2. stopnja)\
 nIzvajalci: Ivo Kljenak\nProstori: F7
LOCATION:F7
ORGANIZER:Ivo Kljenak
X-WR-TIMEZONE:Europe/Ljubljana
END:VEVENT
BEGIN:VEVENT
SUMMARY:Jedrska varnost - 2. izpitni rok - Pisni izpit
DTSTART;TZID=Europe/Ljubljana:20260209T100000
DTEND;TZID=Europe/Ljubljana:20260209T120000
DTSTAMP:20260420T201743Z
UID:fmf-AFLABS-URNIK:rezervacija:26103
ATTENDEE:1. letnik (Jedrska tehnika, 2. stopnja)
ATTENDEE:2. letnik (Jedrska tehnika, 2. stopnja)
CATEGORIES:Reservation
COLOR:royalblue
DESCRIPTION:Predmeti: Jedrska varnost (JET-1\, JET-2)\nLetniki: 1. letnik 
 (Jedrska tehnika\, 2. stopnja)\, 2. letnik (Jedrska tehnika\, 2. stopnja)\
 nIzvajalci: Ivo Kljenak\nProstori: F7
LOCATION:F7
ORGANIZER:Ivo Kljenak
X-WR-TIMEZONE:Europe/Ljubljana
END:VEVENT
BEGIN:VEVENT
SUMMARY:Jedrska varnost - 1. izpitni rok - Ustni izpit
DTSTART;TZID=Europe/Ljubljana:20260202T090000
DTEND;TZID=Europe/Ljubljana:20260202T150000
DTSTAMP:20260420T201743Z
UID:fmf-AFLABS-URNIK:rezervacija:26104
ATTENDEE:1. letnik (Jedrska tehnika, 2. stopnja)
ATTENDEE:2. letnik (Jedrska tehnika, 2. stopnja)
CATEGORIES:Reservation
COLOR:royalblue
DESCRIPTION:Predmeti: Jedrska varnost (JET-1\, JET-2)\nLetniki: 1. letnik 
 (Jedrska tehnika\, 2. stopnja)\, 2. letnik (Jedrska tehnika\, 2. stopnja)\
 nIzvajalci: Ivo Kljenak\nProstori: F7
LOCATION:F7
ORGANIZER:Ivo Kljenak
X-WR-TIMEZONE:Europe/Ljubljana
END:VEVENT
BEGIN:VEVENT
SUMMARY:Jedrska varnost - Nadomeščanje
DTSTART;TZID=Europe/Ljubljana:20260119T150000
DTEND;TZID=Europe/Ljubljana:20260119T170000
DTSTAMP:20260420T201743Z
UID:fmf-AFLABS-URNIK:rezervacija:26384
ATTENDEE:1. letnik (Jedrska tehnika, 2. stopnja)
ATTENDEE:2. letnik (Jedrska tehnika, 2. stopnja)
CATEGORIES:Reservation
COLOR:royalblue
DESCRIPTION:Predmeti: Jedrska varnost (JET-1\, JET-2)\nLetniki: 1. letnik 
 (Jedrska tehnika\, 2. stopnja)\, 2. letnik (Jedrska tehnika\, 2. stopnja)\
 nIzvajalci: Ivo Kljenak\nProstori: 1.01
LOCATION:1.01
ORGANIZER:Ivo Kljenak
X-WR-TIMEZONE:Europe/Ljubljana
END:VEVENT
BEGIN:VEVENT
SUMMARY:Jedrska varnost - 2. izpitni rok - Ustni izpit
DTSTART;TZID=Europe/Ljubljana:20260213T090000
DTEND;TZID=Europe/Ljubljana:20260213T150000
DTSTAMP:20260420T201743Z
UID:fmf-AFLABS-URNIK:rezervacija:26823
ATTENDEE:1. letnik (Jedrska tehnika, 2. stopnja)
ATTENDEE:2. letnik (Jedrska tehnika, 2. stopnja)
CATEGORIES:Reservation
COLOR:royalblue
DESCRIPTION:Predmeti: Jedrska varnost (JET-1\, JET-2)\nLetniki: 1. letnik 
 (Jedrska tehnika\, 2. stopnja)\, 2. letnik (Jedrska tehnika\, 2. stopnja)\
 nIzvajalci: Ivo Kljenak\nProstori: 2.04
LOCATION:2.04
ORGANIZER:Ivo Kljenak
X-WR-TIMEZONE:Europe/Ljubljana
END:VEVENT
END:VCALENDAR
