BEGIN:VCALENDAR
VERSION:2.0
PRODID:-//AFLabs urnik izvoz - fmf//aflabs.si//SI
DTSTAMP:20260421T070539Z
NAME:UL FMF urnik
REFRESH-INTERVAL:PT1H
SOURCE:https://urnik.fmf.uni-lj.si/teacher/530?day=2024-10-28&export=1
URL:https://urnik.fmf.uni-lj.si/teacher/530?day=2024-10-28&export=1
X-PUBLISHED-TTL:PT1H
X-WR-CALNAME:UL FMF urnik
X-WR-TIMEZONE:Europe/Ljubljana
BEGIN:VTIMEZONE
TZID:Europe/Ljubljana
BEGIN:DAYLIGHT
DTSTART:20260329T020000
RDATE:20260329T020000
RDATE:20270328T020000
TZNAME:CEST
TZOFFSETFROM:+0100
TZOFFSETTO:+0200
END:DAYLIGHT
BEGIN:STANDARD
DTSTART:20261025T030000
RDATE:20261025T030000
RDATE:20271031T030000
TZNAME:CET
TZOFFSETFROM:+0200
TZOFFSETTO:+0100
END:STANDARD
END:VTIMEZONE
BEGIN:VEVENT
SUMMARY:Jedrska termohidravlika (JET-1\, JET-2)\, Vaje (V)
DTSTART;TZID=Europe/Ljubljana:20241001T160000
DTEND;TZID=Europe/Ljubljana:20241001T180000
DTSTAMP:20260421T070539Z
UID:fmf-AFLABS-URNIK:premaknjeno-srecanje:180577
ATTENDEE:1. letnik (Jedrska tehnika, 2. stopnja)
ATTENDEE:2. letnik (Jedrska tehnika, 2. stopnja)
CATEGORIES:Entry,Standard
COLOR:darkgreen
DESCRIPTION:Predmet: Jedrska termohidravlika (JET-1\, JET-2)\, Vaje (V)\nL
 etniki: 1. letnik (Jedrska tehnika\, 2. stopnja)\, 2. letnik (Jedrska tehn
 ika\, 2. stopnja)\nIzvajalci: Boštjan Končar\nProstor: F5
LOCATION:F5
ORGANIZER:Boštjan Končar
RELATED-TO:fmf-AFLABS-URNIK:srecanje:13758
X-WR-TIMEZONE:Europe/Ljubljana
END:VEVENT
BEGIN:VEVENT
SUMMARY:Jedrska termohidravlika (JET-1\, JET-2)\, Vaje (V)
DTSTART;TZID=Europe/Ljubljana:20241008T160000
DTEND;TZID=Europe/Ljubljana:20241008T180000
DTSTAMP:20260421T070539Z
UID:fmf-AFLABS-URNIK:premaknjeno-srecanje:180578
ATTENDEE:1. letnik (Jedrska tehnika, 2. stopnja)
ATTENDEE:2. letnik (Jedrska tehnika, 2. stopnja)
CATEGORIES:Entry,Standard
COLOR:darkgreen
DESCRIPTION:Predmet: Jedrska termohidravlika (JET-1\, JET-2)\, Vaje (V)\nL
 etniki: 1. letnik (Jedrska tehnika\, 2. stopnja)\, 2. letnik (Jedrska tehn
 ika\, 2. stopnja)\nIzvajalci: Boštjan Končar\nProstor: F5
LOCATION:F5
ORGANIZER:Boštjan Končar
RELATED-TO:fmf-AFLABS-URNIK:srecanje:13758
X-WR-TIMEZONE:Europe/Ljubljana
END:VEVENT
BEGIN:VEVENT
SUMMARY:Jedrska termohidravlika (JET-1\, JET-2)\, Vaje (V)
DTSTART;TZID=Europe/Ljubljana:20241015T160000
DTEND;TZID=Europe/Ljubljana:20241015T180000
DTSTAMP:20260421T070539Z
UID:fmf-AFLABS-URNIK:premaknjeno-srecanje:180579
ATTENDEE:1. letnik (Jedrska tehnika, 2. stopnja)
ATTENDEE:2. letnik (Jedrska tehnika, 2. stopnja)
CATEGORIES:Entry,Standard
COLOR:darkgreen
DESCRIPTION:Predmet: Jedrska termohidravlika (JET-1\, JET-2)\, Vaje (V)\nL
 etniki: 1. letnik (Jedrska tehnika\, 2. stopnja)\, 2. letnik (Jedrska tehn
 ika\, 2. stopnja)\nIzvajalci: Boštjan Končar\nProstor: F5
LOCATION:F5
ORGANIZER:Boštjan Končar
RELATED-TO:fmf-AFLABS-URNIK:srecanje:13758
X-WR-TIMEZONE:Europe/Ljubljana
END:VEVENT
BEGIN:VEVENT
SUMMARY:Jedrska termohidravlika (JET-1\, JET-2)\, Vaje (V)
DTSTART;TZID=Europe/Ljubljana:20241022T160000
DTEND;TZID=Europe/Ljubljana:20241022T180000
DTSTAMP:20260421T070539Z
UID:fmf-AFLABS-URNIK:premaknjeno-srecanje:180580
ATTENDEE:1. letnik (Jedrska tehnika, 2. stopnja)
ATTENDEE:2. letnik (Jedrska tehnika, 2. stopnja)
CATEGORIES:Entry,Standard
COLOR:darkgreen
DESCRIPTION:Predmet: Jedrska termohidravlika (JET-1\, JET-2)\, Vaje (V)\nL
 etniki: 1. letnik (Jedrska tehnika\, 2. stopnja)\, 2. letnik (Jedrska tehn
 ika\, 2. stopnja)\nIzvajalci: Boštjan Končar\nProstor: F5
LOCATION:F5
ORGANIZER:Boštjan Končar
RELATED-TO:fmf-AFLABS-URNIK:srecanje:13758
X-WR-TIMEZONE:Europe/Ljubljana
END:VEVENT
BEGIN:VEVENT
SUMMARY:Jedrska termohidravlika (JET-1\, JET-2)\, Vaje (V)
DTSTART;TZID=Europe/Ljubljana:20241029T160000
DTEND;TZID=Europe/Ljubljana:20241029T180000
DTSTAMP:20260421T070539Z
UID:fmf-AFLABS-URNIK:premaknjeno-srecanje:180581
ATTENDEE:1. letnik (Jedrska tehnika, 2. stopnja)
ATTENDEE:2. letnik (Jedrska tehnika, 2. stopnja)
CATEGORIES:Entry,Standard
COLOR:darkgreen
DESCRIPTION:Predmet: Jedrska termohidravlika (JET-1\, JET-2)\, Vaje (V)\nL
 etniki: 1. letnik (Jedrska tehnika\, 2. stopnja)\, 2. letnik (Jedrska tehn
 ika\, 2. stopnja)\nIzvajalci: Boštjan Končar\nProstor: F5
LOCATION:F5
ORGANIZER:Boštjan Končar
RELATED-TO:fmf-AFLABS-URNIK:srecanje:13758
X-WR-TIMEZONE:Europe/Ljubljana
END:VEVENT
BEGIN:VEVENT
SUMMARY:Jedrska termohidravlika (JET-1\, JET-2)\, Vaje (V)
DTSTART;TZID=Europe/Ljubljana:20241105T160000
DTEND;TZID=Europe/Ljubljana:20241105T180000
DTSTAMP:20260421T070539Z
UID:fmf-AFLABS-URNIK:premaknjeno-srecanje:180582
ATTENDEE:1. letnik (Jedrska tehnika, 2. stopnja)
ATTENDEE:2. letnik (Jedrska tehnika, 2. stopnja)
CATEGORIES:Entry,Standard
COLOR:darkgreen
DESCRIPTION:Predmet: Jedrska termohidravlika (JET-1\, JET-2)\, Vaje (V)\nL
 etniki: 1. letnik (Jedrska tehnika\, 2. stopnja)\, 2. letnik (Jedrska tehn
 ika\, 2. stopnja)\nIzvajalci: Boštjan Končar\nProstor: F5
LOCATION:F5
ORGANIZER:Boštjan Končar
RELATED-TO:fmf-AFLABS-URNIK:srecanje:13758
X-WR-TIMEZONE:Europe/Ljubljana
END:VEVENT
BEGIN:VEVENT
SUMMARY:Jedrska termohidravlika (JET-1\, JET-2)\, Vaje (V)
DTSTART;TZID=Europe/Ljubljana:20241112T160000
DTEND;TZID=Europe/Ljubljana:20241112T180000
DTSTAMP:20260421T070539Z
UID:fmf-AFLABS-URNIK:premaknjeno-srecanje:180583
ATTENDEE:1. letnik (Jedrska tehnika, 2. stopnja)
ATTENDEE:2. letnik (Jedrska tehnika, 2. stopnja)
CATEGORIES:Entry,Standard
COLOR:darkgreen
DESCRIPTION:Predmet: Jedrska termohidravlika (JET-1\, JET-2)\, Vaje (V)\nL
 etniki: 1. letnik (Jedrska tehnika\, 2. stopnja)\, 2. letnik (Jedrska tehn
 ika\, 2. stopnja)\nIzvajalci: Boštjan Končar\nProstor: F5
LOCATION:F5
ORGANIZER:Boštjan Končar
RELATED-TO:fmf-AFLABS-URNIK:srecanje:13758
X-WR-TIMEZONE:Europe/Ljubljana
END:VEVENT
BEGIN:VEVENT
SUMMARY:Jedrska termohidravlika (JET-1\, JET-2)\, Vaje (V)
DTSTART;TZID=Europe/Ljubljana:20241119T160000
DTEND;TZID=Europe/Ljubljana:20241119T180000
DTSTAMP:20260421T070539Z
UID:fmf-AFLABS-URNIK:premaknjeno-srecanje:180584
ATTENDEE:1. letnik (Jedrska tehnika, 2. stopnja)
ATTENDEE:2. letnik (Jedrska tehnika, 2. stopnja)
CATEGORIES:Entry,Standard
COLOR:darkgreen
DESCRIPTION:Predmet: Jedrska termohidravlika (JET-1\, JET-2)\, Vaje (V)\nL
 etniki: 1. letnik (Jedrska tehnika\, 2. stopnja)\, 2. letnik (Jedrska tehn
 ika\, 2. stopnja)\nIzvajalci: Boštjan Končar\nProstor: F5
LOCATION:F5
ORGANIZER:Boštjan Končar
RELATED-TO:fmf-AFLABS-URNIK:srecanje:13758
X-WR-TIMEZONE:Europe/Ljubljana
END:VEVENT
BEGIN:VEVENT
SUMMARY:Jedrska termohidravlika (JET-1\, JET-2)\, Vaje (V)
DTSTART;TZID=Europe/Ljubljana:20241126T160000
DTEND;TZID=Europe/Ljubljana:20241126T180000
DTSTAMP:20260421T070539Z
UID:fmf-AFLABS-URNIK:premaknjeno-srecanje:180585
ATTENDEE:1. letnik (Jedrska tehnika, 2. stopnja)
ATTENDEE:2. letnik (Jedrska tehnika, 2. stopnja)
CATEGORIES:Entry,Standard
COLOR:darkgreen
DESCRIPTION:Predmet: Jedrska termohidravlika (JET-1\, JET-2)\, Vaje (V)\nL
 etniki: 1. letnik (Jedrska tehnika\, 2. stopnja)\, 2. letnik (Jedrska tehn
 ika\, 2. stopnja)\nIzvajalci: Boštjan Končar\nProstor: F5
LOCATION:F5
ORGANIZER:Boštjan Končar
RELATED-TO:fmf-AFLABS-URNIK:srecanje:13758
X-WR-TIMEZONE:Europe/Ljubljana
END:VEVENT
BEGIN:VEVENT
SUMMARY:Jedrska termohidravlika (JET-1\, JET-2)\, Vaje (V)
DTSTART;TZID=Europe/Ljubljana:20241203T160000
DTEND;TZID=Europe/Ljubljana:20241203T180000
DTSTAMP:20260421T070539Z
UID:fmf-AFLABS-URNIK:premaknjeno-srecanje:180586
ATTENDEE:1. letnik (Jedrska tehnika, 2. stopnja)
ATTENDEE:2. letnik (Jedrska tehnika, 2. stopnja)
CATEGORIES:Entry,Standard
COLOR:darkgreen
DESCRIPTION:Predmet: Jedrska termohidravlika (JET-1\, JET-2)\, Vaje (V)\nL
 etniki: 1. letnik (Jedrska tehnika\, 2. stopnja)\, 2. letnik (Jedrska tehn
 ika\, 2. stopnja)\nIzvajalci: Boštjan Končar\nProstor: F5
LOCATION:F5
ORGANIZER:Boštjan Končar
RELATED-TO:fmf-AFLABS-URNIK:srecanje:13758
X-WR-TIMEZONE:Europe/Ljubljana
END:VEVENT
BEGIN:VEVENT
SUMMARY:Jedrska termohidravlika (JET-1\, JET-2)\, Vaje (V)
DTSTART;TZID=Europe/Ljubljana:20241210T160000
DTEND;TZID=Europe/Ljubljana:20241210T180000
DTSTAMP:20260421T070539Z
UID:fmf-AFLABS-URNIK:premaknjeno-srecanje:180587
ATTENDEE:1. letnik (Jedrska tehnika, 2. stopnja)
ATTENDEE:2. letnik (Jedrska tehnika, 2. stopnja)
CATEGORIES:Entry,Standard
COLOR:darkgreen
DESCRIPTION:Predmet: Jedrska termohidravlika (JET-1\, JET-2)\, Vaje (V)\nL
 etniki: 1. letnik (Jedrska tehnika\, 2. stopnja)\, 2. letnik (Jedrska tehn
 ika\, 2. stopnja)\nIzvajalci: Boštjan Končar\nProstor: F5
LOCATION:F5
ORGANIZER:Boštjan Končar
RELATED-TO:fmf-AFLABS-URNIK:srecanje:13758
X-WR-TIMEZONE:Europe/Ljubljana
END:VEVENT
BEGIN:VEVENT
SUMMARY:Jedrska termohidravlika (JET-1\, JET-2)\, Vaje (V)
DTSTART;TZID=Europe/Ljubljana:20241217T160000
DTEND;TZID=Europe/Ljubljana:20241217T180000
DTSTAMP:20260421T070539Z
UID:fmf-AFLABS-URNIK:premaknjeno-srecanje:180588
ATTENDEE:1. letnik (Jedrska tehnika, 2. stopnja)
ATTENDEE:2. letnik (Jedrska tehnika, 2. stopnja)
CATEGORIES:Entry,Standard
COLOR:darkgreen
DESCRIPTION:Predmet: Jedrska termohidravlika (JET-1\, JET-2)\, Vaje (V)\nL
 etniki: 1. letnik (Jedrska tehnika\, 2. stopnja)\, 2. letnik (Jedrska tehn
 ika\, 2. stopnja)\nIzvajalci: Boštjan Končar\nProstor: F5
LOCATION:F5
ORGANIZER:Boštjan Končar
RELATED-TO:fmf-AFLABS-URNIK:srecanje:13758
X-WR-TIMEZONE:Europe/Ljubljana
END:VEVENT
BEGIN:VEVENT
SUMMARY:Jedrska termohidravlika (JET-1\, JET-2)\, Vaje (V)
DTSTART;TZID=Europe/Ljubljana:20241224T160000
DTEND;TZID=Europe/Ljubljana:20241224T180000
DTSTAMP:20260421T070539Z
UID:fmf-AFLABS-URNIK:premaknjeno-srecanje:180589
ATTENDEE:1. letnik (Jedrska tehnika, 2. stopnja)
ATTENDEE:2. letnik (Jedrska tehnika, 2. stopnja)
CATEGORIES:Entry,Standard
COLOR:darkgreen
DESCRIPTION:Predmet: Jedrska termohidravlika (JET-1\, JET-2)\, Vaje (V)\nL
 etniki: 1. letnik (Jedrska tehnika\, 2. stopnja)\, 2. letnik (Jedrska tehn
 ika\, 2. stopnja)\nIzvajalci: Boštjan Končar\nProstor: F5
LOCATION:F5
ORGANIZER:Boštjan Končar
RELATED-TO:fmf-AFLABS-URNIK:srecanje:13758
X-WR-TIMEZONE:Europe/Ljubljana
END:VEVENT
BEGIN:VEVENT
SUMMARY:Jedrska termohidravlika (JET-1\, JET-2)\, Vaje (V)
DTSTART;TZID=Europe/Ljubljana:20241231T160000
DTEND;TZID=Europe/Ljubljana:20241231T180000
DTSTAMP:20260421T070539Z
UID:fmf-AFLABS-URNIK:premaknjeno-srecanje:180590
ATTENDEE:1. letnik (Jedrska tehnika, 2. stopnja)
ATTENDEE:2. letnik (Jedrska tehnika, 2. stopnja)
CATEGORIES:Entry,Standard
COLOR:darkgreen
DESCRIPTION:Predmet: Jedrska termohidravlika (JET-1\, JET-2)\, Vaje (V)\nL
 etniki: 1. letnik (Jedrska tehnika\, 2. stopnja)\, 2. letnik (Jedrska tehn
 ika\, 2. stopnja)\nIzvajalci: Boštjan Končar\nProstor: F5
LOCATION:F5
ORGANIZER:Boštjan Končar
RELATED-TO:fmf-AFLABS-URNIK:srecanje:13758
X-WR-TIMEZONE:Europe/Ljubljana
END:VEVENT
BEGIN:VEVENT
SUMMARY:Jedrska termohidravlika (JET-1\, JET-2)\, Vaje (V)
DTSTART;TZID=Europe/Ljubljana:20250107T160000
DTEND;TZID=Europe/Ljubljana:20250107T180000
DTSTAMP:20260421T070539Z
UID:fmf-AFLABS-URNIK:premaknjeno-srecanje:180591
ATTENDEE:1. letnik (Jedrska tehnika, 2. stopnja)
ATTENDEE:2. letnik (Jedrska tehnika, 2. stopnja)
CATEGORIES:Entry,Standard
COLOR:darkgreen
DESCRIPTION:Predmet: Jedrska termohidravlika (JET-1\, JET-2)\, Vaje (V)\nL
 etniki: 1. letnik (Jedrska tehnika\, 2. stopnja)\, 2. letnik (Jedrska tehn
 ika\, 2. stopnja)\nIzvajalci: Boštjan Končar\nProstor: F5
LOCATION:F5
ORGANIZER:Boštjan Končar
RELATED-TO:fmf-AFLABS-URNIK:srecanje:13758
X-WR-TIMEZONE:Europe/Ljubljana
END:VEVENT
BEGIN:VEVENT
SUMMARY:Jedrska termohidravlika (JET-1\, JET-2)\, Vaje (V)
DTSTART;TZID=Europe/Ljubljana:20250114T160000
DTEND;TZID=Europe/Ljubljana:20250114T180000
DTSTAMP:20260421T070539Z
UID:fmf-AFLABS-URNIK:premaknjeno-srecanje:186841
ATTENDEE:1. letnik (Jedrska tehnika, 2. stopnja)
ATTENDEE:2. letnik (Jedrska tehnika, 2. stopnja)
CATEGORIES:Entry,Standard
COLOR:darkgreen
DESCRIPTION:Predmet: Jedrska termohidravlika (JET-1\, JET-2)\, Vaje (V)\nL
 etniki: 1. letnik (Jedrska tehnika\, 2. stopnja)\, 2. letnik (Jedrska tehn
 ika\, 2. stopnja)\nIzvajalci: Boštjan Končar\nProstor: F5
LOCATION:F5
ORGANIZER:Boštjan Končar
RELATED-TO:fmf-AFLABS-URNIK:srecanje:13758
X-WR-TIMEZONE:Europe/Ljubljana
END:VEVENT
END:VCALENDAR
