BEGIN:VCALENDAR
VERSION:2.0
PRODID:-//AFLabs urnik izvoz - fmf//aflabs.si//SI
DTSTAMP:20260421T205921Z
NAME:UL FMF urnik
REFRESH-INTERVAL:PT1H
SOURCE:https://urnik.fmf.uni-lj.si/teacher/544?day=2024-01-08&export=1
URL:https://urnik.fmf.uni-lj.si/teacher/544?day=2024-01-08&export=1
X-PUBLISHED-TTL:PT1H
X-WR-CALNAME:UL FMF urnik
X-WR-TIMEZONE:Europe/Ljubljana
BEGIN:VTIMEZONE
TZID:Europe/Ljubljana
BEGIN:DAYLIGHT
DTSTART:20260329T020000
RDATE:20260329T020000
RDATE:20270328T020000
TZNAME:CEST
TZOFFSETFROM:+0100
TZOFFSETTO:+0200
END:DAYLIGHT
BEGIN:STANDARD
DTSTART:20261025T030000
RDATE:20261025T030000
RDATE:20271031T030000
TZNAME:CET
TZOFFSETFROM:+0200
TZOFFSETTO:+0100
END:STANDARD
END:VTIMEZONE
BEGIN:VEVENT
SUMMARY:Moderna fizika (APF-3)\, Vaje (V)
DTSTART;TZID=Europe/Ljubljana:20231003T140000
DTEND;TZID=Europe/Ljubljana:20231003T160000
DTSTAMP:20260421T205921Z
UID:fmf-AFLABS-URNIK:premaknjeno-srecanje:73954
ATTENDEE:3. letnik (Aplikativna fizika)
CATEGORIES:Entry,Standard
COLOR:darkgreen
DESCRIPTION:Predmet: Moderna fizika (APF-3)\, Vaje (V)\nLetniki: 3. letnik
  (Aplikativna fizika)\nIzvajalci: Katja Gosar\nProstor: F6
LOCATION:F6
ORGANIZER:Katja Gosar
RELATED-TO:fmf-AFLABS-URNIK:srecanje:9334
X-WR-TIMEZONE:Europe/Ljubljana
END:VEVENT
BEGIN:VEVENT
SUMMARY:Moderna fizika (APF-3)\, Vaje (V)
DTSTART;TZID=Europe/Ljubljana:20231010T140000
DTEND;TZID=Europe/Ljubljana:20231010T160000
DTSTAMP:20260421T205921Z
UID:fmf-AFLABS-URNIK:premaknjeno-srecanje:73955
ATTENDEE:3. letnik (Aplikativna fizika)
CATEGORIES:Entry,Standard
COLOR:darkgreen
DESCRIPTION:Predmet: Moderna fizika (APF-3)\, Vaje (V)\nLetniki: 3. letnik
  (Aplikativna fizika)\nIzvajalci: Katja Gosar\nProstor: F6
LOCATION:F6
ORGANIZER:Katja Gosar
RELATED-TO:fmf-AFLABS-URNIK:srecanje:9334
X-WR-TIMEZONE:Europe/Ljubljana
END:VEVENT
BEGIN:VEVENT
SUMMARY:Moderna fizika (APF-3)\, Vaje (V)
DTSTART;TZID=Europe/Ljubljana:20231017T140000
DTEND;TZID=Europe/Ljubljana:20231017T160000
DTSTAMP:20260421T205921Z
UID:fmf-AFLABS-URNIK:premaknjeno-srecanje:73956
ATTENDEE:3. letnik (Aplikativna fizika)
CATEGORIES:Entry,Standard
COLOR:darkgreen
DESCRIPTION:Predmet: Moderna fizika (APF-3)\, Vaje (V)\nLetniki: 3. letnik
  (Aplikativna fizika)\nIzvajalci: Katja Gosar\nProstor: F6
LOCATION:F6
ORGANIZER:Katja Gosar
RELATED-TO:fmf-AFLABS-URNIK:srecanje:9334
X-WR-TIMEZONE:Europe/Ljubljana
END:VEVENT
BEGIN:VEVENT
SUMMARY:Moderna fizika (APF-3)\, Vaje (V)
DTSTART;TZID=Europe/Ljubljana:20231024T140000
DTEND;TZID=Europe/Ljubljana:20231024T160000
DTSTAMP:20260421T205921Z
UID:fmf-AFLABS-URNIK:premaknjeno-srecanje:73957
ATTENDEE:3. letnik (Aplikativna fizika)
CATEGORIES:Entry,Standard
COLOR:darkgreen
DESCRIPTION:Predmet: Moderna fizika (APF-3)\, Vaje (V)\nLetniki: 3. letnik
  (Aplikativna fizika)\nIzvajalci: Katja Gosar\nProstor: F6
LOCATION:F6
ORGANIZER:Katja Gosar
RELATED-TO:fmf-AFLABS-URNIK:srecanje:9334
X-WR-TIMEZONE:Europe/Ljubljana
END:VEVENT
BEGIN:VEVENT
SUMMARY:Moderna fizika (APF-3)\, Vaje (V)
DTSTART;TZID=Europe/Ljubljana:20231031T140000
DTEND;TZID=Europe/Ljubljana:20231031T160000
DTSTAMP:20260421T205921Z
UID:fmf-AFLABS-URNIK:premaknjeno-srecanje:73958
ATTENDEE:3. letnik (Aplikativna fizika)
CATEGORIES:Entry,Standard
COLOR:darkgreen
DESCRIPTION:Predmet: Moderna fizika (APF-3)\, Vaje (V)\nLetniki: 3. letnik
  (Aplikativna fizika)\nIzvajalci: Katja Gosar\nProstor: F6
LOCATION:F6
ORGANIZER:Katja Gosar
RELATED-TO:fmf-AFLABS-URNIK:srecanje:9334
X-WR-TIMEZONE:Europe/Ljubljana
END:VEVENT
BEGIN:VEVENT
SUMMARY:Moderna fizika (APF-3)\, Vaje (V)
DTSTART;TZID=Europe/Ljubljana:20231107T140000
DTEND;TZID=Europe/Ljubljana:20231107T160000
DTSTAMP:20260421T205921Z
UID:fmf-AFLABS-URNIK:premaknjeno-srecanje:73959
ATTENDEE:3. letnik (Aplikativna fizika)
CATEGORIES:Entry,Standard
COLOR:darkgreen
DESCRIPTION:Predmet: Moderna fizika (APF-3)\, Vaje (V)\nLetniki: 3. letnik
  (Aplikativna fizika)\nIzvajalci: Katja Gosar\nProstor: F6
LOCATION:F6
ORGANIZER:Katja Gosar
RELATED-TO:fmf-AFLABS-URNIK:srecanje:9334
X-WR-TIMEZONE:Europe/Ljubljana
END:VEVENT
BEGIN:VEVENT
SUMMARY:Moderna fizika (APF-3)\, Vaje (V)
DTSTART;TZID=Europe/Ljubljana:20231114T140000
DTEND;TZID=Europe/Ljubljana:20231114T160000
DTSTAMP:20260421T205921Z
UID:fmf-AFLABS-URNIK:premaknjeno-srecanje:73960
ATTENDEE:3. letnik (Aplikativna fizika)
CATEGORIES:Entry,Standard
COLOR:darkgreen
DESCRIPTION:Predmet: Moderna fizika (APF-3)\, Vaje (V)\nLetniki: 3. letnik
  (Aplikativna fizika)\nIzvajalci: Katja Gosar\nProstor: F6
LOCATION:F6
ORGANIZER:Katja Gosar
RELATED-TO:fmf-AFLABS-URNIK:srecanje:9334
X-WR-TIMEZONE:Europe/Ljubljana
END:VEVENT
BEGIN:VEVENT
SUMMARY:Moderna fizika (APF-3)\, Vaje (V)
DTSTART;TZID=Europe/Ljubljana:20231121T140000
DTEND;TZID=Europe/Ljubljana:20231121T160000
DTSTAMP:20260421T205921Z
UID:fmf-AFLABS-URNIK:premaknjeno-srecanje:73961
ATTENDEE:3. letnik (Aplikativna fizika)
CATEGORIES:Entry,Standard
COLOR:darkgreen
DESCRIPTION:Predmet: Moderna fizika (APF-3)\, Vaje (V)\nLetniki: 3. letnik
  (Aplikativna fizika)\nIzvajalci: Katja Gosar\nProstor: F6
LOCATION:F6
ORGANIZER:Katja Gosar
RELATED-TO:fmf-AFLABS-URNIK:srecanje:9334
X-WR-TIMEZONE:Europe/Ljubljana
END:VEVENT
BEGIN:VEVENT
SUMMARY:Moderna fizika (APF-3)\, Vaje (V)
DTSTART;TZID=Europe/Ljubljana:20231128T140000
DTEND;TZID=Europe/Ljubljana:20231128T160000
DTSTAMP:20260421T205921Z
UID:fmf-AFLABS-URNIK:premaknjeno-srecanje:73962
ATTENDEE:3. letnik (Aplikativna fizika)
CATEGORIES:Entry,Standard
COLOR:darkgreen
DESCRIPTION:Predmet: Moderna fizika (APF-3)\, Vaje (V)\nLetniki: 3. letnik
  (Aplikativna fizika)\nIzvajalci: Katja Gosar\nProstor: F6
LOCATION:F6
ORGANIZER:Katja Gosar
RELATED-TO:fmf-AFLABS-URNIK:srecanje:9334
X-WR-TIMEZONE:Europe/Ljubljana
END:VEVENT
BEGIN:VEVENT
SUMMARY:Moderna fizika (APF-3)\, Vaje (V)
DTSTART;TZID=Europe/Ljubljana:20231205T140000
DTEND;TZID=Europe/Ljubljana:20231205T160000
DTSTAMP:20260421T205921Z
UID:fmf-AFLABS-URNIK:premaknjeno-srecanje:73963
ATTENDEE:3. letnik (Aplikativna fizika)
CATEGORIES:Entry,Standard
COLOR:darkgreen
DESCRIPTION:Predmet: Moderna fizika (APF-3)\, Vaje (V)\nLetniki: 3. letnik
  (Aplikativna fizika)\nIzvajalci: Katja Gosar\nProstor: F6
LOCATION:F6
ORGANIZER:Katja Gosar
RELATED-TO:fmf-AFLABS-URNIK:srecanje:9334
X-WR-TIMEZONE:Europe/Ljubljana
END:VEVENT
BEGIN:VEVENT
SUMMARY:Moderna fizika (APF-3)\, Vaje (V)
DTSTART;TZID=Europe/Ljubljana:20231212T140000
DTEND;TZID=Europe/Ljubljana:20231212T160000
DTSTAMP:20260421T205921Z
UID:fmf-AFLABS-URNIK:premaknjeno-srecanje:73964
ATTENDEE:3. letnik (Aplikativna fizika)
CATEGORIES:Entry,Standard
COLOR:darkgreen
DESCRIPTION:Predmet: Moderna fizika (APF-3)\, Vaje (V)\nLetniki: 3. letnik
  (Aplikativna fizika)\nIzvajalci: Katja Gosar\nProstor: F6
LOCATION:F6
ORGANIZER:Katja Gosar
RELATED-TO:fmf-AFLABS-URNIK:srecanje:9334
X-WR-TIMEZONE:Europe/Ljubljana
END:VEVENT
BEGIN:VEVENT
SUMMARY:Moderna fizika (APF-3)\, Vaje (V)
DTSTART;TZID=Europe/Ljubljana:20231219T140000
DTEND;TZID=Europe/Ljubljana:20231219T160000
DTSTAMP:20260421T205921Z
UID:fmf-AFLABS-URNIK:premaknjeno-srecanje:73965
ATTENDEE:3. letnik (Aplikativna fizika)
CATEGORIES:Entry,Standard
COLOR:darkgreen
DESCRIPTION:Predmet: Moderna fizika (APF-3)\, Vaje (V)\nLetniki: 3. letnik
  (Aplikativna fizika)\nIzvajalci: Katja Gosar\nProstor: F6
LOCATION:F6
ORGANIZER:Katja Gosar
RELATED-TO:fmf-AFLABS-URNIK:srecanje:9334
X-WR-TIMEZONE:Europe/Ljubljana
END:VEVENT
BEGIN:VEVENT
SUMMARY:Moderna fizika (APF-3)\, Vaje (V)
DTSTART;TZID=Europe/Ljubljana:20231226T140000
DTEND;TZID=Europe/Ljubljana:20231226T160000
DTSTAMP:20260421T205921Z
UID:fmf-AFLABS-URNIK:premaknjeno-srecanje:73966
ATTENDEE:3. letnik (Aplikativna fizika)
CATEGORIES:Entry,Standard
COLOR:darkgreen
DESCRIPTION:Predmet: Moderna fizika (APF-3)\, Vaje (V)\nLetniki: 3. letnik
  (Aplikativna fizika)\nIzvajalci: Katja Gosar\nProstor: F6
LOCATION:F6
ORGANIZER:Katja Gosar
RELATED-TO:fmf-AFLABS-URNIK:srecanje:9334
X-WR-TIMEZONE:Europe/Ljubljana
END:VEVENT
BEGIN:VEVENT
SUMMARY:Moderna fizika (APF-3)\, Vaje (V)
DTSTART;TZID=Europe/Ljubljana:20240102T140000
DTEND;TZID=Europe/Ljubljana:20240102T160000
DTSTAMP:20260421T205921Z
UID:fmf-AFLABS-URNIK:premaknjeno-srecanje:73967
ATTENDEE:3. letnik (Aplikativna fizika)
CATEGORIES:Entry,Standard
COLOR:darkgreen
DESCRIPTION:Predmet: Moderna fizika (APF-3)\, Vaje (V)\nLetniki: 3. letnik
  (Aplikativna fizika)\nIzvajalci: Katja Gosar\nProstor: F6
LOCATION:F6
ORGANIZER:Katja Gosar
RELATED-TO:fmf-AFLABS-URNIK:srecanje:9334
X-WR-TIMEZONE:Europe/Ljubljana
END:VEVENT
BEGIN:VEVENT
SUMMARY:Moderna fizika (APF-3)\, Vaje (V)
DTSTART;TZID=Europe/Ljubljana:20240109T140000
DTEND;TZID=Europe/Ljubljana:20240109T160000
DTSTAMP:20260421T205921Z
UID:fmf-AFLABS-URNIK:premaknjeno-srecanje:73968
ATTENDEE:3. letnik (Aplikativna fizika)
CATEGORIES:Entry,Standard
COLOR:darkgreen
DESCRIPTION:Predmet: Moderna fizika (APF-3)\, Vaje (V)\nLetniki: 3. letnik
  (Aplikativna fizika)\nIzvajalci: Katja Gosar\nProstor: F6
LOCATION:F6
ORGANIZER:Katja Gosar
RELATED-TO:fmf-AFLABS-URNIK:srecanje:9334
X-WR-TIMEZONE:Europe/Ljubljana
END:VEVENT
BEGIN:VEVENT
SUMMARY:Moderna fizika (APF-3)\, Vaje (V)
DTSTART;TZID=Europe/Ljubljana:20240116T140000
DTEND;TZID=Europe/Ljubljana:20240116T160000
DTSTAMP:20260421T205921Z
UID:fmf-AFLABS-URNIK:premaknjeno-srecanje:73969
ATTENDEE:3. letnik (Aplikativna fizika)
CATEGORIES:Entry,Standard
COLOR:darkgreen
DESCRIPTION:Predmet: Moderna fizika (APF-3)\, Vaje (V)\nLetniki: 3. letnik
  (Aplikativna fizika)\nIzvajalci: Katja Gosar\nProstor: F6
LOCATION:F6
ORGANIZER:Katja Gosar
RELATED-TO:fmf-AFLABS-URNIK:srecanje:9334
X-WR-TIMEZONE:Europe/Ljubljana
END:VEVENT
BEGIN:VEVENT
SUMMARY:Moderna fizika (APF-3)\, Vaje (V)
DTSTART;TZID=Europe/Ljubljana:20240123T140000
DTEND;TZID=Europe/Ljubljana:20240123T160000
DTSTAMP:20260421T205921Z
UID:fmf-AFLABS-URNIK:premaknjeno-srecanje:73970
ATTENDEE:3. letnik (Aplikativna fizika)
CATEGORIES:Entry,Standard
COLOR:darkgreen
DESCRIPTION:Predmet: Moderna fizika (APF-3)\, Vaje (V)\nLetniki: 3. letnik
  (Aplikativna fizika)\nIzvajalci: Katja Gosar\nProstor: F6
LOCATION:F6
ORGANIZER:Katja Gosar
RELATED-TO:fmf-AFLABS-URNIK:srecanje:9334
X-WR-TIMEZONE:Europe/Ljubljana
END:VEVENT
BEGIN:VEVENT
SUMMARY:Rezervacija
DTSTART;TZID=Europe/Ljubljana:20231207T100000
DTEND;TZID=Europe/Ljubljana:20231207T120000
DTSTAMP:20260421T205921Z
UID:fmf-AFLABS-URNIK:rezervacija:13729
ATTENDEE:3. letnik (Aplikativna fizika)
CATEGORIES:Reservation
COLOR:royalblue
DESCRIPTION:Predmeti: Moderna fizika (APF-3)\nLetniki: 3. letnik (Aplikati
 vna fizika)\nIzvajalci: Katja Gosar\nProstori: F7
LOCATION:F7
ORGANIZER:Katja Gosar
X-WR-TIMEZONE:Europe/Ljubljana
END:VEVENT
BEGIN:VEVENT
SUMMARY:Rezervacija
DTSTART;TZID=Europe/Ljubljana:20240205T090000
DTEND;TZID=Europe/Ljubljana:20240205T110000
DTSTAMP:20260421T205921Z
UID:fmf-AFLABS-URNIK:rezervacija:13951
ATTENDEE:3. letnik (Aplikativna fizika)
CATEGORIES:Reservation
COLOR:royalblue
DESCRIPTION:Predmeti: Moderna fizika (APF-3)\nLetniki: 3. letnik (Aplikati
 vna fizika)\nIzvajalci: Katja Gosar\nProstori: F6
LOCATION:F6
ORGANIZER:Katja Gosar
X-WR-TIMEZONE:Europe/Ljubljana
END:VEVENT
BEGIN:VEVENT
SUMMARY:Rezervacija
DTSTART;TZID=Europe/Ljubljana:20240212T090000
DTEND;TZID=Europe/Ljubljana:20240212T110000
DTSTAMP:20260421T205921Z
UID:fmf-AFLABS-URNIK:rezervacija:13983
ATTENDEE:3. letnik (Aplikativna fizika)
CATEGORIES:Reservation
COLOR:royalblue
DESCRIPTION:Predmeti: Moderna fizika (APF-3)\nLetniki: 3. letnik (Aplikati
 vna fizika)\nIzvajalci: Katja Gosar\nProstori: F6
LOCATION:F6
ORGANIZER:Katja Gosar
X-WR-TIMEZONE:Europe/Ljubljana
END:VEVENT
END:VCALENDAR
